BEGIN:VCALENDAR
VERSION:2.0
PRODID:-//StrefaMMA.pl - Portal sportów walki - ECPv5.16.3.1//NONSGML v1.0//EN
CALSCALE:GREGORIAN
METHOD:PUBLISH
X-WR-CALNAME:StrefaMMA.pl - Portal sportów walki
X-ORIGINAL-URL:https://strefamma.pl
X-WR-CALDESC:Wydarzenia dla StrefaMMA.pl - Portal sportów walki
REFRESH-INTERVAL;VALUE=DURATION:PT1H
X-Robots-Tag:noindex
X-PUBLISHED-TTL:PT1H
BEGIN:VTIMEZONE
TZID:Europe/Warsaw
BEGIN:DAYLIGHT
TZOFFSETFROM:+0100
TZOFFSETTO:+0200
TZNAME:CEST
DTSTART:20230326T010000
END:DAYLIGHT
BEGIN:STANDARD
TZOFFSETFROM:+0200
TZOFFSETTO:+0100
TZNAME:CET
DTSTART:20231029T010000
END:STANDARD
END:VTIMEZONE
BEGIN:VEVENT
DTSTART;TZID=Europe/Warsaw:20230902T180000
DTEND;TZID=Europe/Warsaw:20230903T010000
DTSTAMP:20260421T130657
CREATED:20230807T120025Z
LAST-MODIFIED:20230807T120150Z
UID:77438-1693677600-1693702800@strefamma.pl
SUMMARY:UFC Paris: Gane vs Spivac
DESCRIPTION:Niemal równo rok po premierowej gali UFC we Francji\, federacja wraca do Paryża. Event w Accor Arenie zamknie potyczka w wadze ciężkiej. \nW main evencie ponownie wystąpi Ciryl Gane. „Bon Gamin” przed własną publicznością pojawi się w niemal identycznej sytuacji\, co rok temu. Wówczas był po pierwszej zawodowej porażce\, którą zaserwował mu Francis Ngannou. Po tym właśnie w Paryżu Gane znokautował Taia Tuivasę. Tym razem jego przeciwnikiem będzie mołdawski „Niedźwiedź Polarny”\, Serghei Spivac. \nKursy bukmacherskie na UFC Paryż: Gane vs Spivac\n  \nWszystkie walki UFC Paris: Gane vs Spivac obstawić możecie u bukmachera eFortuna.pl. Grając jakikolwiek zakład za dowolną stawkę otrzymujecie też dostęp do Fortuna TV\, gdzie możecie obejrzeć galę na żywo! \nJeśli jeszcze nie posiadacie konta\, możecie skorzystać z kapitalnej oferty powitalnej. Nowi gracze otrzymają 20 zł za rejestrację i dodatkowe 10 zł do pierwszego depozytu. Co więcej trzy pierwsze zakłady do 100 zł\, 200 zł i 300 zł obstawicie bez ryzyka! W przypadku przegranej Fortuna zwróci stawkę na konto gracza. \n-> Odbierz bonusy na UFC Paryż!\n  \n \nUFC Paris: Gane vs Spivac – Karta walk\n\nCiryl Gane (11-2-0) vs Serghei Spivak (16-3-0)\n\nKarta główna: \n\nManon Fiorot (10-1-0) vs Rose Namajunas (11-5-0)\nVolkan Oezdemir (18-7-0) vs Azamat Murzakanov (13-0-0)\nNora Cornolle (6-1-0) vs Joselyne Edwards (13-4-0)\nWilliam Gomis (12-2-0) vs Lucas Almeida (14-2-0)\nAnge Loosa (9-3-0) vs Rhys McKee (13-4-1)\nBenoit Saint-Denis (11-1-0) vs Thiago Moisés (17-6-0)\nYanis Ghemmouri (12-1-0) vs Caolan Loughran (8-0-0)\nNasrat Haqparast (14-5-0) vs Sam Patterson (10-2-1)\nTaylor Lapilus (18-3-0) vs Muin Gafurov (18-5-0)\nMorgan Charriere (18-9-1) vs Manolo Zecchini (11-3-0)\n\nOstatnia zmiana: 07.08.2023 r
URL:https://strefamma.pl/event/ufc-paris-gane-vs-spivac/
LOCATION:Accor Arena\, Paris\, France
ATTACH;FMTTYPE=image/jpeg:https://strefamma.pl/wp-content/uploads/2023/08/UFC-Paris-Gane-vs-Spivac.jpg
END:VEVENT
BEGIN:VEVENT
DTSTART;TZID=Europe/Warsaw:20230902T190000
DTEND;TZID=Europe/Warsaw:20230903T010000
DTSTAMP:20260421T130657
CREATED:20230731T091318Z
LAST-MODIFIED:20230803T073858Z
UID:76757-1693681200-1693702800@strefamma.pl
SUMMARY:FAME 19: Tańcula vs Ferrari
DESCRIPTION:Organizacja Fame MMA powraca do Krakowa\, gdzie zorganizuje swoją 19. galę. Oprócz hitowych zestawień nie zabraknie też głośnego i zaskakującego debiutu. \n-> Oglądaj FAME 19 na żywo\nTauron Arena ponownie będzie miała przyjemność być gospodarzem gali FAME. W mieszanych sztukach walki miał zadebiutować Krzysztof „Diablo” Włodarczyk\, który jednak wycofał się z walki z Arkadiuszem Tańculą. Nowym oponentem „Aroya” został Amadeusz Ferrari Roślik. \nNa FAME 19 do oktagonu wróci jeden z najpopularniejszych streamerów\, „Xayoo”\, który zmierzy się z „Franiem”. Kibice otrzymają też sporą dawkę emocji w wielkim rewanżu: Marcin Wrzosek zmierzy się z Piotrem Szeligą! \nFAME 19 – Kursy bukmacherskie\nGalę FAME 18 obstawisz wyłącznie u legalnego bukmachera BetClic! Jeśli nie masz jeszcze konta\, możesz odebrać swój BONUS! Dla nowych użytkowników przygotowano specjalną ofertę powitalną. Możesz postawić pierwszy zakład do 200 zł bez ryzyka! Jeśli Twoje typy będą dobre\, zgarniasz wysoką wygraną. Jeśli kupon okaże się on przegrany – otrzymasz ZWROT! \n \nKarta walk FAME MMA 19\nWalka wieczoru: \n\nArkadiusz Tańcula – Amadeusz „Ferrari” Roślik\n\nCo-main event 1: \n\nMarcin „Xayoo” Majkut – Franciszek „Franio” Rusiecki – walka w K-1\n\nCo-main event 2: \n\nAlberto Simao vs Paweł „Księżniczka” Tyburski – walka w K-1\n\nKarta główna: \n\nKuba Nowaczkiewicz – Robert Karaś – walka w boksie\nSebastian Fabijański – Filip „Filipek” Marcinek – walka w K-1\nPiotr Tyburski – Tomasz „Zadyma” Gromadzki\nMarcin Wrzosek – Piotr Szeliga – walka w K-1\nPrzemysław Szyszka – Norbert Daszkiewicz\n\nKarta wstępna: \n\nKlaudia „Sheya” Kołodziejczyk – Dominika Rybak\nNatan Marcoń – Mariusz „Hejter” Słoński – walka w K-1\n\nOstatnia zmiana: 03.08.2023 r
URL:https://strefamma.pl/event/fame-19/
LOCATION:Kraków\, Tauron Arena
ATTACH;FMTTYPE=image/jpeg:https://strefamma.pl/wp-content/uploads/2023/07/FAME-19-Tancula-vs-Ferrari.jpg
END:VEVENT
END:VCALENDAR