BEGIN:VCALENDAR
VERSION:2.0
PRODID:-//StrefaMMA.pl - Portal sportów walki - ECPv5.16.3.1//NONSGML v1.0//EN
CALSCALE:GREGORIAN
METHOD:PUBLISH
X-ORIGINAL-URL:https://strefamma.pl
X-WR-CALDESC:Wydarzenia dla StrefaMMA.pl - Portal sportów walki
REFRESH-INTERVAL;VALUE=DURATION:PT1H
X-Robots-Tag:noindex
X-PUBLISHED-TTL:PT1H
BEGIN:VTIMEZONE
TZID:Europe/Warsaw
BEGIN:DAYLIGHT
TZOFFSETFROM:+0100
TZOFFSETTO:+0200
TZNAME:CEST
DTSTART:20230326T010000
END:DAYLIGHT
BEGIN:STANDARD
TZOFFSETFROM:+0200
TZOFFSETTO:+0100
TZNAME:CET
DTSTART:20231029T010000
END:STANDARD
END:VTIMEZONE
BEGIN:VEVENT
DTSTART;TZID=Europe/Warsaw:20230809T010000
DTEND;TZID=Europe/Warsaw:20230809T080000
DTSTAMP:20260421T210348
CREATED:20230807T083049Z
LAST-MODIFIED:20230807T104350Z
UID:77399-1691542800-1691568000@strefamma.pl
SUMMARY:Dana White's Contender Series 2023: Week 1
DESCRIPTION:W nocy z 8 na 9 sierpnia rozpocznie się kolejny sezon Dana White’s Contender Series. W pierwszym odcinku pojawi się Polak\, Kevin Szaflarski! \n\nFighter wagi ciężkiej może się pochwalić świetnym rekordem 11-1. Jedyną porażkę odniósł w debiucie po kontuzji\, ale od tego czasu pozostaje niepokonany. Szaflarski prezentował pełen wachlarz umiejętności\, zarówno poddając rywali\, jak i kończąc ich ciosami. \n\n\n\nKevin o szansę występów w UFC zawalczy z Brazylijczykiem\, Caio Machado. Noszący przydomek „Bigfoot” zawodnik ma niewiele mniejsze doświadczenie od Polaka\, a całą zawodową karierę spędził w kanadyjskiej federacji BFL. Do walki na Dana White’s Contender Series przystąpi po ostatniej obronie pasa mistrzowskiego wagi ciężkiej pracodawcy. \n  \n\n\n\nDWCS 2023 Week 1: Kursy bukmacherskie\n\n\n\nKartę walk Dana White’s Contender Series obstawić możecie u bukmachera eFortuna.pl. Grając jakikolwiek zakład za dowolną stawkę otrzymujecie też dostęp do Fortuna TV! \n\n\n\nJeśli jeszcze nie posiadacie konta\, możecie skorzystać z kapitalnej oferty powitalnej. Nowi gracze otrzymają 20 zł za rejestrację i dodatkowe 10 zł do pierwszego depozytu. Co więcej trzy pierwsze zakłady do 100 zł\, 200 zł i 300 zł obstawicie bez ryzyka! W przypadku przegranej Fortuna zwróci stawkę na konto gracza. \n\n\n\n-> Odbierz bonusy na DWCS!\n  \n\n \n \nDWCS 2023 Week 1: Karta walk\n\nCésar Almeida (3-0-0) vs Lucas Fernando (9-1-0)\nTom Nolan (5-0-0) vs Bogdan Grad (11-1-0)\nCaio Machado (7-1-1) vs Kevin Szaflarski (11-1-0)\nPayton Talbott (5-0-0) vs Reyes Cortez (7-2-0)\nKevin Borjas (8-1-0) vs Victor Dias (11-2-0)\n\nOstatnia zmiana: 07.08.2023 r.
URL:https://strefamma.pl/event/dana-whites-contender-series-2023-week-1/
LOCATION:Las Vegas\, UFC Apex
ATTACH;FMTTYPE=image/jpeg:https://strefamma.pl/wp-content/uploads/2023/08/Dana-Whites-Contender-Series-2023-Week-1.jpg
END:VEVENT
END:VCALENDAR