BEGIN:VCALENDAR
VERSION:2.0
PRODID:-//StrefaMMA.pl - Portal sportów walki - ECPv5.16.3.1//NONSGML v1.0//EN
CALSCALE:GREGORIAN
METHOD:PUBLISH
X-ORIGINAL-URL:https://strefamma.pl
X-WR-CALDESC:Wydarzenia dla StrefaMMA.pl - Portal sportów walki
REFRESH-INTERVAL;VALUE=DURATION:PT1H
X-Robots-Tag:noindex
X-PUBLISHED-TTL:PT1H
BEGIN:VTIMEZONE
TZID:Europe/Warsaw
BEGIN:DAYLIGHT
TZOFFSETFROM:+0100
TZOFFSETTO:+0200
TZNAME:CEST
DTSTART:20230326T010000
END:DAYLIGHT
BEGIN:STANDARD
TZOFFSETFROM:+0200
TZOFFSETTO:+0100
TZNAME:CET
DTSTART:20231029T010000
END:STANDARD
END:VTIMEZONE
BEGIN:VEVENT
DTSTART;TZID=Europe/Warsaw:20230722T180000
DTEND;TZID=Europe/Warsaw:20230723T030000
DTSTAMP:20260421T212319
CREATED:20230710T115755Z
LAST-MODIFIED:20230718T125039Z
UID:75323-1690048800-1690081200@strefamma.pl
SUMMARY:UFC Londyn: Aspinall vs Tybura
DESCRIPTION:Już 22 lipca UFC raz jeszcze zawita do Londynu! W O2 Arenie dojdzie do hitowego starcia w wadze ciężkiej. Marcin Tybura podejmie Toma Aspinalla. \n\n\n\n-> Graj i oglądaj UFC Londyn za darmo! \n\n\n\nPolski ciężki ostatni pojedynek stoczył w lutym\, gdy pewną\, jednogłośną decyzją sędziów pokonał Blagoya Ivanova. UFC nie chciało po raz kolejny zestawić „Tybura” z Jairzinho Rozenstruikiem\, a zainteresowanie starcie z Marcinem wyraził angielski zawodnik Tom Aspinall. \n\n\n\nNieźle mówiący po polsku Brytyjczyk znakomicie radził sobie w pierwszych 5. walkach dla federacji\, każdego z rywali poddając lub nokautując. W 2022 roku właśnie na gali w Londynie zmierzył się z Curtisem Blaydesem\, ale ta walka nie potrwała zbyt długo. Już po 15. sekundach Aspinall przegrał w wyniku kontuzji kolana. Jego notowania wciąż stoją bardzo wysoko\, a ewentualne zwycięstwo na pewno podniesie pozycję Marcina Tybury! \n\nUFC: Aspinall vs Tybura – Kursy bukmacherskie\n\nCałą kartę walk obstawić możecie u bukmachera eFortuna.pl. Co więcej\, grając dowolny zakład przed galą otrzymacie dostęp do transmisji na żywo UFC Londyn: Aspinall vs Tybura! \n\n\n\nCo więcej\, nowi użytkownicy liczyć mogą na specjalną ofertę powitalną. Za rejestrację na konto wpłynie darmowe 20 zł\, a dodatkowe 10 zł dodane zostanie do pierwszego depozytu. Co więcej trzy pierwsze zakłady do 100 zł\, 200 zł i 300 zł obstawicie bez ryzyka! W przypadku przegranej Fortuna zwróci stawkę na konto gracza. \n\n\n\n-> Odbierz bonusy na UFC Londyn!\n \nUFC Londyn: Aspinall vs Tybura – Karta walk\nWalka wieczoru: \n\nTom Aspinall (12-3-0) vs Marcin Tybura (24-7-0)\n\nCo-main event: \n\nMolly McCann (13-5-0) vs Julija Stoliarenko (10-7-1)\n\nKarta główna: \n\nNathaniel Wood (19-5-0) vs Andre Fili (22-9-0)\nAndré Muniz (23-5-0) vs Paul Craig (16-6-1)\nJai Herbert (12-4-1) vs Fares Ziam (13-4-0)\nLerone Murphy (12-0-1) vs Joshua Culibao (11-1-1)\n\nKarta wstępna: \n\nDavey Grant (13-6-0) vs Daniel Marcos (14-0-0)\nDanny Roberts (18-7-0) vs Jonny Parsons (8-3-0)\nMarc Diakiese (16-6-0) vs Joel Alvarez (19-3-0)\nMichael Parkin (6-0-0) vs Jamal Pogues (10-3-0)\nBryan Barberena (18-10-0) vs Makhmud Muradov (25-8-0)\nKetlen Vieira (13-3-0) vs Pannie Kianzad (16-6-0)\nChris Duncan (10-1-0) vs Yanal Ashmouz (7-0-0)\nBruna Brasil (8-3-1) vs Shauna Bannon (5-0-0)\nJafel Filho (14-3-0) vs Daniel Barez (16-5-0)\n\nOstatnia zmiana: 18.07.2023 r.
URL:https://strefamma.pl/event/ufc-londyn-aspinall-vs-tybura/
LOCATION:O2 Arena\, Českomoravská 2345/17\, Praga\, 190 00\, Czech Republic
ATTACH;FMTTYPE=image/jpeg:https://strefamma.pl/wp-content/uploads/2023/07/UFC-Aspinall-vs-Tybura.jpg
END:VEVENT
END:VCALENDAR