BEGIN:VCALENDAR
VERSION:2.0
PRODID:-//StrefaMMA.pl - Portal sportów walki - ECPv5.16.3.1//NONSGML v1.0//EN
CALSCALE:GREGORIAN
METHOD:PUBLISH
X-ORIGINAL-URL:https://strefamma.pl
X-WR-CALDESC:Wydarzenia dla StrefaMMA.pl - Portal sportów walki
REFRESH-INTERVAL;VALUE=DURATION:PT1H
X-Robots-Tag:noindex
X-PUBLISHED-TTL:PT1H
BEGIN:VTIMEZONE
TZID:Europe/Warsaw
BEGIN:DAYLIGHT
TZOFFSETFROM:+0100
TZOFFSETTO:+0200
TZNAME:CEST
DTSTART:20230326T010000
END:DAYLIGHT
BEGIN:STANDARD
TZOFFSETFROM:+0200
TZOFFSETTO:+0100
TZNAME:CET
DTSTART:20231029T010000
END:STANDARD
END:VTIMEZONE
BEGIN:VEVENT
DTSTART;TZID=Europe/Warsaw:20230708T220000
DTEND;TZID=Europe/Warsaw:20230709T080000
DTSTAMP:20260421T224139
CREATED:20230612T111419Z
LAST-MODIFIED:20230708T095629Z
UID:73408-1688853600-1688889600@strefamma.pl
SUMMARY:UFC 290: Volkanovski vs Rodriguez
DESCRIPTION:Gala UFC 290 będzie kolejnym wielkim świętem światowego MMA. International Fight Week zakończy się hitowym wydarzeniem z dwoma walkami mistrzowskimi. \nUFC ponownie organizuje wielką galę w Las Vegas\, gdzie nie zabraknie potężnej dawki emocji. W karcie walk znalazły się fenomenalne zestawienia\, a wszystko zakończy kolejna obrona pasa wagi piórkowej Alexandra Volkanovskiego. Australijczyk po nieudanej próbie sięgnięcia po tytuł kategorii lekkiej zmierzy się z tymczasowym championem\, Yairem Rodriguezem. \nPrzed nimi zaś do klatki wyjdą Brandon Moreno i Alexandre Pantoja. Meksykanin zakończył długą rywalizację z Deivesonem Figueiredo i spotka się z kolejnym pretendentem. 33-letni Brazylijczyk jest na fali 3. kolejnych zwycięstw\, ale dużym faworytem jest jednak „The Baby Assasin”. \nPrzed ogromną szansą w karierze stanie były mistrz KSW Dricus Du Plessis. Afrykaner głośno domagał się walki o pas wagi średniej\, ale nim to nastąpi musi pokonać byłego championa. Na UFC 290 „Stillknocks” spotka się w eliminatorze z Robertem Whittakerem. \nUFC 290 – Kursy bukmacherskie\nGalę UFC 290 w całości obstawicie i obejrzycie na żywo u bukmachera eFortuna.pl! Już na sam początek otrzymacie specjalny BONUS w postaci darmowych 20 zł i dodatkowe 10 zł do pierwszego depozytu. Ponadto trzy pierwsze zakłady na łączną stawkę 600 zł obstawicie BEZ RYZYKA! \nWartość pierwszego to 100 zł\, które Fortuna zwróci na konto w przypadku przegranego kuponu. Stawka kolejnego to 200 zł\, a ostatniego to 300 zł\, które zostaną zwrócone w przypadku porażki. \n-> Graj z Fortuną i oglądaj UFC na żywo!\n \nUFC 290 – Karta walk\nWalka wieczoru: \n\nAlexander Volkanovski (25-2-0) vs Yair Rodriguez (15-3-0) – walka o pas mistrzowski wagi piórkowej\n\nCo-main event: \n\nBrandon Moreno (21-6-2) vs Alexandre Pantoja (25-5-0) – walka o pas mistrzowski wagi muszej\n\nKarta główna: \n\nRobert Whittaker (24-6-0) vs Dricus Du Plessis (19-2-0)\nDan Hooker (22-12-0) vs Jalin Turner (13-6-0)\nBo Nickal (4-0-0) vs Val Woodburn (7-0-0)\n\nKarta wstępna: \n\nRobbie Lawler (29-16-0) vs Niko Price (15-6-0)\nTatsuro Taira (13-0-0) vs Edgar Chavez (10-4-0)\nYazmin Jauregui (10-0-0) vs Denise Gomes (7-2-0)\nJimmy Crute (12-3-1) vs Alonzo Menifield (13-3-1)\n\nKarta przedwstępna: \n\nVitor Petrino (8-0-0) vs Marcin Prachnio (16-6-0)\nCameron Saaiman (8-0-0) vs Terrence Mitchell (15-2-0)\nShannon Ross (13-7-0) vs Jesus Aguilar (8-2-0)\nKamuela Kirk (11-5-0) vs Esteban Ribovics (11-1-0)\n\nOstatnia zmiana 08.07.2023 r.
URL:https://strefamma.pl/event/ufc-290-volkanovski-vs-rodriguez-2/
LOCATION:T-Mobile Arena\, 3780 Las Vegas Blvd S\, Las Vegas\, 89158\, United States
ATTACH;FMTTYPE=image/jpeg:https://strefamma.pl/wp-content/uploads/2023/06/UFC-290-Volkanovski-vs-Rodriguez-1.jpg
END:VEVENT
END:VCALENDAR