BEGIN:VCALENDAR
VERSION:2.0
PRODID:-//StrefaMMA.pl - Portal sportów walki - ECPv5.16.3.1//NONSGML v1.0//EN
CALSCALE:GREGORIAN
METHOD:PUBLISH
X-WR-CALNAME:StrefaMMA.pl - Portal sportów walki
X-ORIGINAL-URL:https://strefamma.pl
X-WR-CALDESC:Wydarzenia dla StrefaMMA.pl - Portal sportów walki
REFRESH-INTERVAL;VALUE=DURATION:PT1H
X-Robots-Tag:noindex
X-PUBLISHED-TTL:PT1H
BEGIN:VTIMEZONE
TZID:Europe/Warsaw
BEGIN:DAYLIGHT
TZOFFSETFROM:+0100
TZOFFSETTO:+0200
TZNAME:CEST
DTSTART:20230326T010000
END:DAYLIGHT
BEGIN:STANDARD
TZOFFSETFROM:+0200
TZOFFSETTO:+0100
TZNAME:CET
DTSTART:20231029T010000
END:STANDARD
END:VTIMEZONE
BEGIN:VEVENT
DTSTART;TZID=Europe/Warsaw:20230617T220000
DTEND;TZID=Europe/Warsaw:20230618T083000
DTSTAMP:20260421T235017
CREATED:20230604T081328Z
LAST-MODIFIED:20230604T091001Z
UID:72969-1687039200-1687077000@strefamma.pl
SUMMARY:UFC Vegas 75: Vettori vs Cannonier
DESCRIPTION:Kolejna gala UFC w kompleksie Apex odbędzie się już w sobotę 18 czerwca. W walce wieczoru zmierzą się byli pretendenci do tytułu wagi średniej. \nZarówno Marvin Vettori i Jared Cannonier nie zdołali zdetronizować Israela Adesanyi. „The Italian Dream” mierzył się z Nigeryjczykiem jeszcze w 2018 roku\, gdzie przegrał niejednogłośną decyzją. Kilka lat później dał się kompletnie zdominować championowi i przegrał jednogłośnym werdyktem. \n„The Killa Gorilla” również przewalczył pełne 25 minut z Adesanyą. Pewne zwycięstwo Nigeryjczyka spotkało się jednak z ogromną falą krytyki kibiców. Jared Cannonier zdołał się odbić po tej porażce pokonując niejednogłośną decyzja Seana Stricklanda. \nUFC Vegas 75: Kursy bukmacherskie\nGalę UFC Vegas 75 w całości obstawicie i obejrzycie na żywo u bukmachera eFortuna.pl! Już na sam początek otrzymacie specjalny BONUS w postaci darmowych 20 zł i dodatkowe 10 zł do pierwszego depozytu. Ponadto trzy pierwsze zakłady\, kolejno za 100\, 200 i 300 zł\, obstawicie BEZ RYZYKA! \n-> Graj z Fortuną i oglądaj UFC na żywo! \n \nUFC Vegas 75 – Karta walk\nWalka wieczoru: \n\nMarvin Vettori (19-5-1) vs Jared Cannonier (16-6-0)\n\nCo-main event: \n\nArman Tsarukyan (19-3-0) vs Joaquim Silva (12-3-0)\n\nKarta główna: \n\nMuslim Salikhov (19-3-0) vs Nicolas Dalby (21-4-1)\nNikolas Motta (13-4-0) vs Manuel Torres (13-2-0)\nChristian Leroy Duncan (8-0-0) vs Armen Petrosyan (7-2-0)\nPat Sabatini (17-4-0) vs Lucas Almeida (14-1-0)\nJimmy Flick (16-6-0) vs Alessandro Costa (12-3-0)\nTereza Bledá (6-1-0) vs Gabriella Fernandes (8-2-0)\nModestas Bukauskas (14-5-0) vs Zac Pauga (6-1-0)\nRaoni Barcelos (17-4-0) vs Miles Johns (13-2-0)\nCarlos Hernandez (8-2-0) vs Denys Bondar (16-4-0)\nRonnie Lawrence (8-2-0) vs Daniel Argueta (9-1-0)\nKyung Ho Kang (18-9-0) vs Cristian Quiñonez (18-3-0)\nFelipe Bunes (13-6-0) vs Zhalgas Zhumagulov (14-8-0)\n\nOstatnia aktualizacja: 04.06.2023 r
URL:https://strefamma.pl/event/ufc-vegas-75-vettori-vs-cannonier/
LOCATION:Las Vegas\, UFC Apex
ATTACH;FMTTYPE=image/jpeg:https://strefamma.pl/wp-content/uploads/2023/06/UFC-Vegas-86-Vettori-vs-Cannonier.jpg
END:VEVENT
END:VCALENDAR