BEGIN:VCALENDAR
VERSION:2.0
PRODID:-//StrefaMMA.pl - Portal sportów walki - ECPv5.16.3.1//NONSGML v1.0//EN
CALSCALE:GREGORIAN
METHOD:PUBLISH
X-WR-CALNAME:StrefaMMA.pl - Portal sportów walki
X-ORIGINAL-URL:https://strefamma.pl
X-WR-CALDESC:Wydarzenia dla StrefaMMA.pl - Portal sportów walki
REFRESH-INTERVAL;VALUE=DURATION:PT1H
X-Robots-Tag:noindex
X-PUBLISHED-TTL:PT1H
BEGIN:VTIMEZONE
TZID:Europe/Warsaw
BEGIN:DAYLIGHT
TZOFFSETFROM:+0100
TZOFFSETTO:+0200
TZNAME:CEST
DTSTART:20230326T010000
END:DAYLIGHT
BEGIN:STANDARD
TZOFFSETFROM:+0200
TZOFFSETTO:+0100
TZNAME:CET
DTSTART:20231029T010000
END:STANDARD
END:VTIMEZONE
BEGIN:VEVENT
DTSTART;TZID=Europe/Warsaw:20230603T190000
DTEND;TZID=Europe/Warsaw:20230603T233000
DTSTAMP:20260421T235057
CREATED:20230321T080902Z
LAST-MODIFIED:20230603T102356Z
UID:68032-1685818800-1685835000@strefamma.pl
SUMMARY:XTB KSW Colosseum 2
DESCRIPTION:Największa polska organizacja MMA wraca na PGE Narodowy! KSW Colosseum 2 uświetnią same największe gwiazdy\, a wydarzenie będzie miało miejsce już 3 czerwca. \nPodobnie jak przed trzema laty w main evencie gali na Narodowym zawalczy Mamed Khalidov. Były mistrz organizacji był pierwszym ogłoszonym wojownikiem\, który pojawi się w Warszawie. Tego czerwcowego wieczoru dojdzie do jego trylogii ze Scottem Askhamem. \nW wadze ciężkiej Mariusz Pudzianowski zmierzy się z Arturem Szpilką. Panowie od dawna zaczepiali się na social mediach\, a pojedynek tego kalibru nie mógł mieć miejsca na innej arenie. Na KSW Colosseum 2 odbędzie się też superfight o pas kategorii lekkiej. Marian Ziółkowski stanie do kolejnej obrony przeciwko tymczasowemu mistrzowi\, Salahdine’owi Parnasse’owi. \nXTB KSW Colosseum 2: Gdzie oglądać? Transmisja na żywo\nWszystkie gale organizacji KSW\, w tym hitowe wydarzenie na Stadionie  Narodowym\, obejrzysz wyłącznie na platformie Viaplay. Serwis oferuje dostęp nie tylko do wydarzenia na żywo ale również możliwość odtworzenia poprzednich eventów. \nMiesięczny koszt subskrypcji to 55 zł. W tej cenie poza galami KSW otrzymamy również inne wydarzenia sportowe\, w tym angielską Premier League czy też dostęp do wielu filmów i seriali. \n-> WYKUP DOSTĘP JUŻ TERAZ!\nKursy bukmacherskie na XTB KSW Colosseum 2\nGalę KSW Colosseum 2 w całości obstawicie u bukmachera eFortuna.pl! Już na sam początek otrzymacie specjalny BONUS w postaci darmowych 20 zł i dodatkowe 10 zł do pierwszego depozytu. Ponadto trzy pierwsze zakłady obstawicie BEZ RYZYKA! \nZasady wykorzystania są banalnie proste. Jeżeli pierwszy kupon będzie zwycięski: gratulacje\, otrzymujesz wygraną. Jeśli zaś przegrasz\, Fortuna zwróci Ci wkład do 100 zł na konto gracza. Kolejny zakład bez ryzyka to kwota do 200 zł\, a ostatni to aż 300 zł\, które Fortuna zwróci\, jeśli również okaże się nietrafiony! \n-> Gram z Fortuną! Odbieram bonus\n \nKSW Colosseum 2: Karta walk\nWalka wierczoru: \n\n83\,9 kg/185 lb: Mamed Khalidov #3 (36-8-2\, 16 KO\, 16 Sub) vs Scott Askham (19-5\, 12 KO\, 2 Sub)\n\nKarta główna: \n\n70\,3 kg/155 lb: Marian Ziółkowski #C (25-8-1 1NC\, 6 KO\, 13 Sub) vs Salahdine Parnasse (17-1\, 2 KO\, 7 Sub) – walka o pas wagi lekkiej KSW\n120\,2 kg/265 lb: Mariusz Pudzianowski #6 (17-8 1NC\, 12 KO) vs Artur Szpilka (2-0\, 2 KO)\n83\,9 kg/185 lb: Paweł Pawlak #1 (21-4-1 10 KO\, 3 Sub) vs. Tomasz Romanowski #2 (18-8 1NC\, 7 KO\, 1 Sub) – walka o pas wagi średniej KSW\n120\,2 kg/265 lb: Arkadiusz Wrzosek (2-0\, 1 KO) vs Bogdan Stoica (0-0)\n83\,9 kg/185 lb: Michał Materla #5 (32-9\, 12 KO\, 13 Sub) vs Radosław Paczuski #7 (5-1\, 4 KO)\n70\,3 kg/155 lb: Roman Szymański #2 (17-6\, 4 KO\, 4 Sub) vs Valeriu Mircea #3 (28-8-1\, 12 KO\, 12 Sub)\n65\,8 kg/145 lb: Daniel Rutkowski #2 (15-3 1NC\, 7 KO\, 1 Sub) vs Adam Soldaev #6 (7-1\, 4 KO\, 1 Sub)\n70\,3 kg/155 lb: Maciej Kazieczko #6 (9-2\, 6 KO) vs Leo Brichta (10-3 1NC\, 5 KO\, 4 Sub)\n120\,2 kg/265 lb: Krzysztof Głowacki (0-0) vs. Patryk Tołkaczewski (0-0)\n74 kg/163 lb: Sebastian Romanowski (14-10-1) vs Mariusz Joniak (10-4-00\n\nOstatnia zmiana: 03.06.2023 r.
URL:https://strefamma.pl/event/xtb-ksw-colosseum-2/
LOCATION:PGE Narodowy\, al. Księcia Józefa Poniatowskiego 1\, Warszawa\, Mazowieckie\, 03-901\, Poland
ATTACH;FMTTYPE=image/jpeg:https://strefamma.pl/wp-content/uploads/2023/03/KSW-Colosseum-2-PLAKAT.jpg
END:VEVENT
BEGIN:VEVENT
DTSTART;TZID=Europe/Warsaw:20230603T210000
DTEND;TZID=Europe/Warsaw:20230604T060000
DTSTAMP:20260421T235057
CREATED:20230511T111416Z
LAST-MODIFIED:20230511T111416Z
UID:71303-1685826000-1685858400@strefamma.pl
SUMMARY:UFC Vegas 74: Kara-France vs Albazi
DESCRIPTION:Kolejna gala UFC również odbędzie się w kompleksie Apex. Na UFC Vegas 74 kibice zobaczą main event w wadze muszej oraz powrót żywej legendy\, Jima Millera. \nKai Kara-France wraca po przegranej przez TKO w 3. rundzie i nieudanej próbie sięgnięcia po tymczasowe mistrzostwo kategorii muszej. Nowozelandczyk wciąż jest topowym fighterem UFC i po 10. walkach ma w organizacji rekord 7-3. \nJego rywalem będzie iracki „Książę”\, Amir Albazi. Niespełna 30-letni fighter otrzymuje ogromną szansę w już 5. pojedynku dla federacji\, gdzie aż trzech oponentów kończył przed czasem. \nUFC Vegas 74: Kursy bukmacherskie\nGalę UFC Vegas 74 w całości obstawicie i obejrzycie na żywo u bukmachera eFortuna.pl! Już na sam początek otrzymacie specjalny BONUS w postaci darmowych 20 zł i dodatkowe 10 zł do pierwszego depozytu. Ponadto trzy pierwsze zakłady\, kolejno za 100\, 200 i 300 zł\, obstawicie BEZ RYZYKA! \n-> Gram z Fortuną! Odbieram bonus\n \nUFC Vegas 74 – Karta walk\nWalka wieczoru: \n\nKai Kara-France (24-10-0) vs Amir Albazi (16-1-0)\n\nCo-main event: \n\nAlex Caceres (20-13-0) vs Daniel Pineda (28-14-0)\n\nPotwierdzone walki: \n\nJim Miller (35-17-0) vs Ľudovít Klein (19-4-1)\nTim Elliott (18-12-1) vs Victor Altamirano (12-2-0)\nGuram Kutateladze (12-3-0) vs Jamie Mullarkey (16-5-0)\nJinh Yu Frey (11-8-0) vs Elise Reed (6-3-0)\nLuan Lacerda (12-2-0) vs Da’Mon Blackshear (12-5-1)\nJohn Castañeda (19-6-0) vs Mateus Mendonça (10-1-0)\nElizeu Zaleski (23-7-0) vs Abubakar Nurmagomedov (17-3-1)\nMaxim Grishin (32-9-2) vs Philipe Lins (16-5-0)\nKarine Silva (15-4-0) vs Ketlen Souza (13-3-0)\nAndrei Arlovski (34-21-0) vs Don’Tale Mayes (9-5-0)\nDaniel Santos (10-2-0) vs Johnny Munoz Jr. (12-2-0)\n\nOstatnia zmiana 11.05.2023 r
URL:https://strefamma.pl/event/ufc-vegas-74-kara-france-vs-albazi/
LOCATION:Las Vegas\, UFC Apex
ATTACH;FMTTYPE=image/jpeg:https://strefamma.pl/wp-content/uploads/2023/05/UFC-Vegas-74-Kara-France-vs-Albazi.jpg
END:VEVENT
END:VCALENDAR