BEGIN:VCALENDAR
VERSION:2.0
PRODID:-//StrefaMMA.pl - Portal sportów walki - ECPv5.16.3.1//NONSGML v1.0//EN
CALSCALE:GREGORIAN
METHOD:PUBLISH
X-ORIGINAL-URL:https://strefamma.pl
X-WR-CALDESC:Wydarzenia dla StrefaMMA.pl - Portal sportów walki
REFRESH-INTERVAL;VALUE=DURATION:PT1H
X-Robots-Tag:noindex
X-PUBLISHED-TTL:PT1H
BEGIN:VTIMEZONE
TZID:Europe/Warsaw
BEGIN:DAYLIGHT
TZOFFSETFROM:+0100
TZOFFSETTO:+0200
TZNAME:CEST
DTSTART:20230326T010000
END:DAYLIGHT
BEGIN:STANDARD
TZOFFSETFROM:+0200
TZOFFSETTO:+0100
TZNAME:CET
DTSTART:20231029T010000
END:STANDARD
END:VTIMEZONE
BEGIN:VEVENT
DTSTART;TZID=Europe/Warsaw:20230526T190000
DTEND;TZID=Europe/Warsaw:20230526T233000
DTSTAMP:20260422T011916
CREATED:20230508T114802Z
LAST-MODIFIED:20230526T073106Z
UID:71135-1685127600-1685143800@strefamma.pl
SUMMARY:GROMDA 13: Don Diego vs Balboa
DESCRIPTION:W ostatni piątek maja GROMDA powróci z największą walką w historii organizacji. W końcu poznamy pierwszego niekwestionowanego mistrza walk na gołe pięści! \nZarówno Mateusz Kubiszyn\, jak i Bartłomiej Domalik pozostają niepokonani po 6. pojedynkach w federacji. „Balboa” zwyciężył już w jednym mistrzowskim pojedynku\, kończąc w 2. rundzie Marka Godbeera. Tym samym sięgnął po pas Baddest Motherf*cker in the game. \n„Don Diego” z kolei uważany jest przez wielu za najlepszego z GROMDZIARZY. Zawodnik pokonywał takich twardych bijoków\, jak \, „Łazar”\, „Maximus”\, czy wreszcie „Tyson”\, którego kończąc zgarnął 100 tysięcy złotych. Mateusz Kubiszyn w półfinale wielkiego finału zwycięzców po wycieńczającej wojnie w 5. rundzie pokonał „Vasyla”. \nGROMDA 13: Transmisja na żywo\nGalę GROMDA 13 z walką Don Diego vs Balboa obejrzeć będzie można wyłącznie w systemie PPV. Cena za dostęp zaczyna się od 34\,99 zł\, ale do wyboru są też rozszerzone pakiety z wieloma dodatkami! \n-> Oglądaj GROMDA 13 NA ŻYWO! \n \nGROMDA 13 – Karta walk\nWalka wieczoru: \n\nMateusz „Don Diego” Kubiszyn vs Bartłomiej „Balboa” Domalik\n\nTurniej GROMDA 13 \n\nArtur „SIENIAW” Sieńko vs „CYGAN”\nJakub „SŁOMKA” Słomka vs „MORELA”\n„SIWOLLO” vs „SZTANGA”\nSerey „BASQUE” Lander vs „BULLET”\n\nSuperfighty \n\nŁukasz „GOAT” Parobiec vs „FRENCH VIKING”\nPaweł „GORILLA” Werszynin vs Piotr „CAPO” Półchłopek\nPaul „PARIS” Bichet vs „WAZYL”\nSebastian „SCARFACE” Skiermański vs Rafał „ŁAZAR” Łazarek\n\nOstatnia zmiana: 26.05.2023 r
URL:https://strefamma.pl/event/gromda-13-don-diego-vs-balboa/
LOCATION:Gromda Fight Club\, Pionki\, Mazowieckie\, Poland
ATTACH;FMTTYPE=image/jpeg:https://strefamma.pl/wp-content/uploads/2023/05/GROMDA-13-Don-Diego-vs-Balboa.jpg
END:VEVENT
END:VCALENDAR