BEGIN:VCALENDAR
VERSION:2.0
PRODID:-//StrefaMMA.pl - Portal sportów walki - ECPv5.16.3.1//NONSGML v1.0//EN
CALSCALE:GREGORIAN
METHOD:PUBLISH
X-WR-CALNAME:StrefaMMA.pl - Portal sportów walki
X-ORIGINAL-URL:https://strefamma.pl
X-WR-CALDESC:Wydarzenia dla StrefaMMA.pl - Portal sportów walki
REFRESH-INTERVAL;VALUE=DURATION:PT1H
X-Robots-Tag:noindex
X-PUBLISHED-TTL:PT1H
BEGIN:VTIMEZONE
TZID:Europe/Warsaw
BEGIN:DAYLIGHT
TZOFFSETFROM:+0100
TZOFFSETTO:+0200
TZNAME:CEST
DTSTART:20230326T010000
END:DAYLIGHT
BEGIN:STANDARD
TZOFFSETFROM:+0200
TZOFFSETTO:+0100
TZNAME:CET
DTSTART:20231029T010000
END:STANDARD
END:VTIMEZONE
BEGIN:VEVENT
DTSTART;TZID=Europe/Warsaw:20230507T000000
DTEND;TZID=Europe/Warsaw:20230507T073000
DTSTAMP:20260422T011551
CREATED:20230416T103305Z
LAST-MODIFIED:20230501T113747Z
UID:69583-1683417600-1683444600@strefamma.pl
SUMMARY:UFC 288: Sterling vs Cejudo
DESCRIPTION:Już w niedzielę 7 maja w Prudential Center dojdzie do powrotu z emerytury jednego z najlepszych zawodników w historii. Henry Cejudo raz jeszcze spróbuje zasiąść na tronie kategorii koguciej UFC! \nPopularny „Triple C” już od dawna przebąkiwał na temat powrotu do oktagonu. Amerykanin sugerował\, że ruszy po pas mistrzowski wagi piórkowej\, jednak jego zapędy szybko gasił Dana White. Ostatecznie Henry Cejudo w powrotnej walce zmierzy się o koronę kategorii koguciej z Aljamainem Sterlingiem. \nNa gali w New Jersey o 25. zwycięstwo w karierze powalczy dawna rywalka Joanny Jędrzejczyk\, Jessica Andrade. Brazylijka zmierzy się z Chinką Yan Xiaonan. \nGdzie oglądać UFC 288?\nGdzie oglądać UFC na żywo? Transmisja za darmo z UFC 288: Sterling vs Cejudo dostępna będzie dla zarejestrowanych użytkowników bukmachera eFortuna.pl. Wystarczy założyć konto i postawić kupon\, by uzyskać dostęp do Fortuna TV! \nKursy bukmacherskie na UFC 288\nGalę UFC 288 w całości obstawicie u bukmachera eFortuna.pl! Już na sam początek otrzymacie specjalny BONUS w postaci darmowych 20 zł i dodatkowe 10 zł do pierwszego depozytu. Ponadto trzy pierwsze zakłady\, kolejno za 100\, 200 i 300 zł\, obstawicie BEZ RYZYKA! \n-> Gram z Fortuną! Odbieram bonus\n \nKarta walk UFC 288: Sterling vs Cejudo\nWalka wieczoru: \n\nAljamain Sterling (22-3-0) vs Henry Cejudo (16-2-0) – o pas mistrzowski kategorii koguciej\n\nCo-main event: \n\nBelal Muhammad (22-3-0) vs Gilbert Burns (22-5-0)\n\nKarta główna: \n\nJéssica Andrade (24-10-0) vs Xiaonan Yan (16-3-0)\nMovsar Evloev (16-0-0 vs Bryce Mitchell (15-1-0)\nKron Gracie (5-1-0) vs Charles Jourdain (13-6-1)\n\nKarta wstępna: \n\nDrew Dober (26-11-0) vs Matt Frevola (10-3-1)\nKennedy Nzechukwu (11-3-0) vs Devin Clark (14-7-0)\nKhaos Williams (13-3-0) vs Rolando Bedoya (14-1-0)\nMarina Rodriguez (16-2-2) vs Virna Jandiroba (18-3-0)\n\nKarta przedwstępna: \n\nParker Porter (13-8-0) vs Braxton Smith (5-1-0)\nIkram Aliskerov (13-1-0) vs Phil Hawes (12-4-0)\nZhalgas Zhumagulov (14-8-0) vs Rafael Estevam (11-0-0)\nJoseph Holmes (8-3-0) vs Claudio Ribeiro (10-3-0)\nDaniel Santos (10-2-0) vs Johnny Munoz Jr. (12-2-0)\n\nOstatnia zmiana: 01.05.2023 r.
URL:https://strefamma.pl/event/ufc-288-sterling-vs-cejudo/
LOCATION:Prudential Center\, 25 Lafayette St\, Newark\, 07102\, United States
ATTACH;FMTTYPE=image/jpeg:https://strefamma.pl/wp-content/uploads/2023/04/UFC-288.jpg
END:VEVENT
END:VCALENDAR