BEGIN:VCALENDAR
VERSION:2.0
PRODID:-//StrefaMMA.pl - Portal sportów walki - ECPv5.16.3.1//NONSGML v1.0//EN
CALSCALE:GREGORIAN
METHOD:PUBLISH
X-WR-CALNAME:StrefaMMA.pl - Portal sportów walki
X-ORIGINAL-URL:https://strefamma.pl
X-WR-CALDESC:Wydarzenia dla StrefaMMA.pl - Portal sportów walki
REFRESH-INTERVAL;VALUE=DURATION:PT1H
X-Robots-Tag:noindex
X-PUBLISHED-TTL:PT1H
BEGIN:VTIMEZONE
TZID:Europe/Warsaw
BEGIN:DAYLIGHT
TZOFFSETFROM:+0100
TZOFFSETTO:+0200
TZNAME:CEST
DTSTART:20230326T010000
END:DAYLIGHT
BEGIN:STANDARD
TZOFFSETFROM:+0200
TZOFFSETTO:+0100
TZNAME:CET
DTSTART:20231029T010000
END:STANDARD
END:VTIMEZONE
BEGIN:VEVENT
DTSTART;TZID=Europe/Warsaw:20230401T180000
DTEND;TZID=Europe/Warsaw:20230401T233000
DTSTAMP:20260422T024215
CREATED:20230310T152226Z
LAST-MODIFIED:20230331T132009Z
UID:67181-1680372000-1680391800@strefamma.pl
SUMMARY:Underground Boxing Night 2
DESCRIPTION:Już 1 kwietnia w sobotę odbędzie się gala Underground Boxing Night 2. Na inspirowanym podziemnymi walkami wydarzeniu pojedynki odbywają się w małej arenie 3×3 metra! \nNa pierwszej gali kibice mogli oglądać zarówno amatorów\, jak i zawodowców nie tylko z Polski. Organizatorzy zareagowali na pozytywny odzew fanów i już 1 kwietnia dojdzie do kolejnego wydarzenia! \nZawodnicy na Underground Boxing Night 2 raz jeszcze mierzyć się będą w kwadratowej arenie 3×3 m\, którą wyznaczają snopki siana. Tym razem w tym nietypowym ringu pojawią się między innymi kibice warszawskiej Legii\, jak i zaprzyjaźnionych ekip. Oprócz 4. ekscytujących extra fightów (3 w boksie\, a 1 w K-1!) odbędzie się też ośmioosobowy turniej. Zwycięzca uda się na obóz pod okiem Andrzeja Fonfary! \nWciąż dostępne są bilety na to wydarzenie\, które nabyć możecie klikając w poniższy link! \n-> Kup bilet na Underground Boxing Nigh 2!\nUnderground Boxing Night 2: Karta walk\nUczestnicy turnieju: \n\nMateusz „Bodzio” Grochowski\nAdam Bylina\nHubert Łąkowski\nArtur Kamiński\nAdam Tutak\nHubert Krasuski\nPiotr „Kliczko” Danielski\nMarcin Majka\n\nExtra fighty: \n\nArtur „Chuligan” Tomala vs Mateusz „Shargi” Szargut\nPatryk Mielniczuk vs Hubert Marcisz\nMarcin Chraniuk vs Dawid Rostek\nMichał Idziak vs Adrian Gała\n\nOstatnia modyfikacja: 31.03.2023 r.
URL:https://strefamma.pl/event/underground-boxing-night-2/
LOCATION:Fort Bema\, Warszawa\, Poland
ATTACH;FMTTYPE=image/png:https://strefamma.pl/wp-content/uploads/2023/03/Underground-Boxing-Night-2.png
END:VEVENT
END:VCALENDAR