BEGIN:VCALENDAR
VERSION:2.0
PRODID:-//StrefaMMA.pl - Portal sportów walki - ECPv5.16.3.1//NONSGML v1.0//EN
CALSCALE:GREGORIAN
METHOD:PUBLISH
X-ORIGINAL-URL:https://strefamma.pl
X-WR-CALDESC:Wydarzenia dla StrefaMMA.pl - Portal sportów walki
REFRESH-INTERVAL;VALUE=DURATION:PT1H
X-Robots-Tag:noindex
X-PUBLISHED-TTL:PT1H
BEGIN:VTIMEZONE
TZID:Europe/Warsaw
BEGIN:DAYLIGHT
TZOFFSETFROM:+0100
TZOFFSETTO:+0200
TZNAME:CEST
DTSTART:20230326T010000
END:DAYLIGHT
BEGIN:STANDARD
TZOFFSETFROM:+0200
TZOFFSETTO:+0100
TZNAME:CET
DTSTART:20231029T010000
END:STANDARD
END:VTIMEZONE
BEGIN:VEVENT
DTSTART;TZID=Europe/Warsaw:20230303T200000
DTEND;TZID=Europe/Warsaw:20230303T233000
DTSTAMP:20260422T055934
CREATED:20230220T144713Z
LAST-MODIFIED:20230303T111710Z
UID:65637-1677873600-1677886200@strefamma.pl
SUMMARY:GROMDA 12
DESCRIPTION:Nadchodzi kolejny krwawy piątek! GROMDA 12 odbędzie się już 3 marca i będzie nawiązywać do lat ’90!\n\nNowy klimat. Znany świat. Tak samo twardzi uliczni wojownicy.\n\nNajlepsza federacja walk na gołe pięści. Czas na krwawy piątek! Brutalne i widowiskowe starcia na gołe pięści uliczny wojowników\, legend dzielnicy oraz mistrzów w swoich dziedzinach! Czas poznać kto jest największym graczem. Kto ma charakter\, jaja ze stali i trochę szczęścia.\n-> OGLĄDAJ GROMDA 12 NA ŻYWO\n\nGROMDA 12: Karta walk\n\nTurniej GROMDA 12 \n \n\n 	Dominik „SUCHY” Suchecki vs. Patryk „ROCKER” Libuszewski\n 	Dustin „TAEDDY” Rabiega vs. Karol „MNICH” Franc\n 	Daniel „BODZIO” Pacyniak vs. Stephan „PROBLEM” Weldon\n 	Christian „POPEYE” Oheim vs. Jarosław „DYNAMIT” Kuśmierski\n\n \nExtra fighty/Ustawka \n \n\n 	Arman „ARMAN” Amiryan vs. Milanko „KALASHNIKOV” Puranovic\n 	Krzysztof „ŻOŁNIERZ” Ryta vs. Jurij „JURIJ” Sinenkov\n 	John „BAD JOHN” Ferguson vs. Sebastian „SCARFACE” Skiermański\n 	Piotr „CAPO” Półchłopek vs. Rob „BIG ROB” Cunningham\n 	Randy „KOFI KING” Randayn vs. Przemysław „REKSIO” Rekowski\n 	Simon „SAVAGE” Henriksen vs. Jakub „KAJFASZ” Sorota\n\n\n\nOstatnia zmiana: 27.02.2023 r.
URL:https://strefamma.pl/event/gromda-12/
LOCATION:Gromda Fight Club\, Pionki\, Mazowieckie\, Poland
ATTACH;FMTTYPE=image/jpeg:https://strefamma.pl/wp-content/uploads/2023/02/GROMDA-12.jpg
END:VEVENT
END:VCALENDAR