BEGIN:VCALENDAR
VERSION:2.0
PRODID:-//StrefaMMA.pl - Portal sportów walki - ECPv5.16.3.1//NONSGML v1.0//EN
CALSCALE:GREGORIAN
METHOD:PUBLISH
X-WR-CALNAME:StrefaMMA.pl - Portal sportów walki
X-ORIGINAL-URL:https://strefamma.pl
X-WR-CALDESC:Wydarzenia dla StrefaMMA.pl - Portal sportów walki
REFRESH-INTERVAL;VALUE=DURATION:PT1H
X-Robots-Tag:noindex
X-PUBLISHED-TTL:PT1H
BEGIN:VTIMEZONE
TZID:Europe/Warsaw
BEGIN:DAYLIGHT
TZOFFSETFROM:+0100
TZOFFSETTO:+0200
TZNAME:CEST
DTSTART:20230326T010000
END:DAYLIGHT
BEGIN:STANDARD
TZOFFSETFROM:+0200
TZOFFSETTO:+0100
TZNAME:CET
DTSTART:20231029T010000
END:STANDARD
END:VTIMEZONE
BEGIN:VEVENT
DTSTART;TZID=Europe/Warsaw:20230204T220000
DTEND;TZID=Europe/Warsaw:20230205T073000
DTSTAMP:20260422T084753
CREATED:20221218T111155Z
LAST-MODIFIED:20230123T122847Z
UID:60191-1675548000-1675582200@strefamma.pl
SUMMARY:UFC Vegas 68: Lewis vs. Spivak
DESCRIPTION:W nocy z 4 na 5 lutego polskiego czasu dojdzie do zaległego pojedynku Derrick Lewis vs. Sergey Spivak. Zawodnicy kategorii ciężkiej uświetnią galę UFC Vegas 68. \nDo tego starcia miało dojść w listopadzie 2022 na UFC Vegas 65\, jednakże praktycznie w ostatniej chwili „The Black Beast” musiał wycofać się z pojedynku. Choroba nie pozwoliła mu wystąpić\, a federacja nie miała zastępstwa dla Spivaka. Co się odwlecze\, to nie uciecze – reprezentanci królewskiej kategorii wagowej zamkną kolejną galę w kompleksie UFC Apex. \nNa UFC Vegas 68 powróci także Marcin Tybura. Polski ciężki stoczy 31. zawodową walkę\, a jego oponentem będzie Blagoy Ivanov. Ci fighterzy\, podobnie jak bohaterowie main eventu\, również mieli się spotkać już wcześniej. \nKursy bukmacherskie na UFC Vegas 68\nWszystkie walki UFC Vegas 68 nie tylko obstawisz\, lecz także obejrzysz w całości NA ŻYWO u bukmachera eFortuna.pl. Już za samą rejestrację otrzymujesz darmowe 20 zł\, specjalny BONUS i nie jeden\, a aż TRZY ZAKŁADY BEZ RYZYKA! \nZasady wykorzystania są niezwykle proste. Jeżeli twój pierwszy kupon będzie zwycięski otrzymujesz wygraną\, jeżeli przegrasz Fortuna zwróci Ci wkład do 100 zł na konto gracza. Kolejny zakład bez ryzyka to kwota do 200 zł\, a ostatni to aż 300 zł\, które Fortuna zwróci\, jeśli również okaże się nietrafiony! \n-> Gram z Fortuną! Odbieram bonus\n \nKarta walk UFC Vegas 68: Kewis vs. Spivak\nWalka wieczoru: \n\nDerrick Lewis (26-10-0) vs. Serghei Spivak (15-3-0)\n\nCo-main event: \n\nDa Un Jung (15-3-1) vs. Devin Clark (13-7-0)\n\nKarta główna: \n\nMarcin Tybura (23-7-0) vs. Blagoy Ivanov (19-4-0)\nDoo Ho Choi (14-4-0) vs. Kyle Nelson (13-5-0)\nYusaku Kinoshita (6-1-0) vs. Adam Fugitt (8-3-0)\n\nKarta wstępna: \n\nAnshul Jubli (6-0-0) vs. Jeka Saragih (13-2-0)\nZha Yi (21-3-0) vs. Jeong Yeong Lee (9-1-0)\nRinya Nakamura (6-0-0) vs. Toshiomi Kazama (10-2-0)\nHyun Sung Park (7-0-0) vs. Seung Guk Choi (6-1-0)\nYusaku Kinoshita (6-1-0) vs. Adam Fugitt (8-3-0)\nJi Yeon Kim (9-6-2) vs. Mandy Böhm (7-2-0)\nJun Yong Park (15-5-0) vs. Denis Tiuliulin (11-6-0)\nTatsuro Taira (12-0-0) vs. Jesus Aguilar (8-1-0)\n\nOstatnia modyfikacja: 23.01.2023 r
URL:https://strefamma.pl/event/ufc-vegas-68-lewis-vs-spivak/
LOCATION:Las Vegas\, UFC Apex
ATTACH;FMTTYPE=image/jpeg:https://strefamma.pl/wp-content/uploads/2022/12/UFC-VEGAS-68-PLAKAT.jpg
END:VEVENT
BEGIN:VEVENT
DTSTART;TZID=Europe/Warsaw:20230204T220000
DTEND;TZID=Europe/Warsaw:20230205T090000
DTSTAMP:20260422T084753
CREATED:20230123T110444Z
LAST-MODIFIED:20230123T110444Z
UID:63105-1675548000-1675587600@strefamma.pl
SUMMARY:Bellator 290: Bader vs. Emelianenko 2
DESCRIPTION:Po wielu latach owocnej kariery Fedor Emalienenko zbliża się do sportowej emerytury. Wcześniej ma jeszcze zamiar sięgnąć po pas mistrzowski na gali Bellator 290. \n„Ostatni Cesarz” przez wiele lat uważany był za najlepszego zawodnika wszechczasów. Fedor Emalienenko jest już bliżej niż dalej końca swojej kariery\, jednak wciąż potrafi zaskakiwać. Pokazał to w ostatnich latach kończąc „Rampage’a” Jacksona\, czy Tima Johnsona. Rosjanin tymi wygranymi zapewnił sobie rewanż przeciwko Ryanowi Baderowi. \nZnany z występów w UFC „Darth” jeszcze 2 lata temu był podwójnym mistrzem\, dzierżąc tytuły dywizji półciężkiej oraz ciężkiej. Amerykanin po pas królewskiej kategorii wagowej sięgnął nokautując w zaledwie 35 sekund właśnie Fedora Emalienenkę. Jak będzie tym razem? Przekonamy się już w nocy z 4 na 5 lutego. \nKursy bukmacherskie na galę Bellator 290\nWszystkie walki Bellator 290 obstawisz u bukmachera eFortuna.pl. Już za samą rejestrację otrzymujesz darmowe 20 zł\, specjalny BONUS i nie jeden\, a aż TRZY ZAKŁADY BEZ RYZYKA! \nZasady wykorzystania są niezwykle proste. Jeżeli twój pierwszy kupon będzie zwycięski otrzymujesz wygraną\, jeżeli przegrasz Fortuna zwróci Ci wkład do 100 zł na konto gracza. Kolejny zakład bez ryzyka to kwota do 200 zł\, a ostatni to aż 300 zł\, które Fortuna zwróci\, jeśli również okaże się nietrafiony! \n-> Gram z Fortuną! Odbieram bonus\n \nKarta walk Bellator 290: Bader vs. Emelianenko 2\nWalka wieczoru: \n\nRyan Bader (30-7-0) vs. Fedor Emelianenko (40-6-0) – o pas mistrzowski wagi ciężkiej Bellator MMA\n\nCo-main event: \n\nJohnny Eblen (12-0-0) vs. Anatoly Tokov (31-3-0) – o pas mistrzowski wagi średniej Bellator MMA\n\nPozostałe walki: \n\nSabah Homasi (17-10-0) vs. Brennan Ward (16-6-0)\nEthan Hughes (3-0-0) vs. Yusuf Karakaya (1-0-0)\nDiana Avsaragova (5-0-0) vs. Alejandra Lara (9-6-0)\nChris Gonzalez (7-2-0) vs. Max Rohskopf (7-1-0)\nGrant Neal (7-1-0) vs. Karl Albrektsson (13-4-0)\nJaylon Bates (6-0-0) vs. Jornel Lugo (8-1-0)\nHenry Corrales (20-6-0) vs. Akhmed Magomedov (10-0-0)\nSteve Mowry (10-0-0) vs. Ali Isaev (9-0-0)\nIsaiah Hokit (2-1-0) vs. Peter Ishiguro (2-1-0)\nDarrion Caldwell (14-6-0) vs. Nikita Mikhailov (9-2-0)\nLorenz Larkin (24-7-0) vs. Mukhamed Berkhamov (15-1-0)\nNeiman Gracie (11-4-0) vs. Dante Schiro (9-4-0)\n\nOstatnia modyfikacja: 23.01.2023 r
URL:https://strefamma.pl/event/bellator-290-bader-vs-emelianenko-2/
LOCATION:Kia Forum\, W Manchester Blvd\, Inglewood\, 3900\, United States
ATTACH;FMTTYPE=image/jpeg:https://strefamma.pl/wp-content/uploads/2023/01/Bellator-290.jpg
END:VEVENT
END:VCALENDAR