BEGIN:VCALENDAR
VERSION:2.0
PRODID:-//StrefaMMA.pl - Portal sportów walki - ECPv5.16.3.1//NONSGML v1.0//EN
CALSCALE:GREGORIAN
METHOD:PUBLISH
X-WR-CALNAME:StrefaMMA.pl - Portal sportów walki
X-ORIGINAL-URL:https://strefamma.pl
X-WR-CALDESC:Wydarzenia dla StrefaMMA.pl - Portal sportów walki
REFRESH-INTERVAL;VALUE=DURATION:PT1H
X-Robots-Tag:noindex
X-PUBLISHED-TTL:PT1H
BEGIN:VTIMEZONE
TZID:Europe/Warsaw
BEGIN:DAYLIGHT
TZOFFSETFROM:+0100
TZOFFSETTO:+0200
TZNAME:CEST
DTSTART:20230326T010000
END:DAYLIGHT
BEGIN:STANDARD
TZOFFSETFROM:+0200
TZOFFSETTO:+0100
TZNAME:CET
DTSTART:20231029T010000
END:STANDARD
END:VTIMEZONE
BEGIN:VEVENT
DTSTART;TZID=Europe/Warsaw:20230203T190000
DTEND;TZID=Europe/Warsaw:20230204T010000
DTSTAMP:20260422T084752
CREATED:20221228T122436Z
LAST-MODIFIED:20230202T075919Z
UID:60828-1675450800-1675472400@strefamma.pl
SUMMARY:Fame MMA 17
DESCRIPTION:Największa freakowa federacja wraca do Krakowa! Gala Fame MMA 17 odbędzie się już 3 lutego 2022 roku. \nJedną z głównych walk miało być starcie „Wiewióra” z Arkadiuszem Tańculą o pas wagi średniej. Aktor musiał się jednak wycofać z powodu kontuzji\, a Maksymilian zyskał nowego rywala – Alana Kwiecińskiego. Na pierwszej konferencji ogłoszono również hitowe starcie włodarzy: Paweł Jóźwiak vs. Boxdel. \nOprócz tego kibiców czeka wyczekiwany debiut w świecie freak fightów Roberta Karasia\, który podejmie freestylera „Filipka”. W końcu też zakończy się konflikt pomiędzy Marcinem Wrzoskiem i Piotrem Szeligą. Były fighter KSW spotka się z o wiele cięższym „Szelim” na zasadach K-1. \nKursy bukmacherskie na Fame MMA 17\nGalę FAME 17 obstawisz wyłącznie u legalnego bukmachera BetClic! Jeśli nie masz jeszcze konta\, możesz odebrać swój BONUS! Dla nowych użytkowników przygotowano specjalną ofertę powitalną. Możesz postawić pierwszy zakład do 200 zł bez ryzyka! Jeśli Twoje typy będą dobre\, zgarniasz wysoką wygraną. Jeśli kupon okaże się on przegrany – otrzymasz ZWROT! \n \nKarta walk Fame MMA 17\n\nAmadeusz „Ferrari” Roślik vs. Kamil „Sczurek” Łaszczyk\n\nPozostałe walki: \n\nCezary „Czarmagedon” Jóźwik vs. Tomasz „Gimper” Działowy\nWacław “Wac Toja” Osiecki vs. Sebastian „Alterboy” Fabijański – walka na zasadach K-1\nMaksymilian „Wiewiór” Wiewiórka vs. Alan Kwieciński – walka na zasadach K-1\nMichał „Boxdel” Baron vs. Paweł Jóźwiak\nFilip „Filipek” Marcinek vs. Robert Karaś – walka na zasadach K-1\nMarcin „Polish Zombie” Wrzosek vs. Piotr „Szeli” Szeliga – walka na zasadach K-1\nMikołaj „Mixer” Magdziarz vs. Marcin „Rafonix” Krasucki\nKlaudia „Sheeya” Kołodziejczyk vs. Wiktoria „Wiki” Jaroniewska\n\nOstatnia modyfikacja: 02.02.2023 r
URL:https://strefamma.pl/event/fame-mma-17/
LOCATION:Kraków\, Tauron Arena
ATTACH;FMTTYPE=image/jpeg:https://strefamma.pl/wp-content/uploads/2023/01/Fame-MMA-17-Gdzie-i-kiedy-ogladac-Kto-walczy-Transmisja-na-zywo-stream-online.-Karta-walk-Fame-MMA-17.jpg
END:VEVENT
END:VCALENDAR