BEGIN:VCALENDAR
VERSION:2.0
PRODID:-//StrefaMMA.pl - Portal sportów walki - ECPv5.16.3.1//NONSGML v1.0//EN
CALSCALE:GREGORIAN
METHOD:PUBLISH
X-WR-CALNAME:StrefaMMA.pl - Portal sportów walki
X-ORIGINAL-URL:https://strefamma.pl
X-WR-CALDESC:Wydarzenia dla StrefaMMA.pl - Portal sportów walki
REFRESH-INTERVAL;VALUE=DURATION:PT1H
X-Robots-Tag:noindex
X-PUBLISHED-TTL:PT1H
BEGIN:VTIMEZONE
TZID:Europe/Warsaw
BEGIN:DAYLIGHT
TZOFFSETFROM:+0100
TZOFFSETTO:+0200
TZNAME:CEST
DTSTART:20220327T010000
END:DAYLIGHT
BEGIN:STANDARD
TZOFFSETFROM:+0200
TZOFFSETTO:+0100
TZNAME:CET
DTSTART:20221030T010000
END:STANDARD
END:VTIMEZONE
BEGIN:VEVENT
DTSTART;TZID=Europe/Warsaw:20221217T220000
DTEND;TZID=Europe/Warsaw:20221218T070000
DTSTAMP:20260422T153458
CREATED:20221116T124614Z
LAST-MODIFIED:20221214T071459Z
UID:57053-1671314400-1671346800@strefamma.pl
SUMMARY:UFC Vegas 66: Cannonier vs. Strickland
DESCRIPTION:Ostatnia gala w 2022 roku największej federacji MMA na świecie odbędzie się w nocy z 17 na 18 grudnia. Na UFC Vegas 66 dojdzie do ważnej potyczki w kategorii średniej. \nOstatni pretendent\, którego zdołał pokonać Israel Adesanya\, Jared Cannonier stanie w szranki z fighterem\, który był o włos od swojej szansy na zostanie mistrzem UFC. Sean Strickland padł jednak po ciężkim KO z rąk obecnego mistrza\, Alexa Pereiry. Na UFC Vegas 66 będzie musiał wystrzegać się ciężkich pięści „The Killa Gorilla”\, który również ma czym uderzyć! \nKursy bukmacherskie na galę UFC Vegas 66\nGalę UFC Vegas 66 obstawisz i obejrzysz w całości NA ŻYWO u bukmachera eFortuna.pl! Na start przygotowano specjalny BONUS i ZAKŁAD BEZ RYZYKA aż do 600 zł! \nZasady są proste. Jeżeli twój pierwszy kupon będzie zwycięski otrzymujesz wygraną\, jeżeli przegrasz Fortuna zwróci Ci wkład\, maksymalnie do 600 zł na konto gracza. Możesz dodać na swój kupon jakiekolwiek rozgrywki sportowe i obstawić za dowolna kwotę\, a jeśli tym razem typerskie przeczucie Cię zawiedzie otrzymasz zwrot postawionej kwoty\, który możesz wykorzystać na grę. \n-> Gram z Fortuną! Odbieram bonus\n \nKarta walk UFC Vegas 66: Cannonier vs. Strickland\nWalka wieczoru: \n\nJared Cannonier (15-6-0) vs\, Sean Strickland (25-4-0)\n\nKarta główna: \n\nArman Tsarukyan (18-3-0) vs\, Damir Ismagulov (24-1-0)\nAmir Albazi (15-1-0) vs. Alessandro Costa (12-2-0)\nAlex Caceres (19-13-0) vs\, Julian Erosa (28-9-0)\nDrew Dober (25-11-0) vs. Bobby Green (29-13-1)\nCody Brundage (8-2-0) vs. Michał Oleksiejczuk (17-5-0)\n\nKarta wstępna: \n\nCheyanne Vlismas (7-2-0) vs. Cory McKenna (7-2-0)\nJake Matthews (18-5-0) vs. Matt Semelsberger (10-4-0)\nJulian Marquez (9-3-0) vs. Deron Winn (7-3-0)\nSaid Nurmagomedov (16-2-0) vs. Saidyokub Kakhramonov (10-2-0)\nMaheshate (9-1-0) vs. Rafa García (14-3-0)\nBryan Battle (8-1-0) vs. Rinat Fakhretdinov (20-2-0)\nDavid Dvořák (20-4-0) vs. Manel Kape (17-6-0)\nSergey Morozov (18-5-0) vs. Journey Newson (10-3-0)\n\nOstatnia aktualizacja: 14.12.2022
URL:https://strefamma.pl/event/ufc-vegas-66-cannonier-vs-strickland/
LOCATION:Las Vegas\, UFC Apex
ATTACH;FMTTYPE=image/jpeg:https://strefamma.pl/wp-content/uploads/2022/11/UFC-VEGAS-66.jpg
END:VEVENT
END:VCALENDAR