BEGIN:VCALENDAR
VERSION:2.0
PRODID:-//StrefaMMA.pl - Portal sportów walki - ECPv5.16.3.1//NONSGML v1.0//EN
CALSCALE:GREGORIAN
METHOD:PUBLISH
X-WR-CALNAME:StrefaMMA.pl - Portal sportów walki
X-ORIGINAL-URL:https://strefamma.pl
X-WR-CALDESC:Wydarzenia dla StrefaMMA.pl - Portal sportów walki
REFRESH-INTERVAL;VALUE=DURATION:PT1H
X-Robots-Tag:noindex
X-PUBLISHED-TTL:PT1H
BEGIN:VTIMEZONE
TZID:Europe/Warsaw
BEGIN:DAYLIGHT
TZOFFSETFROM:+0100
TZOFFSETTO:+0200
TZNAME:CEST
DTSTART:20220327T010000
END:DAYLIGHT
BEGIN:STANDARD
TZOFFSETFROM:+0200
TZOFFSETTO:+0100
TZNAME:CET
DTSTART:20221030T010000
END:STANDARD
END:VTIMEZONE
BEGIN:VEVENT
DTSTART;TZID=Europe/Warsaw:20221209T230000
DTEND;TZID=Europe/Warsaw:20221210T050000
DTSTAMP:20260422T153457
CREATED:20221205T075948Z
LAST-MODIFIED:20221205T122805Z
UID:58577-1670626800-1670648400@strefamma.pl
SUMMARY:Bellator 289: Stots vs. Sabatello
DESCRIPTION:Gala Bellator 289 odbędzie się w nocy z piątku 9 grudnia na sobotę 10 grudnia. Tego wieczoru fani zobaczą aż dwa pojedynki o pasy mistrzowskie federacji! \nWydarzenie zamknie pojedynek o tymczasowy pas mistrzowski wagi koguciej. Będący w jego posiadaniu Raufeon Stots stanie do obrony przeciwko Danny’emu Sabatello. \nPrzed nimi zobaczymy kolejny pojedynek znanej z UFC Liz Carmouche. „Girl-Rilla” staje do pierwszej obrony pasa wagi muszej przeciwko Juliannie Velasquez\, której to odebrała tytuł mistrzowski. \nKursy bukmacherskie na galę Bellator 289\nGalę Bellator 289 obstawisz i obejrzysz w całości NA ŻYWO u bukmachera eFortuna.pl! Na start przygotowano specjalny BONUS i ZAKŁAD BEZ RYZYKA aż do 600 zł! \nZasady są proste. Jeżeli twój pierwszy kupon będzie zwycięski otrzymujesz wygraną\, jeżeli przegrasz Fortuna zwróci Ci wkład\, maksymalnie do 600 zł na konto gracza. Możesz dodać na swój kupon jakiekolwiek rozgrywki sportowe i obstawić za dowolna kwotę\, a jeśli tym razem typerskie przeczucie Cię zawiedzie otrzymasz zwrot postawionej kwoty\, który możesz wykorzystać na grę. \n-> Gram z Fortuną! Odbieram bonus\n \nKarta walk Bellator 289: Stots vs. Sabatello\nWalka wieczoru \n\nRaufeon Stots (18-1-0) vs. Danny Sabatello (13-1-0)\n\nKarta Główna \n\nLiz Carmouche (17-7-0) vs. Juliana Velasquez (12-1-0) – o pas mistrzowski wagi muszej kobiet Bellator MMA\nMagomed Magomedov (19-2-0) vs. Patchy Mix (16-1-0)\nDalton Rosta (7-0-0) vs. Anthony Adams (9-2-0)\n\nPozostałe walki \n\nCody Law (6-1-0) vs. Cris Lencioni (9-3-0)\nMark Lemminger (12-5-0) vs. Michael Lombardo (12-3-0)\nCass Bell (5-2-0) vs. Jared Scoggins (10-2-0)\nKevin Boehm (9-5-0) vs. Kai Kamaka III (9-5-1)\nRandi Field (3-1-0) vs. Kristina Katsikis (1-2-0)\nPatrick Downey (1-0-0) vs. Christian Echols (2-2-0)\nKyle Crutchmer (9-1-0) vs. Jaleel Willis (15-4-0)\nDenise Kielholtz (6-4-0) vs. Ilara Joanne (10-6-0)\nLucas Brennan (7-0-0) vs. Dre Miley (10-6-0)\n\nOstatnia modyfikacja 5.12.2022
URL:https://strefamma.pl/event/bellator-289-stots-vs-sabatello/
LOCATION:Mohegan Sun Arena\, Uncasville\, United States
ATTACH;FMTTYPE=image/jpeg:https://strefamma.pl/wp-content/uploads/2022/12/Bellator-289.jpg
END:VEVENT
BEGIN:VEVENT
DTSTART;TZID=Europe/Warsaw:20221210T190000
DTEND;TZID=Europe/Warsaw:20221210T233000
DTSTAMP:20260422T153457
CREATED:20220918T102609Z
LAST-MODIFIED:20221206T155355Z
UID:50973-1670698800-1670715000@strefamma.pl
SUMMARY:High League 5
DESCRIPTION:Jeszcze przed świętami\, 10 grudnia\, odbędzie się piąta już kolejna edycja HIGH League. Tym razem federacji odwiedzi Łódź\, a dokładniej gala będzie miała miejsce w Atlas Arenie! \nPierwszą potwierdzoną walką było starcie rapera „Alberto” z Pawłem „Tyborim” Tyburskim\, uznawanym za jednego z najlepszych freak fighterów w Polsce. Z czasem zostały ogłaszane kolejne starcia z udziałem nowych\, jak i znanych już zawodników i zawodniczek! \nDo klatki na High League 5 wróci Dawid Załęcki\, który wcześniej w tym roku w bardzo szybkim czasie pokonał Alana Kwiecińskiego. Oponentem 45-letniego Torunianina będzie weteran ponad 60. walk w MMA – Vaso Bakocević. Jedna z największych polskich federacji freak fight w Polsce kontynuuje też dobre stosunki z KSW. Na High League 5 w łódzkiej Atlas Arenie wystąpi kolejny sportowiec – Damian Janikowski. Medalista igrzysk olimpijskich z Londynu spotka się w MMA z Mateuszem „Don Diego” Kubiszynem. \nKursy bukmacherskie na galę HIGH League 5\nGalę HIGH League 5 obstawić można tylko i wyłącznie u bukmachera eFortuna.pl! Na start dla nowych użytkowników przygotowano specjalny BONUS i ZAKŁAD BEZ RYZYKA aż do 600 zł! \nZasady są proste. Jeżeli pierwszy kupon będzie zwycięski gracz otrzymuje pełną wygraną\, jeżeli zaś przegra – Fortuna zwraca wkład\, maksymalnie do 600 zł na konto. Na kupon można dodać jakiekolwiek rozgrywki sportowe i obstawić za dowolna kwotę\, a jeśli tym razem typerskie przeczucie okaże się nietrafione\, zwrot postawionej kwoty wraca i można wykorzystać je na dalszą grę.  \nKarta walk HIGH League 5\n\nWalka wieczoru \n\n\n\n\nAlberto Simao vs. Paweł „Tybori” Tyburski\n\n\n\n\nKarta główna \n\n\n\n\nNatalia „Natsu” Karczmarczyk vs. Agata „Fagata” Fąk\nMateusz „Muran” Murański vs. Paweł „Scarface” Bomba\nMateusz Don Diego Kubiszyn vs. Damian Janikowski\nMaja Staśko vs. Maria „Masza” Graczykowska\nJakub „Holak” Krawczyk vs. Maciej „Zony” Zoniuk\nDawid „Diables” Porwisiak vs. Paweł „Leh” Lehmann\nDawid „Crazy” Załęcki vs. Vaso Bakovević\nPrzemysław „Sequento” Skulski vs. Andrzej „Andrew” Gazda\nKamil „Hassi” Hassan vs. Wojciech „Rekordzista” Sobierajski\n\nOstatnia modyfikacja: 06.12.2022 r.
URL:https://strefamma.pl/event/high-league-5/
LOCATION:Łódź\, Atlas Arena\, aleja ks. bp. Władysława Bandurskiego 7\, Łódź\, łódzkie\, 94-020\, Poland
ATTACH;FMTTYPE=image/png:https://strefamma.pl/wp-content/uploads/2022/09/HIGH-League-5.png
END:VEVENT
BEGIN:VEVENT
DTSTART;TZID=Europe/Warsaw:20221210T220000
DTEND;TZID=Europe/Warsaw:20221211T080000
DTSTAMP:20260422T153457
CREATED:20221024T142009Z
LAST-MODIFIED:20221206T155424Z
UID:55066-1670709600-1670745600@strefamma.pl
SUMMARY:UFC 282: Błachowicz vs. Ankalaev
DESCRIPTION:Ostatnie PPV największej federacji MMA na świecie w 2022 roku zapowiada się iście znakomicie! W grudniu odbędzie się wielki rewanż o koronę kategorii półciężkiej\, a o nią powalczy Jan Błachowicz! \nW związku z poważną kontuzją Jiriego Prochazki\, Czech był zmuszony zawakować pas mistrzowski kategorii półciężkiej. Federacja ogłosiła\, że nową walką wieczoru o koronę będzie pojedynek Jan Błachowicz vs. Magomed Ankalaev! Dla „Cieszyńskiego Księcia” będzie to druga w karierze szansa na zostanie championem dywizji. Polak zdobył tytuł na UFC 253 kończąc przez TKO typowanego na następcę Jona Jonesa Dominicka Reyesa. Pas stracił już w drugiej obronie nie dając rady Gloverowi Teixeirze. Przeciwnikiem Błachowicza będzie Magomed Ankalaev. Dagestańczyk przegrał tylko jeden pojedynek w karierze\, dając się złapać w duszenie trójkątne w ostatniej sekundzie walki z Paulem Craigiem\, Rosjanin podejdzie do polskiego zawodnika na serii 9. kolejnych zwycięstw. \nKursy bukmacherskie na galę UFC 282 \nGalę UFC 282 obstawisz i obejrzysz w całości NA ŻYWO u bukmachera eFortuna.pl! Na start przygotowano specjalny BONUS i ZAKŁAD BEZ RYZYKA aż do 600 zł! \nZasady są proste. Jeżeli twój pierwszy kupon będzie zwycięski otrzymujesz wygraną\, jeżeli przegrasz Fortuna zwróci Ci wkład\, maksymalnie do 600 zł na konto gracza. Możesz dodać na swój kupon jakiekolwiek rozgrywki sportowe i obstawić za dowolna kwotę\, a jeśli tym razem typerskie przeczucie Cię zawiedzie otrzymasz zwrot postawionej kwoty\, który możesz wykorzystać na grę. \n-> Gram z Fortuną! Odbieram bonus\n \nKarta walk UFC 282: Błachowicz vs. Ankalaev\nWalka wieczoru: \n\nJan Błachowicz (29-9-0) vs. Magomed Ankalaev (18-1-0)\n\n\nKarta główna: \n\n\n\n\nPaddy Pimblett (19-3-0) vs. Jared Gordon (19-5-0)\nDarren Till (18-4-1) vs. Dricus Du Plessis (17-2-0)\nSantiago Ponzinibbio (28-6-0) vs. Alex Morono (22-7-0)\nBryce Mitchell (15-0-0) vs. Ilia Topuria (12-0-0)\n\n\n\n\nKarta wstępna: \n\n\n\n\nJairzinho Rozenstruik (12-4-0) vs. Chris Daukaus (12-5-0)\nJay Perrin (10-6-0) vs. Raul Rosas Jr. (6-0-0)\nEdmen Shahbazyan (11-3-0) vs. Dalcha Lungiambula (11-5-0)\nChris Curtis (29-9-0) vs. Joaquin Buckley (15-5-0)\n\n\n\n\nKarta przedwstępna: \n\n\n\n\nBilly Quarantillo (16-4-0) vs. Alexander Hernandez (13-5-0)\nErik Silva (9-1-0) vs. TJ Brown (16-9-0)\nDaniel da Silva (11-4-0) vs. Vinicius Salvador (14-4-0)\nCameron Saaiman (6-0-0) vs. Steven Koslow (6-0-0)\n\nOstatnia modyfikacja: 06.12.2022 r.
URL:https://strefamma.pl/event/ufc-282-blachowicz-vs-ankalaev/
LOCATION:T-Mobile Arena\, 3780 Las Vegas Blvd S\, Las Vegas\, 89158\, United States
ATTACH;FMTTYPE=image/jpeg:https://strefamma.pl/wp-content/uploads/2022/10/UFC-282-Blachowicz-vs.-Anakalev.jpg
END:VEVENT
END:VCALENDAR