BEGIN:VCALENDAR
VERSION:2.0
PRODID:-//StrefaMMA.pl - Portal sportów walki - ECPv5.16.3.1//NONSGML v1.0//EN
CALSCALE:GREGORIAN
METHOD:PUBLISH
X-WR-CALNAME:StrefaMMA.pl - Portal sportów walki
X-ORIGINAL-URL:https://strefamma.pl
X-WR-CALDESC:Wydarzenia dla StrefaMMA.pl - Portal sportów walki
REFRESH-INTERVAL;VALUE=DURATION:PT1H
X-Robots-Tag:noindex
X-PUBLISHED-TTL:PT1H
BEGIN:VTIMEZONE
TZID:Europe/Warsaw
BEGIN:DAYLIGHT
TZOFFSETFROM:+0100
TZOFFSETTO:+0200
TZNAME:CEST
DTSTART:20220327T010000
END:DAYLIGHT
BEGIN:STANDARD
TZOFFSETFROM:+0200
TZOFFSETTO:+0100
TZNAME:CET
DTSTART:20221030T010000
END:STANDARD
END:VTIMEZONE
BEGIN:VEVENT
DTSTART;TZID=Europe/Warsaw:20221203T210000
DTEND;TZID=Europe/Warsaw:20221204T070000
DTSTAMP:20260422T152917
CREATED:20221120T100020Z
LAST-MODIFIED:20221120T100020Z
UID:57333-1670101200-1670137200@strefamma.pl
SUMMARY:Fury vs. Chisora III
DESCRIPTION:Choć zapowiedział zakończenie kariery\, Tyson Fury jeszcze w tym roku wraca do ringu na trylogię z Dereckiem Chisorą! \nPopularny „The Gypsy King” pierwotnie dogadywał na tę datę szczegóły walki z Anthonym Joshuą. Anglicy nie dogadali się z najprawdopodobniej przyczyn finansowych\, ale Tyson Fury postanowił tak\, czy owak wrócić do zawodowego boksu! \nJego oponentem będzie Dereck Chisora\, który już dwukrotnie ulegał „Królowi Cyganów”. Panowie są dziś jeszcze starsi\, a zwycięzca najprawdopodobniej zmierzy się w unifikacyjnym pojedynku z Ołeksandrem Usykiem! \nKursy bukmacherskie na galę Fury vs. Chisora III\nGalę Fury vs. Chisora obstawisz u bukmachera eFortuna.pl! Na start przygotowano specjalny BONUS i ZAKŁAD BEZ RYZYKA aż do 600 zł! \nZasady są proste. Jeżeli twój pierwszy kupon będzie zwycięski otrzymujesz wygraną\, jeżeli przegrasz Fortuna zwróci Ci wkład\, maksymalnie do 600 zł na konto gracza. Możesz dodać na swój kupon jakiekolwiek rozgrywki sportowe i obstawić za dowolna kwotę\, a jeśli tym razem typerskie przeczucie Cię zawiedzie otrzymasz zwrot postawionej kwoty\, który możesz wykorzystać na grę. \n-> Gram z Fortuną! Odbieram bonus\n \nKarta walk Fury vs. Chisora III\nWalka wieczoru: \n\nTyson Fury (32-0-1) vs. Dereck Chisora (33-12-0) – o pas mistrzowski wagi ciężkiej WBC\n\nPozostałe walki: \n\nDaniel Dubois (18-1-0) vs. Kevin Lerena (28-1-0) – o pas mistrzowski wagi ciężkiej WBA\nYvan Mendy (47-5-1) vs. Denis Berinchyk (16-0-0) – o pas mistrza Europy w wadze lekkiej EBU\n\nOstatnia modyfikacja: 20.11.2022 r. \n 
URL:https://strefamma.pl/event/fury-vs-chisora-iii/
LOCATION:Tottenham Hotspur Stadium\, 782 High Rd\, London\, N17 0BX\, United Kingdom
ATTACH;FMTTYPE=image/jpeg:https://strefamma.pl/wp-content/uploads/2022/11/Fury-vs.-Chisora-III.jpg
END:VEVENT
BEGIN:VEVENT
DTSTART;TZID=Europe/Warsaw:20221204T010000
DTEND;TZID=Europe/Warsaw:20221204T090000
DTSTAMP:20260422T152917
CREATED:20221024T133301Z
LAST-MODIFIED:20221120T093124Z
UID:55061-1670115600-1670144400@strefamma.pl
SUMMARY:UFC on ESPN 42: Thompson vs. Holland
DESCRIPTION:W pierwszy grudniowy weekend UFC powróci do Orlando z galą UFC on ESPN 42. W walce wieczoru Stephen Thompson zmierzy się z Kevinem Hollandem. \nPo ostatniej szybkiej porażce Kevin Holland zaskoczył wszystkich decyzją o zakończeniu kariery w MMA. Amerykanin nie wytrzymał jednak długo w swoim postanowieniu i już za jakiś czas ogłoszono jego starcie ze Stephenem Thompsonem. Panowie zmierzą się na dystansie 5. rund. Przed nimi w oktagonie na pewno polecą ciężkie bomby! Tai Tuivasa mimo porażki przed czasem w starciu z Cirylem Gane pokazał się ze znakomitej strony\, a co ważniejsze – jest wciąż młodym i świetnie bijącym zawodnikiem. Rywalem popularnego „Bam Bama” będzie świętujący w lipcu czwarte zwycięstwo z rzędu Sergei Pavlovich. \nKursy bukmacherskie na galę UFC on ESPN 42\n\nGalę UFC on ESPN 42 obstawisz i obejrzysz NA ŻYWO u bukmachera eFortuna.pl! Na start przygotowano specjalny BONUS i ZAKŁAD BEZ RYZYKA aż do 600 zł! \n\n\n\nZasady są proste. Jeżeli twój pierwszy kupon będzie zwycięski otrzymujesz wygraną\, jeżeli przegrasz Fortuna zwróci Ci wkład\, maksymalnie do 600 zł na konto gracza. Możesz dodać na swój kupon jakiekolwiek rozgrywki sportowe i obstawić za dowolna kwotę\, a jeśli tym razem typerskie przeczucie Cię zawiedzie otrzymasz zwrot postawionej kwoty\, który możesz wykorzystać na grę. \n\n\n\n-> Gram z Fortuną! Odbieram bonus\n \nKarta walk UFC on ESPN 42: Thompson vs. Holland\nWalka wieczoru: \n\nStephen Thompson (16-6-1) vs. Kevin Holland (23-8-0)\n\nPozostałe walki: \n\nRafael dos Anjos (31-14-0) vs. Bryan Barberena (18-8-0)\nMatheus Nicolau (18-2-1) vs. Matt Schnell (16-7-0)\nTai Tuivasa (15-4-0) vs. Sergei Pavlovich (16-1-0)\nDerek Brunson (23-8-0) vs. Jack Hermansson (23-7-0)\nEryk Anders (14-7-0) vs. Kyle Daukaus (11-3-0)\n\nKarta wstępna: \n\nNiko Price (15-5-0) vs. Philip Rowe (9-3-0)\nAngela Hill (14-12-0) vs. Emily Ducote (12-6-0)\nClay Guida (37-22-0) vs. Scott Holtzman (14-5-0)\nMichael Johnson (20-18-0) vs. Marc Diakiese (16-5-0)\nDarren Elkins (27-10-0) vs. Jonathan Pearce (13-4-0)\nTracy Cortez (10-1-0) vs. Amanda Ribas (11-3-0)\nNatan Levy (7-1-0) vs. Genaro Valdéz (10-1-0)\nFrancis Marshall (6-0-0) vs. Marcelo Rojo (16-8-0)\nYazmin Jauregui (9-0-0) vs. Istela Nunes (6-3-0)\n\nOstatnia modyfikacja: 20.11.2022 r.
URL:https://strefamma.pl/event/ufc-on-espn-42-thompson-vs-holland/
LOCATION:Amway Center\, 400 W Church St Suite 200\, Orlando\, 32801\, United States
ATTACH;FMTTYPE=image/jpeg:https://strefamma.pl/wp-content/uploads/2022/10/UFC-on-ESPN-42-Plakat.jpg
END:VEVENT
END:VCALENDAR