BEGIN:VCALENDAR
VERSION:2.0
PRODID:-//StrefaMMA.pl - Portal sportów walki - ECPv5.16.3.1//NONSGML v1.0//EN
CALSCALE:GREGORIAN
METHOD:PUBLISH
X-ORIGINAL-URL:https://strefamma.pl
X-WR-CALDESC:Wydarzenia dla StrefaMMA.pl - Portal sportów walki
REFRESH-INTERVAL;VALUE=DURATION:PT1H
X-Robots-Tag:noindex
X-PUBLISHED-TTL:PT1H
BEGIN:VTIMEZONE
TZID:Europe/Warsaw
BEGIN:DAYLIGHT
TZOFFSETFROM:+0100
TZOFFSETTO:+0200
TZNAME:CEST
DTSTART:20220327T010000
END:DAYLIGHT
BEGIN:STANDARD
TZOFFSETFROM:+0200
TZOFFSETTO:+0100
TZNAME:CET
DTSTART:20221030T010000
END:STANDARD
END:VTIMEZONE
BEGIN:VEVENT
DTSTART;TZID=Europe/Warsaw:20221112T080000
DTEND;TZID=Europe/Warsaw:20221113T063000
DTSTAMP:20260422T164648
CREATED:20220828T134545Z
LAST-MODIFIED:20221107T133935Z
UID:48305-1668240000-1668321000@strefamma.pl
SUMMARY:UFC 281: Adesanya vs. Pereira
DESCRIPTION:Największa federacja MMA na świecie wraca do najsłynniejszej hali na świecie! W nocy z soboty 12 listopada na niedzielę 13 listopada w Madison Square Garden odbędzie się hitowa gala UFC 281. \nBardzo szybko\, bo po zaledwie trzech pojedynkach\, Alex Pereira otrzymuje szansę na zostanie mistrzem wagi średniej. Brazylijczyk skończył Andreasa Michailidisa latającym kolanem\, Bruno Silvę pokonał jednogłośną decyzją i wreszcie kapitalnym KO położył spać Seana Stricklanda na UFC 276. \nTego samego wieczoru Israel Adesanya obronił po raz kolejny mistrzostwo kategorii do 185. funtów dominując jednogłośnie nad Jaredem Cannonierem. Brazylijczyk otwarcie krytykował styl w jakim „The Last Stylebender” stoczył tamten pojedynek. Pereira to ostatni zawodnik\, który znokautował Nigeryjczyka. I choć miało to miejsce jeszcze w kickboxingu\, tamto KO na pewno siedzi w głowie Adesanyi! \nTypy i kursy bukmacherskie na UFC 281: Adesanya vs. Pereira\nGalę UFC 281: Adesanya vs. Pereira obstawisz i obejrzysz NA ŻYWO u bukmachera eFortuna.pl! Na start przygotowano specjalny BONUS i ZAKŁAD BEZ RYZYKA aż do 600 zł! \n\n\n\nZasady są proste. Jeżeli twój pierwszy kupon będzie zwycięski otrzymujesz wygraną\, jeżeli przegrasz Fortuna zwróci Ci wkład\, maksymalnie do 600 zł na konto gracza. Możesz dodać na swój kupon jakiekolwiek rozgrywki sportowe i obstawić za dowolna kwotę\, a jeśli tym razem typerskie przeczucie Cię zawiedzie otrzymasz zwrot postawionej kwoty\, który możesz wykorzystać na grę. \n\n\n\n-> Gram z Fortuną! Odbieram bonus\n\n \nKarta walk UFC 281: Adesanya vs. Pereira\nWalka wieczoru: \n\nIsrael Adesanya (23-1-0) vs. Alex Pereira (6-1-0) – o pas mistrzowski wagi średniej UFC\n\nKarta główna: \n\nCarla Esparza (19-6-0) vs. Weili Zhang (22-3-0) – o pas mistrzowski wagi słomkowej kobiet UFC\nDustin Poirier (28-7-0) vs. Michael Chandler (23-7-0)\nFrankie Edgar (24-10-1) vs. Chris Gutierrez (18-3-2)\nDan Hooker (21-12-0) vs. Claudio Puelles (12-2-0)\n\nKarta wstępna: \n\nBrad Riddell (10-3-0) vs. Renato Moicano (16-5-1)\nDominick Reyes (12-3-0) vs. Ryan Spann (20-7-0)\nErin Blanchfield (9-1-0) vs. Molly McCann (13-4-0)\nAndre Petroski (8-1-0) vs. Wellington Turman (18-5-0)\n\nKarta przedwstępna: \n\nMatt Frevola (9-3-1) vs. Ottman Azaitar (13-0-0)\nKarolina Kowalkiewicz (13-7-0) vs. Silvana Gómez Juárez (11-4-0)\nMike Trizano (9-3-0) vs. Seung Woo Choi (10-5-0)\nJulio Arce (18-5-0) vs. Montel Jackson (11-2-0)\nCarlos Ulberg (6-1-0) vs. Nicolae Negumereanu (13-1-0)\n\nOstatnia modyfikacja: 07.11.2022 r
URL:https://strefamma.pl/event/ufc-281-adesanya-vs-pereira/
LOCATION:Madison Square Garden\, 46 Pennsylvania Plaza (8th Avenue & 33rd Street)\, New York\, United States
ATTACH;FMTTYPE=image/png:https://strefamma.pl/wp-content/uploads/2022/08/UFC-281-PLAKAT.png
END:VEVENT
END:VCALENDAR