BEGIN:VCALENDAR
VERSION:2.0
PRODID:-//StrefaMMA.pl - Portal sportów walki - ECPv5.16.3.1//NONSGML v1.0//EN
CALSCALE:GREGORIAN
METHOD:PUBLISH
X-WR-CALNAME:StrefaMMA.pl - Portal sportów walki
X-ORIGINAL-URL:https://strefamma.pl
X-WR-CALDESC:Wydarzenia dla StrefaMMA.pl - Portal sportów walki
REFRESH-INTERVAL;VALUE=DURATION:PT1H
X-Robots-Tag:noindex
X-PUBLISHED-TTL:PT1H
BEGIN:VTIMEZONE
TZID:Europe/Warsaw
BEGIN:DAYLIGHT
TZOFFSETFROM:+0100
TZOFFSETTO:+0200
TZNAME:CEST
DTSTART:20220327T010000
END:DAYLIGHT
BEGIN:STANDARD
TZOFFSETFROM:+0200
TZOFFSETTO:+0100
TZNAME:CET
DTSTART:20221030T010000
END:STANDARD
END:VTIMEZONE
BEGIN:VEVENT
DTSTART;TZID=Europe/Warsaw:20221029T183000
DTEND;TZID=Europe/Warsaw:20221030T003000
DTSTAMP:20260422T180917
CREATED:20221024T112333Z
LAST-MODIFIED:20221028T105731Z
UID:55034-1667068200-1667089800@strefamma.pl
SUMMARY:Bellator 287: Piccolotti vs. Barnaoui
DESCRIPTION:W ostatnich dniach października federacja Bellator MMA zawita do Mediolanu! Na gali Bellator 287 w organizacji zadebiutuje Polak\, Kamil Oniszczuk. \nW walce wieczoru Adam Piccolotti\, który w federacji występuje od 2015 roku spotka się z francuskim „Tarzanem”\, Mansourem Barnaouim. Będzie to jego debiut w Bellatorze\, a warto wspomnieć\, że ma na koncie 2 występy dla KSW\, gdzie przegrał z Mateuszem Gamrotem\, ale wygrał z Łukaszem Chlewickim. W Mediolanie zadebiutuje za to Kamil Oniszczuk! Zawodnik Ankosu MMA Poznań wygrał w dwóch ostatnich pojedynkach przed czasem\, dzięki czemu podniósł się po pierwszej i jedynej zawodowej porażce. Polak zmierzy się z doświadczonym Costello van Steenisem\, który przed trzema laty doznał z kolei drugiej zawodowej porażki. Odkuł się 2 lata temu niejednogłośnie pokonując Fabiana Edwardsa. \nKursy bukmacherskie na galę Bellator 287\n\nGalę Bellator 287 obstawisz u bukmachera eFortuna.pl! Na start przygotowano specjalny BONUS i ZAKŁAD BEZ RYZYKA aż do 600 zł! \n\n\n\nZasady są proste. Jeżeli twój pierwszy kupon będzie zwycięski otrzymujesz wygraną\, jeżeli przegrasz Fortuna zwróci Ci wkład\, maksymalnie do 600 zł na konto gracza. Możesz dodać na swój kupon jakiekolwiek rozgrywki sportowe i obstawić za dowolna kwotę\, a jeśli tym razem typerskie przeczucie Cię zawiedzie otrzymasz zwrot postawionej kwoty\, który możesz wykorzystać na grę. \n\n\n\n-> Gram z Fortuną! Odbieram bonus\n \nKarta walk Bellator 287: Piccolotti vs. Barnaoui\nWalka wieczoru: \n\nAdam Piccolotti (13-4-0) vs. Mansour Barnaoui (19-4-0)\n\nKarta główna: \n\nFabian Edwards (10-2-0) vs. Charlie Ward (10-4-0)\nSaul Rogers (15-4-0) vs. Tim Wilde (14-4-1)\nJustin Gonzales (13-1-0) vs. Andrew Fisher (19-8-1)\n\nPozostałe walki: \n\nDavy Gallon (21-7-2) vs. Daniele Scatizzi (11-6-0)\nSarvadzhon Khamidov (13-0-0) vs. José Maria Tomé (40-9-0)\nSimon Biyong (8-2-0) vs. Dragos Zubco (3-1-0)\nThibault Gouti (16-5-0) vs. Alfie Davis (14-4-1)\nChiara Penco (7-3-0) vs. Manuela Marconetto (3-1-0)\nYves Landu (17-9-0) vs. Walter Cogliandro (11-3-1)\nCostello van Steenis (13-2-0) vs. Kamil Oniszczuk (9-1-0)\nNicolò Solli (3-1-0) vs. Bourama Camara (5-1-0)\nSteven Hill (5-0-0) vs. Andrea Fusi (8-6-0)\nLuke Trainer (5-1-0) vs. Lucas Alsina (11-3-0)\nOleg Popov (15-1-0) vs. Denis Stojnić (15-3-0)\n\nOstatnia modyfikacja: 29.10.2022 r.
URL:https://strefamma.pl/event/bellator-287-piccolotti-vs-barnaoui/
LOCATION:Allianz Cloud Arena\, Piazza Carlo Stuparich\, 1\, Mediolan\, 20148\, Italy
ATTACH;FMTTYPE=image/png:https://strefamma.pl/wp-content/uploads/2022/10/Bellator-287.png
END:VEVENT
BEGIN:VEVENT
DTSTART;TZID=Europe/Warsaw:20221029T190000
DTEND;TZID=Europe/Warsaw:20221030T190000
DTSTAMP:20260422T180917
CREATED:20221027T094455Z
LAST-MODIFIED:20221027T104606Z
UID:55272-1667070000-1667156400@strefamma.pl
SUMMARY:Knockout Boxing Night 25
DESCRIPTION:Dnia 29 października w Zakopanem obędzie się hitowa pięściarska gala Knockout Boxing Night 25\, na której do akcji powróci Krzysztof „Diablo” Włodarczyk! \nPo odbyciu wyroku 5. miesięcy pozbawienia wolności „Diablo” wraca do ringu na 65. zawodowy pojedynek! Rywalem autora aż 40. nokautów będzie były mistrz WBO Africa\, Abraham Tabul. Do ringu wejdzie też niepokonana nadzieja polskiego boksu\, Laura Grzyb. Będzie to trzecia walka Polki w tym roku\, a jej oponentką będzie twarda Marian Herreria\, która wszystkie 3 pojedynki zwyciężyła decyzją. Wreszcie w main evencie Mateusz Masternak zmierzy się w eliminatorze do pasa IBF wagi junior ciężkiej! Polski pięściarz stanie w szranki z niepokonanym Australijczykiem Jasonem Whateleyem. \nKursy bukmacherskie na galę Knockout Boxing Night 25\n\nGalę Knockout Boxing Night 25 obstawisz u bukmachera eFortuna.pl! Na start przygotowano specjalny BONUS i ZAKŁAD BEZ RYZYKA aż do 600 zł! \n\n\n\nZasady są proste. Jeżeli twój pierwszy kupon będzie zwycięski otrzymujesz wygraną\, jeżeli przegrasz Fortuna zwróci Ci wkład\, maksymalnie do 600 zł na konto gracza. Możesz dodać na swój kupon jakiekolwiek rozgrywki sportowe i obstawić za dowolna kwotę\, a jeśli tym razem typerskie przeczucie Cię zawiedzie otrzymasz zwrot postawionej kwoty\, który możesz wykorzystać na grę. \n\n\n\n-> Gram z Fortuną! Odbieram bonus\n \nKarta walk Knockout Boxing Night 25: Masternak vs. Whateley\nWalka wieczoru: \n\nMateusz Masternak (46-5\, 31 KO) vs. Jason Whateley (10-0\, 9 KO)\n\nPozostało walki: \n\nKrzysztof „Diablo” Włodarczyk (60-4\, 40 KO) vs. Abraham Tabul (17-6-1)\nMateusz Tryc (14-0\, 7 KO) vs. Leonard Carillo (15-4\, 14 KO)\nLaura Grzyb (7-0\, 3 KO) vs. Marian Hereirra (3-0)\nAdam Balski (16-2\, 9 KO) vs. Nicolas Holcapfel (12-9\, 10 KO)\nArtur Górski (4-1\, 1 KO) vs Jozef Kusmirek (4-17\, 1 KO)\nPiotr Łącz (4-0\, 4 KO) vs Aazdin Aahour (4-3-2\, 3 KO)\nMaciej Marchel vs Oskar Hibner – boks olimpijski\nAleks Urbański vs Igor Rondoś – boks olimpijki\n\nOstatnia modyfikacja: 27.10.2022 r.
URL:https://strefamma.pl/event/knockout-boxing-night-25/
LOCATION:Nosalowy Dwór Resort & SPA\, Balzera 21d\, Zakopane\, Małopolskie\, 34-500\, Poland
ATTACH;FMTTYPE=image/png:https://strefamma.pl/wp-content/uploads/2022/10/Knockout-Boxing-Night-25-PLAKAT.png
END:VEVENT
BEGIN:VEVENT
DTSTART;TZID=Europe/Warsaw:20221029T233000
DTEND;TZID=Europe/Warsaw:20221030T060000
DTSTAMP:20260422T180917
CREATED:20220918T140028Z
LAST-MODIFIED:20221023T111248Z
UID:51005-1667086200-1667109600@strefamma.pl
SUMMARY:UFC Vegas 63: Kattar vs. Allen
DESCRIPTION:W ostatni weekend października czeka nas kolejna gala w Las Vegas. W main evencie Calvin Kattar zmierzy się z Arnoldem Allenem!\n\nPopularny „Almighty” ma niemalże perfekcyjny rekord 18-1-0. Co ciekawe zawodnikiem\, który zaserwował mu jedyną porażkę jest był uczestnik The Ultimate Fighter – Marcin Wrzosek. Arnold Allen nie zaznał jednak porażki w UFC\, a w ostatnim występie już w 1. rundzie skończył Dana Hookera.\n\nCalvin Kattar uznawany jest za jednego z najlepszych pięściarzy w dywizji piórkowej. Amerykanin przegrał niejednogłośną decyzją sędziów z Joshem Emmetem\, ale wcześniej znakomicie poradził sobie z Gigą Chikadze.\nTypy i kursy bukmacherskie na UFC Vegas 63\n\n\nGalę UFC Vegas 63 obstawisz i obejrzysz na żywo u bukmachera eFortuna.pl! Na start przygotowano specjalny BONUS i ZAKŁAD BEZ RYZYKA aż do 600 zł!\n\n \n\nZasady są proste. Jeżeli twój pierwszy kupon będzie zwycięski otrzymujesz wygraną\, jeżeli przegrasz Fortuna zwróci Ci wkład\, maksymalnie do 600 zł na konto gracza. Możesz dodać na swój kupon jakiekolwiek rozgrywki sportowe i obstawić za dowolna kwotę\, a jeśli tym razem typerskie przeczucie Cię zawiedzie otrzymasz zwrot postawionej kwoty\, który możesz wykorzystać na grę.\n\n \n-> Gram z Fortuną! Odbieram bonus\n\n\n\nKarta walk UFC Vegas 63: Kattar vs. Allen\n\n 	Calvin Kattar (23-6-0) vs. Arnold Allen (18-1-0)\n\nKarta główna:\n\n 	Tim Means (32-13-1) vs. Max Griffin (18-9-0)\n 	Dustin Jacoby (18-5-1) vs. Khalil Rountree (10-5-0)\n 	Waldo Cortes-Acosta (7-0-0) vs. Jared Vanderaa (12-9-0)\n 	Tresean Gore (3-2-0) vs. Josh Fremd (9-3-0)\n\nPozostałe walki:\n\n 	Andrei Arlovski (34-20-0) vs. Marcos Rogério de Lima (19-8-1)\n 	Chase Hooper (11-2-1) vs. Steve Garcia (12-5-0)\n 	Joseph Holmes (8-2-0) vs. Jun Yong Park (14-5-0)\n 	Roman Dolidze (10-1-0) vs. Phil Hawes (12-3-0)\n 	Christian Rodriguez (7-1-0) vs. Garrett Armfield (8-3-0)\n 	Cody Durden (13-4-1) vs. Kleydson Rodrigues (7-2-0)\n\nOstatnia modyfikacja: 23.10.2022 r.
URL:https://strefamma.pl/event/ufc-vegas-63-kattar-vs-allen/
LOCATION:Las Vegas\, UFC Apex
ATTACH;FMTTYPE=image/jpeg:https://strefamma.pl/wp-content/uploads/2022/09/UFC-Kattar-vs.-Allen.jpg
END:VEVENT
END:VCALENDAR