BEGIN:VCALENDAR
VERSION:2.0
PRODID:-//StrefaMMA.pl - Portal sportów walki - ECPv5.16.3.1//NONSGML v1.0//EN
CALSCALE:GREGORIAN
METHOD:PUBLISH
X-ORIGINAL-URL:https://strefamma.pl
X-WR-CALDESC:Wydarzenia dla StrefaMMA.pl - Portal sportów walki
REFRESH-INTERVAL;VALUE=DURATION:PT1H
X-Robots-Tag:noindex
X-PUBLISHED-TTL:PT1H
BEGIN:VTIMEZONE
TZID:Europe/Warsaw
BEGIN:DAYLIGHT
TZOFFSETFROM:+0100
TZOFFSETTO:+0200
TZNAME:CEST
DTSTART:20220327T010000
END:DAYLIGHT
BEGIN:STANDARD
TZOFFSETFROM:+0200
TZOFFSETTO:+0100
TZNAME:CET
DTSTART:20221030T010000
END:STANDARD
END:VTIMEZONE
BEGIN:VEVENT
DTSTART;TZID=Europe/Warsaw:20221028T180000
DTEND;TZID=Europe/Warsaw:20221028T233000
DTSTAMP:20260422T181115
CREATED:20221028T064805Z
LAST-MODIFIED:20221028T071320Z
UID:55353-1666980000-1666999800@strefamma.pl
SUMMARY:Babilon MMA 31: Błeszyński vs. Zimmer
DESCRIPTION:Gala Babilon MMA 31 odbędzie się już w piątek 28 października. W walce wieczoru wieczoru Adrian „Ares” Błeszyński zmierzy się z Dagomirem Zimmerem. \nPopularny „Ares” będzie szukał sposobu na przerwanie passy 3. walk bez zwycięstwa. Zawodnik z Sosnowca jeszcze w tym roku stoczył wygraną walkę w boksie\, a teraz czas na powrót po ponad rocznej przerwie do MMA! \nJego oponentem będzie poznaniak\, Dagomir Zimmer. Dla niego będzie to z kolei powrót po 4 latach do MMA\, gdzie dotychczas stoczył 6 zawodowych pojedynków. Przegrywał dwukrotnie – za każdym razem przez decyzję\, – a zwyciężał czterokrotnie. „Dago” słynie ze świetnego parteru i wszystkie wygrane odnosił przez duszenie. \nKursy bukmacherskie na galę Babilon MMA 31\nGalę Babilon MMA 31 obstawisz u bukmachera eFortuna.pl! Już przy rejestracji otrzymujesz darmowe 20 zł! Dodatkowo na start przygotowano specjalny BONUS i ZAKŁAD BEZ RYZYKA aż do 600 zł! \nZasady są proste. Jeżeli twój pierwszy kupon będzie zwycięski otrzymujesz wygraną\, jeżeli przegrasz Fortuna zwróci Ci wkład\, maksymalnie do 600 zł na konto gracza. Możesz dodać na swój kupon jakiekolwiek rozgrywki sportowe i obstawić za dowolna kwotę\, a jeśli tym razem typerskie przeczucie Cię zawiedzie otrzymasz zwrot postawionej kwoty\, który możesz wykorzystać na grę. \n-> Gram z Fortuną! Odbieram bonus\n \nKarta walk Babilon MMA 31: Błeszyński vs. Zimmer\nWalka wieczoru: \n\nAdrian „Ares” Błeszyński (9-5-1\, 7 KO\, 1 SUB) – Dagomir Zimmer (4-2\, 4 SUB)\n\nPozostałe walki: \n\nJan „Iron” Lodzik – Maciej Zembik – walka w K1\nBartłomiej Kopera (10-7\, 7 SUB) – Jesus Ocampos (8-6-1NC\, 2 KO\, 2 SUB)\nPiotr Drozdowski (4-5\, 1 KO\, 2 SUB) – Paweł Całkowski (0-1)\nSzymon Rakowicz (3-2\, 1 KO\, 2 SUB) – Adam Łazowski (2-6\, 1 KO\, 1 SUB)\nMaciej Smokowski (1-2\, 1 KO) – Mateusz Paskuda (0-1)\nMichał Bednarski (0-0) – Paweł Oleszczuk (0-0)\nJakub Szklarczyk vs Mariusz Witkowski – walka semi-pro\nDaniel Maladyn vs Rafał Radosz – walka semi-pro\n\nOstatnia modyfikacja: 28.10.2022 r.
URL:https://strefamma.pl/event/babilon-mma-31-bleszynski-vs-zimmer/
LOCATION:Hala Widowiskowo-Sportowa\, Sportowa 29\, Grodzisk Mazowiecki\, Mazowieckie\, 05-825\, Poland
ATTACH;FMTTYPE=image/png:https://strefamma.pl/wp-content/uploads/2022/10/Babilon-MMA-31.png
END:VEVENT
END:VCALENDAR