BEGIN:VCALENDAR
VERSION:2.0
PRODID:-//StrefaMMA.pl - Portal sportów walki - ECPv5.16.3.1//NONSGML v1.0//EN
CALSCALE:GREGORIAN
METHOD:PUBLISH
X-ORIGINAL-URL:https://strefamma.pl
X-WR-CALDESC:Wydarzenia dla StrefaMMA.pl - Portal sportów walki
REFRESH-INTERVAL;VALUE=DURATION:PT1H
X-Robots-Tag:noindex
X-PUBLISHED-TTL:PT1H
BEGIN:VTIMEZONE
TZID:Europe/Warsaw
BEGIN:DAYLIGHT
TZOFFSETFROM:+0100
TZOFFSETTO:+0200
TZNAME:CEST
DTSTART:20220327T010000
END:DAYLIGHT
BEGIN:STANDARD
TZOFFSETFROM:+0200
TZOFFSETTO:+0100
TZNAME:CET
DTSTART:20221030T010000
END:STANDARD
END:VTIMEZONE
BEGIN:VEVENT
DTSTART;TZID=Europe/Warsaw:20221021T200000
DTEND;TZID=Europe/Warsaw:20221021T233000
DTSTAMP:20260422T181147
CREATED:20221012T121358Z
LAST-MODIFIED:20221021T151737Z
UID:53742-1666382400-1666395000@strefamma.pl
SUMMARY:WOTORE 6
DESCRIPTION:Już 21 października odbędzie się 6 edycja gali WOTORE. Ponownie zobaczymy 8-osobowy turniej na gołe pięści oraz emocjonujące superfighty! \n-> WYKUP DOSTĘP DO GALI WOTORE 6\nW walce wieczoru kibiców czeka wielki rewanż pomiędzy Denisem Labrygą i Piotrem Więcławskim. Pierwszy pojedynek zawodnicy stoczyli na Wotore 4. Obaj byli mocno porozbijani\, ale żaden nie miał zamiaru odpuścić. W końcu w drugiej odsłonie Labryga zasypał swojego rywala na zmianę potężnymi łokciami i ciosami\, a sędzia przerwał pojedynek. Oprócz tego odbędzie się też finał turnieju WOTORE 5. Wielkie emocje wzbudzi również niemalże freak fightowe zestawienie – Marcin Najman vs. Paweł Jóźwiak. Ten pojedynek wyjątkowo nie odbędzie się na gołe pięści\, a w specjalnych owijkach. Panowie mocno promowali swoje starcie w mediach i na pewno dadzą z siebie wszystko! \n-> KUP WOTORE 6 PPV\nKursy bukmacherskie na galę WOTORE 6\n\nGalę WOTORE 6obstawisz u bukmachera eFortuna.pl! Na start przygotowano specjalny BONUS i ZAKŁAD BEZ RYZYKA aż do 600 zł! \n\n\n\nZasady są proste. Jeżeli twój pierwszy kupon będzie zwycięski otrzymujesz wygraną\, jeżeli przegrasz Fortuna zwróci Ci wkład\, maksymalnie do 600 zł na konto gracza. Możesz dodać na swój kupon jakiekolwiek rozgrywki sportowe i obstawić za dowolna kwotę\, a jeśli tym razem typerskie przeczucie Cię zawiedzie otrzymasz zwrot postawionej kwoty\, który możesz wykorzystać na grę. \n\n\n\n-> Gram z Fortuną! Odbieram bonus\n  \n \nKarta walk WOTORE 6\nWalka wieczoru: \n\nDenis Labryga (105 kg) vs. Piotr Więcławski (105 kg)\n\nSuperfighty: \n\nRaul Joshua Stir (89 kg) vs. Bartosz „Ufol” Kwiatkowski (89 kg) – finał turnieju WOTORE 5\nMarcin „El Testosteron” Najman (118 kg) vs. Paweł Jóźwiak (107 kg)\nJędrzej Durski (85 kg) vs. Paweł „Polski Wiking” Gołębiewski (80 kg)\nPatryk Hebel (80 kg) vs. Franco Tenaglia (78 kg)\n\nZawodnicy turniejowi: \n\nKrzysztof Szustak (88 kg) vs. Allal „The Inquisitor” Hamza (81 kg)\nDariusz Sobczak (97 kg) vs. Krzysztof Zaradny (91 kg)\nArtur Piekutowski (97 kg) vs. Mateusz Grzegorzewski (110 kg)\nMichał „Kornik” Kornacki (89 kg) vs. Fabian Rulewski (106 kg)\n\nOstatnia modyfikacja: 21.10.2022 r
URL:https://strefamma.pl/event/wotore-6/
LOCATION:Stara Fabryka Papieru\, ul. Mirkowska 45\, Konstancin-Jeziorna\, Mazowieckie\, Poland
ATTACH;FMTTYPE=image/png:https://strefamma.pl/wp-content/uploads/2022/10/WOTORE-6-PLAKAT.png
END:VEVENT
END:VCALENDAR