BEGIN:VCALENDAR
VERSION:2.0
PRODID:-//StrefaMMA.pl - Portal sportów walki - ECPv5.16.3.1//NONSGML v1.0//EN
CALSCALE:GREGORIAN
METHOD:PUBLISH
X-ORIGINAL-URL:https://strefamma.pl
X-WR-CALDESC:Wydarzenia dla StrefaMMA.pl - Portal sportów walki
REFRESH-INTERVAL;VALUE=DURATION:PT1H
X-Robots-Tag:noindex
X-PUBLISHED-TTL:PT1H
BEGIN:VTIMEZONE
TZID:Europe/Warsaw
BEGIN:DAYLIGHT
TZOFFSETFROM:+0100
TZOFFSETTO:+0200
TZNAME:CEST
DTSTART:20220327T010000
END:DAYLIGHT
BEGIN:STANDARD
TZOFFSETFROM:+0200
TZOFFSETTO:+0100
TZNAME:CET
DTSTART:20221030T010000
END:STANDARD
END:VTIMEZONE
BEGIN:VEVENT
DTSTART;TZID=Europe/Warsaw:20221001T190000
DTEND;TZID=Europe/Warsaw:20221002T013000
DTSTAMP:20260422T181144
CREATED:20220828T081534Z
LAST-MODIFIED:20220928T111616Z
UID:48256-1664650800-1664674200@strefamma.pl
SUMMARY:Prime Show MMA 3: Street Fighter
DESCRIPTION:Nowa siła w świecie freak fightów nie zwalnia! Już w sobotę 1 października odbędzie się gala Prime Show MMA 3: Street Fighter! \n-> Oglądaj PRIME 3 na żywo! \nPrime Show MMA szturmem weszło na scenę i nie zamierza zwalniać tempa! Federacja po raz kolejny zaskakuje kartą walk\, na której nie brak interesujących zestawień! Przede wszystkim na uwagę zasługują wypożyczenia: Piotr Pająk znany z kanału „Podróże Wojownika” zmierzy się w formule bokserskiej z… zawodowym fighterem MMA! Prime wypożyczyło bowiem dobrze znanego z KSW Daniela Rutkowskiego! \nNa Prime Show MMA 3 zadebiutuje też Mateusz Leśniak\, czyli popularny „Tarzan”. Oprócz niego swój pojedynek stoczy… Michał Cichy! Dziennikarz i prowadzący konferencje Prime Show MMA zmierzy się z Adrianem Ciosem. \nTypy i kursy bukmacherskie na Prime Show MMA 3\nGalę Prime Show MMA 3 obstawisz tylko u bukmachera eFortuna.pl! Na start przygotowano specjalny BONUS i ZAKŁAD BEZ RYZYKA aż do 600 zł! \nZasady są proste. Jeżeli twój pierwszy kupon będzie zwycięski otrzymujesz wygraną\, jeżeli przegrasz Fortuna zwróci Ci wkład\, maksymalnie do 600 zł na konto gracza. Możesz dodać na swój kupon jakiekolwiek rozgrywki sportowe i obstawić za dowolna kwotę\, a jeśli typerskie przeczucie Cię zawiedzie przy okazji gali Prime Show MMA 3: Street Fighter\, otrzymasz zwrot postawionej kwoty\, który możesz wykorzystać na grę. \n \nKarta walk Prime Show MMA 3: Street Fighter\nWalka wieczoru: \n\nMartyna „Pysia” Zbirańska vs. Paulina Hornik\n\nKarta główna: \n\nPiotr Pająk vs. Daniel „Rutek” Rutkowski – walka w boksie 4×3 minuty\nŁukasz „Kamerzysta” Wawrzyniak vs. Kuba Lasik – walka w budce telefonicznej\nMichał „Bagietka” Gorzelańczyk vs. Patryk „Robalini” Śliwa\nDagmara Szewczyk vs. Dominika Rybak\nKuba „Kubaoxo Armada vs. McKsiążę – walka w K-1\nSebastian „Ztrolowany” Nowak vs. Maciej Rataj\nMikołaj „Vandal” Rdzanek vs. Tomasz Olejnik – walka w K-1\nWiola „Wiolka” Kotelecka vs. Magdalena „Maluba” Lubacz\nMichał Cichy vs. Adrian Cios\nMateusz „Tarzan” Leśniak vs. Kacper „Kajmano” Kabara\nJan Kempisty vs. Maciej „Big Jack” Jarema\n\nOstatnia modyfikacja: 28.09.2022 r.
URL:https://strefamma.pl/event/prime-show-mma-3-street-fighter/
LOCATION:Radomskie Cntrum Sportu\, Radom\, Radom\, Poland
ATTACH;FMTTYPE=image/png:https://strefamma.pl/wp-content/uploads/2022/08/Prime-Show-MMA-3-Street-Fighter.png
END:VEVENT
BEGIN:VEVENT
DTSTART;TZID=Europe/Warsaw:20221002T000000
DTEND;TZID=Europe/Warsaw:20221002T080000
DTSTAMP:20260422T181144
CREATED:20220828T114936Z
LAST-MODIFIED:20220928T140605Z
UID:48297-1664668800-1664697600@strefamma.pl
SUMMARY:UFC Vegas 61: Dern vs. Yan
DESCRIPTION:W nocy z soboty 1 października na niedzielę 2 października odbędzie się kolejna gala w UFC Apex. Na UFC Vegas 61 do oktagonu powróci Krzysztof Jotko\, który pojawi się w co-main evencie! \nPolski średni zaliczył przed kilkoma miesiącami dobry występ\, gdzie zdominował Geralda Meerschaerta na przestrzeni trzech rund. Na UFC Vegas 61 Krzysztof Jotko spotka się z Brendandem Allenem\, który ma serię 4-1 w pięciu ostatnich walkach. Amerykanin przegrał jedynie z będącym w niezłym gazie Chrisem Curtisem przez TKO. \nNa gali w UFC Apex zobaczymy dwa kapitalne pojedynki w wadze ciężkiej\, o zgoła różnej stylistyce. Jairzinho Rozenstruik podejmie Chrisa Daukausa\, a Aleksei Oleinik – Ilira Latifiego. \nTypy i kursy bukmacherskie na UFC Vegas 61: Dern vs. Yan\nCałą galę UFC Vegas 61 obejrzycie NA ŻYWO u bukmachera eFortuna.pl! Dodatkowo dla nowych użytkowników na start przygotowano specjalny BONUS i ZAKŁAD BEZ RYZYKA aż do 600 zł! \nJeżeli twój pierwszy kupon będzie zwycięski otrzymujesz wygraną\, a jeśli przegrasz Fortuna zwróci Ci wkład\, maksymalnie do 600 zł na konto gracza. Możesz dodać na swój kupon jakiekolwiek rozgrywki sportowe i obstawić za dowolna kwotę\, a jeśli typerskie przeczucie Cię zawiedzie przy okazji UFC Vegas 61\, otrzymasz zwrot postawionej kwoty\, który możesz wykorzystać na grę. \n \nKarta walk UFC Vegas 61: Dern vs. Yan\nWalka wieczoru: \n\nMackenzie Dern (12-2-0) vs. Xiaonan Yan (15-3-0)\n\nKarta główna: \n\nRandy Brown (15-4-0) vs. Francisco Trinaldo (28-8-0)\nRaoni Barcelos (16-3-0) vs. Trevin Jones (13-8-0)\nSodiq Yusuff (12-2-0) vs. Don Shainis (13-3-0)\nJohn Castañeda (19-5-0) vs. Daniel Santos (9-2-0)\nMike Davis (9-2-0) vs. Viacheslav Borshchev (6-2-0)\n\nKarta wstępna: \n\nAleksei Oleinik (60-16-1) vs. Ilir Latifi (15-8-0)\nJessica Penne (14-6-0) vs. Tabatha Ricci (7-1-0)\nJoaquim Silva (11-3-0) vs. Jesse Ronson (21-11-0)\nBrendan Allen (19-5-0) vs. Krzysztof Jotko (24-5-0)\nMaxim Grishin (32-9-2) vs. Philipe Lins (15-5-0)\nJulija Stoliarenko (10-6-1) vs. Chelsea Chandler (4-1-0)\nRandy Costa (6-3-0) vs. Guido Cannetti (9-6-0)\n\nOstatnia modyfikacja: 12.09.2022 r
URL:https://strefamma.pl/event/ufc-vegas-61-dern-vs-yan/
LOCATION:Las Vegas\, UFC Apex
ATTACH;FMTTYPE=image/png:https://strefamma.pl/wp-content/uploads/2022/08/UFC-Vegas-61-plakat.png
END:VEVENT
END:VCALENDAR