BEGIN:VCALENDAR
VERSION:2.0
PRODID:-//StrefaMMA.pl - Portal sportów walki - ECPv5.16.3.1//NONSGML v1.0//EN
CALSCALE:GREGORIAN
METHOD:PUBLISH
X-ORIGINAL-URL:https://strefamma.pl
X-WR-CALDESC:Wydarzenia dla StrefaMMA.pl - Portal sportów walki
REFRESH-INTERVAL;VALUE=DURATION:PT1H
X-Robots-Tag:noindex
X-PUBLISHED-TTL:PT1H
BEGIN:VTIMEZONE
TZID:Europe/Warsaw
BEGIN:DAYLIGHT
TZOFFSETFROM:+0100
TZOFFSETTO:+0200
TZNAME:CEST
DTSTART:20220327T010000
END:DAYLIGHT
BEGIN:STANDARD
TZOFFSETFROM:+0200
TZOFFSETTO:+0100
TZNAME:CET
DTSTART:20221030T010000
END:STANDARD
END:VTIMEZONE
BEGIN:VEVENT
DTSTART;TZID=Europe/Warsaw:20220923T183000
DTEND;TZID=Europe/Warsaw:20220924T030000
DTSTAMP:20260423T001738
CREATED:20220828T091524Z
LAST-MODIFIED:20220919T124845Z
UID:48269-1663957800-1663988400@strefamma.pl
SUMMARY:Bellator 285: Henderson vs. Queally
DESCRIPTION:Już 23 września odbędzie się kolejna gala w stoli Irlandii! Bellator 285 to niezwykłe emocje i hitowe nazwiska. \nW walce wieczoru pojawi się były mistrz wagi lekkiej UFC\, Benson Henderson. Popularny „Smooth” niespecjalnie dobrze radzi sobie w Bellatorze\, który reprezentuje od 2016 roku. Amerykanin w 12. walkach zaliczył rekord 6-6. Jego przeciwnikiem będzie irlandzki wojownik i niedoszły champion kategorii lekkiej\, Peter Queally. \nW trzeciej walce pod banderą tej federacji pojawi się także Yoel Romero. 45-letni Kubańczyk przegrał z Philem Davisem niejednogłośną decyzją\, ale przed trzema miesiącami skończył w ostatniej sekundzie walki Alexa Polizziego. Tym razem „Soldier of God” zmierzy się z niezwykle doświadczonym i znanym chociażby z KSW Melvinem Manhoefem. \nKursy bukmacherskie na Bellator 285: Henderspm vs. Queally\nCałą galę Bellator 285 obstawicie u bukmachera eFortuna.pl! Dodatkowo dla nowych użytkowników na start przygotowano specjalny BONUS i ZAKŁAD BEZ RYZYKA aż do 600 zł! \nJeżeli twój pierwszy kupon będzie zwycięski otrzymujesz wygraną. Jeśli przegrasz\, Fortuna zwróci Ci wkład\, maksymalnie do 600 zł na konto gracza. Możesz dodać na swój kupon jakiekolwiek rozgrywki sportowe i obstawić za dowolna kwotę\, a jeśli typerskie przeczucie Cię zawiedzie przy okazji Bellator 285\, otrzymasz zwrot postawionej kwoty\, który możesz wykorzystać na grę. \n \nKarta walk Bellator 285: Henderson vs. Queally\nWalka wieczoru: \n\nBenson Henderson (29-11-0) vs. Peter Queally (13-6-1)\n\nKarta główna: \n\nYoel Romero (14-6-0) vs. Melvin Manhoef (32-15-1)\nCiaran Clarke (5-0-0) vs. Georges Sasu (4-2-0)\nMads Burnell (16-4-0) vs. Pedro Carvalho (12-6-0)\nLeah McCourt (6-2-0) vs. Dayana Silva (10-7-0)\n\nKarta wstępna: \n\nGeorgi Karakhanyan (31-13-1) vs. Kane Mousah (13-4-0)\nBrian Moore (14-9-0) vs. Arivaldo Silva (19-10-0)\nDarragh Kelly (1-0-0) vs. Kye Stevens (3-1-0)\nAlex Bodnar (4-1-0) vs. Kenny Mokhonoana (3-0-0)\nKarl Albrektsson (13-3-0) vs. Karl Moore (9-2-0)\nDante Schiro (9-3-0) vs. Luca Poclit (7-1-0)\nAsaël Adjoudj (3-1-0) vs. Jordan Barton (7-2-1)\nKirill Sidelnikov (14-7-0) vs. Kasim Aras (7-1-0)\n\nOstatnia modyfikacja: 19.09.2022 r
URL:https://strefamma.pl/event/bellator-285-henderson-vs-queally/
LOCATION:3Arena Dublin\, North Wall Quay\, Dublin 1\, Dublin\, D01 EW90\, Ireland
ATTACH;FMTTYPE=image/png:https://strefamma.pl/wp-content/uploads/2022/08/Bellator-285.png
END:VEVENT
BEGIN:VEVENT
DTSTART;TZID=Europe/Warsaw:20220923T220000
DTEND;TZID=Europe/Warsaw:20220924T020000
DTSTAMP:20260423T001738
CREATED:20220919T133716Z
LAST-MODIFIED:20220919T133716Z
UID:51129-1663970400-1663984800@strefamma.pl
SUMMARY:Cage Warriors 143
DESCRIPTION:Brytyjska organizacja Cage Warriors postanowiła zorganizować kolejne show w Stanach Zjednoczonych. Na Cage Warriors 143 zobaczymy aż 9 pojedynków. \nKursy bukmacherskie na Cage Warriors 143\nCałą galę Cage Warriors 143 obstawicie u bukmachera eFortuna.pl! Dodatkowo dla nowych użytkowników na start przygotowano specjalny BONUS i ZAKŁAD BEZ RYZYKA aż do 600 zł! \nJeżeli twój pierwszy kupon będzie zwycięski otrzymujesz wygraną. Jeśli przegrasz\, Fortuna zwróci Ci wkład\, maksymalnie do 600 zł na konto gracza. Możesz dodać na swój kupon jakiekolwiek rozgrywki sportowe i obstawić za dowolna kwotę\, a jeśli typerskie przeczucie Cię zawiedzie przy okazji Cage Warriors 143\, otrzymasz zwrot postawionej kwoty\, który możesz wykorzystać na grę. \n \nKarta walk Cage Warriors 143\nWalka wieczoru: \n\nErick Sánchez (10-6-0) vs. James Lynch (5-2-0)\n\nPozostałe walki: \n\nElijah Harris (4-1-0) vs. Trey Williams (5-3-0)\nMatt Hampton (1-1-0) vs. Bill Wilson (1-0-0)\nJeffrey Craig (2-0-0) vs. Chasen Blair (2-0-0)\nTyler Escoto (1-1-0) vs. Orlando Sanders (0-1-0)\nJohn De Jesus (14-10-0) vs. Brandon Laroco (6-3-0)\nBrian Mitchell (3-1-0) vs. Roberto Hernandez (4-1-0)\nJordan Bailey (7-5-0) vs. JJ Ambrose (35-9-0)\nDamon Wilson (4-0-0) vs. James Settle (3-2-0)\n\nOstatnia modyfikacja 19.09.2022 r.
URL:https://strefamma.pl/event/cage-warriors-143/
LOCATION:Humphrey’s by The Bay\, San Diego\, United States
ATTACH;FMTTYPE=image/png:https://strefamma.pl/wp-content/uploads/2022/09/Cage-Warriors-143.png
END:VEVENT
END:VCALENDAR