BEGIN:VCALENDAR
VERSION:2.0
PRODID:-//StrefaMMA.pl - Portal sportów walki - ECPv5.16.3.1//NONSGML v1.0//EN
CALSCALE:GREGORIAN
METHOD:PUBLISH
X-ORIGINAL-URL:https://strefamma.pl
X-WR-CALDESC:Wydarzenia dla StrefaMMA.pl - Portal sportów walki
REFRESH-INTERVAL;VALUE=DURATION:PT1H
X-Robots-Tag:noindex
X-PUBLISHED-TTL:PT1H
BEGIN:VTIMEZONE
TZID:Europe/Warsaw
BEGIN:DAYLIGHT
TZOFFSETFROM:+0100
TZOFFSETTO:+0200
TZNAME:CEST
DTSTART:20220327T010000
END:DAYLIGHT
BEGIN:STANDARD
TZOFFSETFROM:+0200
TZOFFSETTO:+0100
TZNAME:CET
DTSTART:20221030T010000
END:STANDARD
END:VTIMEZONE
BEGIN:VEVENT
DTSTART;TZID=Europe/Warsaw:20220917T190000
DTEND;TZID=Europe/Warsaw:20220918T010000
DTSTAMP:20260423T001729
CREATED:20220725T075609Z
LAST-MODIFIED:20220815T114821Z
UID:44733-1663441200-1663462800@strefamma.pl
SUMMARY:High League 4
DESCRIPTION:Już 17 września odbędzie się kolejna kapitalna gala freak fightów. Na High League 4 na pewno nie zabraknie wielkich emocji! \nJednym z największych wydarzeń nadchodzącej gali High League 4 na pewno będzie kolejny pojedynek Denisa Załęckiego. Torunianin w kolejnej walce na zasadach MMA zmierzy się z kolejnym głośnym nazwiskiem. Rywalem „Bad Boya” będzie były pretendent do pasa mistrzowskiego WBC i zawodnik KSW – Artur Szpilka! \nW main evencie Natalia „Natsu” Kaczmarczyk da rewanż Lexy Chaplin\, a tym razem stawką ich pojedynku będzie pas mistrzowski wagi muszej kobiet w High League! \nTypy i kursy bukmacherskie na galę High League 4\nGalę HIGH League 4 obstawisz wyłącznie u bukmachera eFortuna.pl! Na start przygotowano specjalny BONUS i ZAKŁAD BEZ RYZYKA aż do 600 zł! \nZasady są proste. Jeżeli twój pierwszy kupon będzie zwycięski otrzymujesz wygraną\, jeżeli przegrasz Fortuna zwróci Ci wkład\, maksymalnie do 600 zł na konto gracza. Możesz dodać na swój kupon jakiekolwiek rozgrywki sportowe i obstawić za dowolna kwotę\, a jeśli tym razem typerskie przeczucie Cię zawiedzie otrzymasz zwrot postawionej kwoty\, który możesz wykorzystać na grę. \n \nKarta walk High League 4\nWalka wieczoru: \n\nNatalia „Natsu” Karczmarczyk vs. Lexy Chaplin – o pas wagi muszej High League\n\nPozostałe walki: \n\nArtur „Szpila” Szpilka vs. Denis „Bad Boy” Załęcki\nMateusz „Mini Majk” Krzyżanowski vs. Salim Chiboub – o pas mistrzowski niskorosłych High League\nAmadeusz „Ferrari” Roślik vs. Paweł „Scarface” Bomba\nMaja Staśko vs. Ewa „Mrs. Honey” Wyszatycka\nJakub Nowaczkiewicz vs. Cezary „Czaro” Nykiel\nJakub „Holak” Krawczyk-Holak vs. Jakub „Kubx” Świtała\nJose „Josef Bratan” Simao vs. Krystian „Macias” Maciaszczyk – na zasadach K-1 w małych rękawicach\nKonrad Karwat vs. Radosław Słodkiewicz\n\nOstatnia modyfikacja: 11.08.2022 r.
URL:https://strefamma.pl/event/high-league-4/
LOCATION:PreZero Arena Gliwice\, Akademicka 50\, Gliwice\, Poland
ATTACH;FMTTYPE=image/png:https://strefamma.pl/wp-content/uploads/2022/07/szpilak-denis.png
END:VEVENT
BEGIN:VEVENT
DTSTART;TZID=Europe/Warsaw:20220917T220000
DTEND;TZID=Europe/Warsaw:20220918T050000
DTSTAMP:20260423T001729
CREATED:20220828T112711Z
LAST-MODIFIED:20220828T112711Z
UID:48294-1663452000-1663477200@strefamma.pl
SUMMARY:UFC Vegas 60: Sandhagen vs. Song
DESCRIPTION:Gala UFC Vegas 60 odbędzie się 17 września. Najważniejszym wydarzeniem tego wieczoru będzie starcie Cory’ego Sandhagena z Yadong Songiem. \nPopularny „The Sandman” powraca do oktagonu po porażce przez decyzję w walce o tymczasowy pas dywizji koguciej. Amerykanin nie miał szans w starciu z Petrem Yanem i jeśli nadal myśli o rewanżu z Rosjaninem\, to pokonanie Chińczyka będzie pierwszym krokiem ku temu. \nYadong Song znajduje się z kolei na kapitalnej serii trzech kolejnych zwycięstw. W ostatnim występie już w pierwszej rundzie kapitalnie znokautował Marlona Moraesa. Walczący pod pseudonimem „Kung Fu Monkey” zawodnik jest 10. w rankingu dywizji koguciej\, a ewentualne pokonanie czwartego w tym zestawieniu Sandhagena bardzo umocni pozycję Chińczyka w UFC. \nTypy i kursy bukmacherskie na UFC Vegas 60\nCałą galę UFC Vegas 60: Sandhagen vs. Song obejrzycie NA ŻYWO u bukmachera eFortuna.pl! Dodatkowo dla nowych użytkowników na start przygotowano specjalny BONUS i ZAKŁAD BEZ RYZYKA aż do 600 zł! \nJeżeli twój pierwszy kupon będzie zwycięski otrzymujesz wygraną\, a jeśli przegrasz Fortuna zwróci Ci wkład\, maksymalnie do 600 zł na konto gracza. Możesz dodać na swój kupon jakiekolwiek rozgrywki sportowe i obstawić za dowolna kwotę\, a jeśli typerskie przeczucie Cię zawiedzie przy okazji UFC Vegas 60\, otrzymasz zwrot postawionej kwoty\, który możesz wykorzystać na grę. \nWydarzenie zostanie zaktualizowane po pojawieniu się kursów na stronie bukmachera. \nKarta walk UFC Vegas 60: Sandhagen vs. Song\nWalka wieczoru: \nCory Sandhagen (14-4-0) vs. Yadong Song (19-6-1) \nKarta główna: \n\nGiga Chikadze (14-3-0) vs. Sodiq Yusuff (12-2-0)\nChidi Njokuani (22-7-0) vs. Gregory Rodrigues (12-4-0)\nTanner Boser (20-8-1) vs. Rodrigo Nascimento (8-1-0)\nAspen Ladd (9-3-0) vs. Sara McMann (13-6-0)\n\nKarta wstępna: \n\nTrey Ogden (15-5-0) vs. Daniel Zellhuber (12-0-0)\nNikolas Motta (12-4-0) vs. Cameron VanCamp (15-6-1)\nTrevin Giles (14-4-0) vs. Louis Cosce (7-1-0)\nDamon Jackson (21-4-1) vs. Pat Sabatini (17-3-0)\nLoma Lookboonmee (6-3-0) vs. Diana Belbiţă (14-7-0)\nAnthony Hernandez (9-2-0) vs. Marc-André Barriault (14-5-0)\nAlen Amedovski (8-3-0) vs. Joseph Pyfer (9-2-0)\nMariya Agapova (10-3-0) vs. Gillian Robertson (10-7-0)\nTony Gravely (23-7-0) vs. Javid Basharat (12-0-0)\n\nOstatnia modyfikacja: 28.08.2022 r
URL:https://strefamma.pl/event/ufc-vegas-60-sandhagen-vs-song/
LOCATION:Las Vegas\, UFC Apex
ATTACH;FMTTYPE=image/png:https://strefamma.pl/wp-content/uploads/2022/08/UFC-Vegas-60.png
END:VEVENT
END:VCALENDAR