BEGIN:VCALENDAR
VERSION:2.0
PRODID:-//StrefaMMA.pl - Portal sportów walki - ECPv5.16.3.1//NONSGML v1.0//EN
CALSCALE:GREGORIAN
METHOD:PUBLISH
X-WR-CALNAME:StrefaMMA.pl - Portal sportów walki
X-ORIGINAL-URL:https://strefamma.pl
X-WR-CALDESC:Wydarzenia dla StrefaMMA.pl - Portal sportów walki
REFRESH-INTERVAL;VALUE=DURATION:PT1H
X-Robots-Tag:noindex
X-PUBLISHED-TTL:PT1H
BEGIN:VTIMEZONE
TZID:Europe/Warsaw
BEGIN:DAYLIGHT
TZOFFSETFROM:+0100
TZOFFSETTO:+0200
TZNAME:CEST
DTSTART:20220327T010000
END:DAYLIGHT
BEGIN:STANDARD
TZOFFSETFROM:+0200
TZOFFSETTO:+0100
TZNAME:CET
DTSTART:20221030T010000
END:STANDARD
END:VTIMEZONE
BEGIN:VEVENT
DTSTART;TZID=Europe/Warsaw:20220910T180000
DTEND;TZID=Europe/Warsaw:20220911T010000
DTSTAMP:20260423T001614
CREATED:20220828T084045Z
LAST-MODIFIED:20220828T084045Z
UID:48265-1662832800-1662858000@strefamma.pl
SUMMARY:KSW 74: De Fries vs. Prasel
DESCRIPTION:W sobotę 10 września czekają nas ogromne emocje! Na KSW 74 w walce wieczoru dojdzie do starcia o pas mistrzowski królewskiej kategorii wagowej. \nShow\, które odbędzie się w Ostrowie Wielkopolskim zapowiada się niesamowicie! Tomasz Romanowski po szybkim skończeniu Andrzeja Grzebyka zdecydował się jednak zmienić dywizję na średnią. „Tommy” mocno przestrzelił wagę przy okazji KSW 72\, a na KSW 74 jego oponentem będzie Cezary Kęsik. \nOprócz tego Damian Janikowski przywita w największej polskiej organizacji MMA byłego zawodnika UFC\, Toma Breese’a. Do tego do oktagonu powrócą Anita Bekus i Michał Kita\, ale najważniejszym wydarzeniem będzie walka o pas królewskiej kategorii wagowej! Niepokonany w KSW Phil De Fries zmierzy się z Ricardo Praselem\, który pozytywnie zaskoczył wszystkich dwoma szybkimi wygranymi przed czasem. Brazylijczyk w ostatnim występie poddał Daniela Omielańczuka\, ale z Brytyjczykiem nie będzie tak łatwo! \nTypy i kursy bukmacherskie na KSW 74. Obstawiaj w Fortunie!\nCałą galę KSW 74: De Fries vs. Prasel obstawicie u bukmachera eFortuna.pl! Na start przygotowano dla Was specjalny BONUS i ZAKŁAD BEZ RYZYKA aż do 600 zł! Jeżeli twój pierwszy kupon będzie zwycięski otrzymujesz wygraną\, a jeśli przegrasz Fortuna zwróci Ci wkład\, maksymalnie do 600 zł na konto gracza. Możesz dodać na swój kupon jakiekolwiek rozgrywki sportowe i obstawić za dowolna kwotę\, a jeśli typerskie przeczucie Cię zawiedzie przy okazji KSW 74\, otrzymasz zwrot postawionej kwoty\, który możesz wykorzystać na grę. \n \nKarta walk KSW 74: De Fries vs. Prasel\nWalka wieczoru: \n\n120\,2 kg/265 lb: Phil De Fries (21-6-0) vs. Ricardo Prasel (13-3-0) – walka o pas mistrzowski wagi ciężkiej KSW\n\nKarta główna: \n\n83\,9 kg/185 lb: Tom Breese (14-3-0) vs. Damian Janikowski (7-4-0)\n120\,2 kg/265 lb: Darko Stošić (16-5-0) vs. Michał Kita (21-14-1)\n83\,9 kg/185 lb: Cezary Kęsik (13-2-0) vs. Tomasz Romanowski (16-8-0)\n61\,2 kg/135 lb: Werlleson Martins (16-5-0) vs. Paweł Polityło (7-3-0)\n77\,1 kg/170 lb: Emil Weber Meek (9-6-0) vs. Kacper Koziorzębski (8-4-0)\n52\,2 kg/115 lb: Sofiia Bagishvili (6-1-0) vs. Anita Bekus (6-2-0)\n\nOstatnia modyfikacja: 28.08.2022 r
URL:https://strefamma.pl/event/ksw-74-de-fries-vs-prasel-2/
LOCATION:Arena Ostrów\, Andrzeja Kowalczyka 1\, Ostrów Wielkopolski\, Wielkopolska\, 63-400\, Poland
ATTACH;FMTTYPE=image/png:https://strefamma.pl/wp-content/uploads/2022/08/KSW-74-De-Fries-vs.-Prasel-1.png
END:VEVENT
BEGIN:VEVENT
DTSTART;TZID=Europe/Warsaw:20220911T000000
DTEND;TZID=Europe/Warsaw:20220911T090000
DTSTAMP:20260423T001614
CREATED:20220814T111509Z
LAST-MODIFIED:20220909T102957Z
UID:46398-1662854400-1662886800@strefamma.pl
SUMMARY:UFC 279: Chimaev vs. Diaz
DESCRIPTION:W nocy z soboty 10 września na niedzielę 11 września po raz ostatni zobaczymy Nate’a Diaza w oktagonie. Amerykanin na UFC 279 spotka się z Khamzatem Chimaevem. \nUrodzony w Czeczeni Chimaev to jedna z największych wschodzących gwiazd największej federacji MMA na świecie. Szwedzki „Wilk” nie ma sobie równych i wygrał wszystkie 11 pojedynków w karierze\, a dopiero ostatni zakończył się decyzją. \nNate Diaz od dawna starał się o ostatnią walkę w UFC. Amerykanin występuje w największej federacji MMA na świecie nieprzerwanie od 2007 roku\, kiedy to wygrał 5. sezon The Ultimate Fightera. \nKursy bukmacherskie na galę UFC 279. Obstaw w Fortunie i oglądaj na żywo!\nCałą galę UFC 279: Chimaev vs. Diaz obejrzycie NA ŻYWO u bukmachera eFortuna.pl! Dodatkowo dla nowych użytkowników na start przygotowano specjalny BONUS i ZAKŁAD BEZ RYZYKA aż do 600 zł! \nJeżeli twój pierwszy kupon będzie zwycięski otrzymujesz wygraną\, a jeśli przegrasz Fortuna zwróci Ci wkład\, maksymalnie do 600 zł na konto gracza. Możesz dodać na swój kupon jakiekolwiek rozgrywki sportowe i obstawić za dowolna kwotę\, a jeśli typerskie przeczucie Cię zawiedzie przy okazji UFC 279\, otrzymasz zwrot postawionej kwoty\, który możesz wykorzystać na grę. \n \nKarta walk UFC 279: Chimaev vs. Diaz\nWalka wieczoru: \n\nKhamzat Chimaev (11-0-0) vs. Nate Diaz (20-13-0)\n\nKarta główna: \n\nJingliang Li (19-7-0) vs. Tony Ferguson (25-7-0)\nKevin Holland (23-7-0) vs. Daniel Rodriguez (16-2-0)\nIrene Aldana (13-6-0) vs. Macy Chiasson (8-2-0)\nJohnny Walker (18-7-0) vs. Ion Cutelaba (16-7-1)\n\nPozostałe walki: \n\nHakeem Dawodu (13-2-1) vs. Julian Erosa (27-9-0)\nJailton Almeida (16-2-0) vs. Anton Turkalj (8-0-0)\nJamie Pickett (13-7-0) vs. Denis Tiuliulin (10-6-0)\nJake Collier (13-7-0) vs. Chris Barnett (22-8-0)\nNorma Dumont (7-2-0) vs. Danyelle Wolf (1-0-0)\nChad Anheliger (12-5-0) vs. Heili Alateng (15-8-2)\nElise Reed (5-2-0) vs. Melissa Martinez (7-0-0)\nDarian Weeks (5-2-0) vs. Yohan Lainesse (8-1-0)\n\nOstatnia modyfikacja: 09.09.2022 r.
URL:https://strefamma.pl/event/ufc-279-chimaev-vs-diaz/
LOCATION:T-Mobile Arena\, 3780 Las Vegas Blvd S\, Las Vegas\, 89158\, United States
ATTACH;FMTTYPE=image/png:https://strefamma.pl/wp-content/uploads/2022/08/UFC-279.png
END:VEVENT
END:VCALENDAR