BEGIN:VCALENDAR
VERSION:2.0
PRODID:-//StrefaMMA.pl - Portal sportów walki - ECPv5.16.3.1//NONSGML v1.0//EN
CALSCALE:GREGORIAN
METHOD:PUBLISH
X-WR-CALNAME:StrefaMMA.pl - Portal sportów walki
X-ORIGINAL-URL:https://strefamma.pl
X-WR-CALDESC:Wydarzenia dla StrefaMMA.pl - Portal sportów walki
REFRESH-INTERVAL;VALUE=DURATION:PT1H
X-Robots-Tag:noindex
X-PUBLISHED-TTL:PT1H
BEGIN:VTIMEZONE
TZID:Europe/Warsaw
BEGIN:DAYLIGHT
TZOFFSETFROM:+0100
TZOFFSETTO:+0200
TZNAME:CEST
DTSTART:20220327T010000
END:DAYLIGHT
BEGIN:STANDARD
TZOFFSETFROM:+0200
TZOFFSETTO:+0100
TZNAME:CET
DTSTART:20221030T010000
END:STANDARD
END:VTIMEZONE
BEGIN:VEVENT
DTSTART;TZID=Europe/Warsaw:20220902T200000
DTEND;TZID=Europe/Warsaw:20220903T010000
DTSTAMP:20260423T001510
CREATED:20220828T104640Z
LAST-MODIFIED:20220829T175427Z
UID:48283-1662148800-1662166800@strefamma.pl
SUMMARY:GROMDA 10
DESCRIPTION:Czas na krwawy piątek! Jubileuszowa gala GROMDA 10 odbędzie się już 2 września i jak zawsze nie zabraknie wielkich emocji\, potężnych bomb i ciężkich nokautów! \nJuż 2 września w Pionkach w nowym\, mroczniejszym anturażu odbędzie się jubileuszowa edycja GROMDA 10! Tego wieczoru zobaczymy zmagania najtwardszych z najtwardszych\, czyli tych bijoków\, którzy zwyciężyli poprzednie turnieje walk na gołe pięści! \nW drabince turniejowej „Don Diego” zmierzy się z Vasylem Halychem\, który rozbił Tomasza „Zadymę” Gromadzkiego. Jeśli Mateusz Kubiszyn odniesie zwycięstwo\, czeka go finałowe starcie z Bartłomiejem „Balboą” Domalikiem lub z Łukaszem „Goatem” Parobcem. \nGROMDA 10 PPV – Transmisja na żywo\nCałą galę GROMDA 10 obejrzeć można wyłącznie w systemie PAY-PER-VIEW. Należy założyć konto TUTAJ i wykonać test odtwarzacza. Później można przejść do wyboru wariantu\, których GROMDA 10 PPV ma 3: \nBASIC – Cena PPV: 29\,99 zł \n\nStream online w jakości 720p.\nNagranie z gali dostępny na 24h.\n\nPREMIUM – Cena PPV: 34\,99 zł \n\nTransmisja LIVE w jakości 1080p.\nZapis wideo wydarzenia na 7 dni.\n\nVIP – Cena PPV: 39\,99 zł \n\nTransmisja na żywo w jakości 1080p.\nZapis wideo z gali dostępny na 7 dni.\nNagranie z GROMDA 9 na 7 dni od momentu zakupu\n\n-> WYKUP PAY-PER-VIEW GROMDA 10\n\nKarta walk GROMDA 10\nTurniej zwycięzców: \n\nMateusz „Don Diego” Kubiszyn vs. Vasyl Halych\nBartłomiej „Balboa” Domalik vs. Łukasz „Goat” Parobiec\n\nPotwierdzeni uczestnicy GROMDA 10: \n\n„Cygan”\nMiłosz „Wąsu” Wąsik\nSebastian „Scarface” Skiermański\nMarcin „Żelu” Żelechowski\nJan „Tank” Sulecki\nJohn „Big Bad John” Ferguson\n„Dalton”\nKrzysztof „Kaban” Mazurkiewicz\nLiam „Dangerous Davies” Davies\nPatryk „Gleba” Tołkaczewski\n\nOstatnia modyfikacja: 28.08.2022 r
URL:https://strefamma.pl/event/gromda-10/
LOCATION:Gromda Fight Club\, Pionki\, Mazowieckie\, Poland
ATTACH;FMTTYPE=image/png:https://strefamma.pl/wp-content/uploads/2022/08/GROMDA-10.png
END:VEVENT
BEGIN:VEVENT
DTSTART;TZID=Europe/Warsaw:20220903T180000
DTEND;TZID=Europe/Warsaw:20220904T010000
DTSTAMP:20260423T001510
CREATED:20220725T132523Z
LAST-MODIFIED:20220828T135102Z
UID:44817-1662228000-1662253200@strefamma.pl
SUMMARY:UFC Paryż: Gane vs. Tuivasa
DESCRIPTION:Po raz kolejny w te wakacje UFC wraca do Europy\, tym razem z historyczną\, pierwszą galą w stolicy Francji! UFC Paryż to gwarancja efektownych występów najlepszych fighterów i fighterek! \nW walce wieczoru gali UFC Paryż zobaczymy potyczkę czołowych zawodników wagi ciężkiej. Były tymczasowy mistrz tej kategorii i do niedawna niepokonany Ciryl Gane podejmie rozpędzonego faworyta kibiców – Taia Tuivasę! Nie jest to jedyny Aystralijczyk\, który tego wieczoru pojawi się w stolicy Francji. \nDo akcji powróci bowiem były mistrz dywizji średniej – Robert Whittaker. Znakomity zawodnik po raz kolejny chce otrzymać szansę zmierzenia się z Israelem Adesanyą\, a na jego drodze stanie włoski zapaśnik\, Marvin Vettori. \nTypy i kursy bukmacherskie UFC Paryż: Gane vs. Tuivasa\nCałą galę UFC Fight Night: Gane vs. Tuivasa obejrzycie NA ŻYWO u bukmachera eFortuna.pl! Dodatkowo dla nowych użytkowników na start przygotowano specjalny BONUS i ZAKŁAD BEZ RYZYKA aż do 600 zł! \nJeżeli twój pierwszy kupon będzie zwycięski otrzymujesz wygraną\, a jeśli przegrasz Fortuna zwróci Ci wkład\, maksymalnie do 600 zł na konto gracza. Możesz dodać na swój kupon jakiekolwiek rozgrywki sportowe i obstawić za dowolna kwotę\, a jeśli typerskie przeczucie Cię zawiedzie przy okazji UFC Paryż\, otrzymasz zwrot postawionej kwoty\, który możesz wykorzystać na grę. \n \nKarta walk UFC Paryż: Gane vs. Tuivasa\nWalka wieczoru: \n\nCiryl Gane (10-1-0) vs. Tai Tuivasa (15-3-0)\n\nKarta główna: \n\nRobert Whittaker (23-6-0) vs. Marvin Vettori (18-4-1)\nAlessio Di (Chirico 13-6-0) vs. Roman Kopylov (8-2-0)\nNasrat Haqparast (13-5-0) vs. John Makdessi (18-7-0)\nCharles Jourdain (13-5-1) vs. Nathaniel Wood (18-5-0)\n\nPozostałe walki: \n\nDustin Stoltzfus (14-4-0) vs. Abusupiyan Magomedov (24-4-1)\nFares Ziam (12-4-0) vs. Michal Figlak (8-0-0)\nNassourdine Imavov (11-3-0) vs. Joaquin Buckley (15-4-0)\nBenoit Saint-Denis (9-1-0) vs. Gabriel Miranda (16-5-0)\nKhalid Taha (13-4-0) vs. Cristian Quiñonez (16-3-0)\nAilin Perez (7-1-0) vs. Stephanie Egger (7-3-0)\nWilliam Gomis (10-2-0) vs. Jarno Errens (13-3-1)\n\nOstatnia modyfikacja 27.08.2022 r. \n 
URL:https://strefamma.pl/event/ufc-paryz-gane-vs-tuivasa/
LOCATION:Accor Arena\, Paris\, France
ATTACH;FMTTYPE=image/png:https://strefamma.pl/wp-content/uploads/2022/07/UFC-Paryz-Gane-vs.-Tuivasa.png
END:VEVENT
END:VCALENDAR