BEGIN:VCALENDAR
VERSION:2.0
PRODID:-//StrefaMMA.pl - Portal sportów walki - ECPv5.16.3.1//NONSGML v1.0//EN
CALSCALE:GREGORIAN
METHOD:PUBLISH
X-ORIGINAL-URL:https://strefamma.pl
X-WR-CALDESC:Wydarzenia dla StrefaMMA.pl - Portal sportów walki
REFRESH-INTERVAL;VALUE=DURATION:PT1H
X-Robots-Tag:noindex
X-PUBLISHED-TTL:PT1H
BEGIN:VTIMEZONE
TZID:Europe/Warsaw
BEGIN:DAYLIGHT
TZOFFSETFROM:+0100
TZOFFSETTO:+0200
TZNAME:CEST
DTSTART:20220327T010000
END:DAYLIGHT
BEGIN:STANDARD
TZOFFSETFROM:+0200
TZOFFSETTO:+0100
TZNAME:CET
DTSTART:20221030T010000
END:STANDARD
END:VTIMEZONE
BEGIN:VEVENT
DTSTART;TZID=Europe/Warsaw:20220820T190000
DTEND;TZID=Europe/Warsaw:20220821T233000
DTSTAMP:20260423T032818
CREATED:20220712T145515Z
LAST-MODIFIED:20220816T091302Z
UID:43708-1661022000-1661124600@strefamma.pl
SUMMARY:KSW 73: Wrzosek vs. Sarara
DESCRIPTION:20 sierpnia zobaczymy walkę\, na którą czekał każdy polski fan sportów walki! Utytułowani kickboxerzy Arkadiusz Wrzosek i Tomasz Sarara zmierzą się ze sobą na zasadach MMA! \nArkadiusz Wrzosek zamienił duże rękawice na mniejsze i wejdzie do klatki KSW\, by po raz kolejny zaprezentować wszystkim swoje wysokie umiejętności! Polak\, który pokonał żywą legendę kickboxingu Badra Hariego zadebiutuje na KSW 73 w formule MMA. Naprzeciwko stanie inny były kickboxer – Tomasz Sarara\, który ma już za sobą pierwszy pojedynek w mieszanych sztukach walki. Pokazał w nim wielkie serce\, gdzie po dwóch wycieńczających rundach złapał wiatr w żagle i zwyciężył przez TKO w ostatniej odsłonie\, gdy Filip Bradaric odklepał po jego ciosach. \nTypy i kursy bukmacherskie na KSW 73. Obstawiaj w Fortunie!\nCałą galę KSW 73 obstawicie u bukmachera eFortuna.pl! Na start przygotowano dla Was specjalny BONUS i ZAKŁAD BEZ RYZYKA aż do 600 zł! Jeżeli twój pierwszy kupon będzie zwycięski otrzymujesz wygraną\, a jeśli przegrasz Fortuna zwróci Ci wkład\, maksymalnie do 600 zł na konto gracza. Możesz dodać na swój kupon jakiekolwiek rozgrywki sportowe i obstawić za dowolna kwotę\, a jeśli typerskie przeczucie Cię zawiedzie przy okazji KSW 73\, otrzymasz zwrot postawionej kwoty\, który możesz wykorzystać na grę. \n \nKarta walk KSW 73: Wrzosek vs. Sarara\n Walka wieczoru: \n\n \n\n120\,2 kg/265 lb: Arkadiusz Wrzosek (0-0) vs Tomasz Sarara (1-0\, 1 KO)\n\n\n\n Karta główna: \n\n \n\n65\,8 kg/145 lb: Daniel Rutkowski #1 (13-3 1NC\, 7 KO\, 1 Sub) vs Reginaldo Vieira (15-6\, 11 Sub)\n83\,9 kg/185 lb: Radosław Paczuski (4-0\, 3 KO) vs Jason Radcliffe (17-9\, 11 KO\, 4 Sub)\n93 kg/205 lb: Damian Piwowarczyk (5-1\, 1 KO\, 3 Sub) vs Bohdan Gdnidko (7-0\, 4 KO\, 3 Sub)\n82 kg/181 lb: Ion Surdu (11-3\, 8 KO\, 1 Sub) vs Krystian Bielski (8-4\, 3 KO\, 1 Sub)\n56\,7 kg/125 lb: Karolina Owczarz (4-2\, 2 Sub) vs Natalia Baczyńska (6-2\, 1 KO)\n83 kg/183 lb: Borys Borkowski (4-1\, 3 KO) vs Dominik Humburger (3-0\, 3 KO)\n65\,8 kg/145 lb: Patryk Likus (2-0\, 1 KO) vs Pascal Hintzen (7-1\, 5 Sub)\n\n61\,2 kg/ 135 lb: Miłosz Melchert (2-0\, 2KO) vs Carl McNally (1-0\, 1Sub) \n\n\nOstatnia modyfikacja: 16.08.2022 r.
URL:https://strefamma.pl/event/ksw-73-wrzosek-vs-sarara/
LOCATION:Hala Torwar\, Warszawa\, Poland
ATTACH;FMTTYPE=image/png:https://strefamma.pl/wp-content/uploads/2022/07/KSW-73-plakat.png
END:VEVENT
BEGIN:VEVENT
DTSTART;TZID=Europe/Warsaw:20220820T230000
DTEND;TZID=Europe/Warsaw:20220821T073000
DTSTAMP:20260423T032818
CREATED:20220622T155007Z
LAST-MODIFIED:20220820T073418Z
UID:41677-1661036400-1661067000@strefamma.pl
SUMMARY:UFC 278: Usman vs. Edwards 2
DESCRIPTION:Po miesiącach poświęconych na leczenie\, Kamaru Usman doszedł do siebie i podpisał kontrakt na kolejną obronę pasa wagi półśredniej. Walka Usman vs. Edwards 2 będzie main eventem gali UFC 278\, która odbędzie się już w nocy z 20 na 21 sierpnia! \nWedług wielu ekspertów uważany za najlepszego zawodnika bez podziału na kategorie wagowe\, Kamaru Usman\, powraca po wygranej jednogłośną decyzją nad Colby Covingtonem\, by zmierzyć się w kolejnym rewanżu. Nigeryjczyk jest ostatnim fighterem\, który pokonał Leona Edwardsa. Od tamtej pory Brytyjczyk nie przegrał żadnej z 10. walk i w końcu otrzymał upragnionego title shota. \nNa UFC 278 zobaczymy także kolejny występ Marcina Tybury! Jeden z najlepszych polskich ciężkich zmierzy się w oktagonie z niepokonanym dotychczas Aleksandrem Romanovem. Mołdawianin demoluje każdego oponenta\, a zatem przed „Tyburem” nie lada wyzwanie! \nDodatkowo na gali w Salt Lake City zobaczymy pojedynki byłych mistrzów. Jose Aldo pomimo 35. lat na karku wciąż liczy na to\, że uda mu się wejść na szczyt dywizji koguciej. Na UFC 278 spotka się z Merabem Dvalishvilim. Do oktagonu wróci też  Luke Rockhold. Amerykanin po fatalnej próbie zaatakowania dywizji półciężkiej i ciężkim KO z rąk Jana Błachowicza schodzi z powrotem do dywizji średniej. Jego przeciwnikiem będzie były pretendent do pasa mistrzowskiego\, Paulo Costa. \nKursy bukmacherskie na galę UFC 278. Obstaw w Fortunie i oglądaj na żywo!\nCałą galę UFC 278: Usman vs. Edwards 2 obejrzycie NA ŻYWO u bukmachera eFortuna.pl! Dodatkowo dla nowych użytkowników na start przygotowano specjalny BONUS i ZAKŁAD BEZ RYZYKA aż do 600 zł! \nJeżeli twój pierwszy kupon będzie zwycięski otrzymujesz wygraną\, a jeśli przegrasz Fortuna zwróci Ci wkład\, maksymalnie do 600 zł na konto gracza. Możesz dodać na swój kupon jakiekolwiek rozgrywki sportowe i obstawić za dowolna kwotę\, a jeśli typerskie przeczucie Cię zawiedzie przy okazji UFC 278\, otrzymasz zwrot postawionej kwoty\, który możesz wykorzystać na grę. \n \nKarta walk UFC 278: Usman vs. Edwards 2\nWalka wieczoru: \n\nKamaru Usman (20-1-0) vs. Leon Edwards (19-3-0)\n\nKarta główna: \n\nJose Aldo (31-7-0) vs. Merab Dvalishvili (14-4-0)\nPaulo Costa (13-2-0) vs. Luke Rockhold (16-5-0)\nLucie Pudilova (13-7-0) vs. Wu Yanan (12-5-0)\nHarry Hunsucker (7-5-0) vs. Tyson Pedro (8-3-0)\n\nKarta wstępna: \n\nMarcin Tybura (22-7-0) vs. Alexandr Romanov (16-0-0)\nJared Gordon (18-5-0) vs. Leonardo Santos (18-5-1)\nLuis Saldana (16-7-0) vs. Sean Woodson (9-1-0)\nA.J. Fletcher (9-1-0) vs. Ange Loosa (8-3-0)\n\nKarta przedwstępna: \n\nAmir Albazi (14-1-0) vs. Francisco Figueiredo ( 13-4-1)\nQileng Aori (23-11-0) vs. Jay Perrin (10-5-0)\nVictor Altamirano (10-2-0) vs. Daniel Lacerda (11-3-0)\n\nOstatnia modyfikacja: 20.08.2022 r.
URL:https://strefamma.pl/event/ufc-278-usman-vs-edwards-2/
LOCATION:Vivint Arena\, Salt Lake City\, United States
ATTACH;FMTTYPE=image/png:https://strefamma.pl/wp-content/uploads/2022/06/UFC-278-Plakat.png
END:VEVENT
BEGIN:VEVENT
DTSTART;TZID=Europe/Warsaw:20220821T050000
DTEND;TZID=Europe/Warsaw:20220821T093000
DTSTAMP:20260423T032818
CREATED:20220711T110228Z
LAST-MODIFIED:20220817T093050Z
UID:43589-1661058000-1661074200@strefamma.pl
SUMMARY:Ołeksandr Usyk vs. Anthony Joshua 2
DESCRIPTION:W nocy z 20 na 21 sierpnia dojdzie do rewanżu na szczycie wagi ciężkiej! Ołeksandr Usyk ponownie zmierzy się z Brytyjczykiem\, któremu odebrał pasy organizacji WBA\, IBF oraz WBO w królewskiej kategorii wagowej – Anthonym Joshuą. \nPierwsza walka odbyła się w Londynie\, na stadionie klubu Tottenham Hotspur. Pojedynek odbył się na pełnym 12-rundowym dystansie\, jednak pod koniec starcia wydawało się\, że Ukrainiec ma szansę skończyć ówczesnego mistrza. Ostatecznie jednak o wyniku decydowali sędziowie\, którzy jednogłośnie wskazali zwycięstwo Usyka. \nKiedy i gdzie oglądać Usyk vs. Joshua 2? Transmisja w DAZN!\nTransmisja na żywo nie będzie transmitowana w telewizji. Cała gala Ołeksandr Usyk vs. Anthony Joshua dostępna będzie do obejrzenia NA ŻYWO dla użytkowników DAZN. Wystarczy zarejestrować się przez TEN LINK. Subskrypcja kosztuje 39\,99 zł miesięcznie\, a zrezygnować z niejn można w każdej chwili. DAZN daje możliwość zobaczenia na żywo wielu innych wydarzeń sportowych. \nTypy i kursy bukmacherskie na walkę Usyk vs. Joshua 2\nCałą galę obstawisz tylko i wyłącznie u bukmachera eFortuna.pl! Na start przygotowano specjalny BONUS i ZAKŁAD BEZ RYZYKA aż do 600 zł! \nZasady są proste. Jeżeli twój pierwszy kupon będzie zwycięski otrzymujesz wygraną\, jeżeli przegrasz Fortuna zwróci Ci wkład\, maksymalnie do 600 zł na konto gracza. Możesz dodać na swój kupon jakiekolwiek rozgrywki sportowe i obstawić za dowolna kwotę\, a jeśli typerskie przeczucie Cię zawiedzie przy okazji Usyk vs. Joshua 2\, otrzymasz zwrot postawionej kwoty\, który możesz wykorzystać na grę. \n \n-> Odbieram BONUS i gram z Fortuną!\nKarta walk Usyk vs. Joshua 2\nWalka wieczoru: \n\nOłeksandr Usyk (19-0-0) vs. Anthony Joshua (24-2-0) – o pasy mistrzowskie WBA\, IBF\, The Ring oraz WBO w wadze ciężkiej\n\nPozostałe walki: \n\nZhilei Zhang (24-0-1) vs. Filip Hrgovic (14-0-0)\nCallum Smith (28-1-0) vs. Mathieu Bauderlique (21-1-0)\nBadou Jack (26-3-3) vs. Richard Rivera (21-0-0)\nTyrone Spong (14-0-0) vs. Andrew Tabiti (19-1-0)\nRamla Ali (6-0-0) vs. Crystal Nova (0-0-0)\nDaniel Lapin (5-0-0) vs. Jozef Jurko (8-5-1)\nZiyad Al Maayouf (0-0-0) vs. Hector Alatorre (0-0-0)\n\nOstatnia modyfikacja: 08.08.2022 r.
URL:https://strefamma.pl/event/oleksandr-usyk-vs-anthony-joshua-2/
LOCATION:Jeddah Superdome\, Jeddah\, Saudi Arabia
ATTACH;FMTTYPE=image/png:https://strefamma.pl/wp-content/uploads/2022/07/Oleksandr-Usyk-vs-Joshua-2-plakat.png
END:VEVENT
END:VCALENDAR