BEGIN:VCALENDAR
VERSION:2.0
PRODID:-//StrefaMMA.pl - Portal sportów walki - ECPv5.16.3.1//NONSGML v1.0//EN
CALSCALE:GREGORIAN
METHOD:PUBLISH
X-WR-CALNAME:StrefaMMA.pl - Portal sportów walki
X-ORIGINAL-URL:https://strefamma.pl
X-WR-CALDESC:Wydarzenia dla StrefaMMA.pl - Portal sportów walki
REFRESH-INTERVAL;VALUE=DURATION:PT1H
X-Robots-Tag:noindex
X-PUBLISHED-TTL:PT1H
BEGIN:VTIMEZONE
TZID:Europe/Warsaw
BEGIN:DAYLIGHT
TZOFFSETFROM:+0100
TZOFFSETTO:+0200
TZNAME:CEST
DTSTART:20220327T010000
END:DAYLIGHT
BEGIN:STANDARD
TZOFFSETFROM:+0200
TZOFFSETTO:+0100
TZNAME:CET
DTSTART:20221030T010000
END:STANDARD
END:VTIMEZONE
BEGIN:VEVENT
DTSTART;TZID=Europe/Warsaw:20220817T020000
DTEND;TZID=Europe/Warsaw:20220817T080000
DTSTAMP:20260423T015953
CREATED:20220814T101658Z
LAST-MODIFIED:20220814T102802Z
UID:46387-1660701600-1660723200@strefamma.pl
SUMMARY:Dana White's Contender Series 2022: Week 4
DESCRIPTION:W nocy z wtorku 16 sierpnia na środę 17 sierpnia odbędzie się kolejny odcinek Dana White’s Conteder Series\, gdzie kolejni zawodnicy i zawodniczki walczyć będą o kontrakt w UFC. \nTym razem w UFC Apex zobaczymy aż dwóch reprezentantów Anglii. Thomas Paull spróbuje przerwać niepokonaną serię Estebana Ribovicsa i zostać kolejnym byłym podwójnym mistrzem w największej federacji MMA na świecie. \nOprócz niego pojawi się także Jack Cartwright\, który w swoim ostatnim pojedynku mierzył się z Sylwestrem Millerem. Polak znany z organizacji Armia Fight Night nie zdołał jednak odebrać Brytyjczykowi pasa wagi koguciej\, który cały czas utrzymuje nieskazitelny rekord bez porażki. \nKursy bukmacherskie na Dana White’s Contender Series 2022: Week 4\nDana White’s Contender Series obstawisz u bukmachera eFortuna.pl! Dodatkowo dla nowych użytkowników na start przygotowano specjalny BONUS i ZAKŁAD BEZ RYZYKA aż do 600 zł! \nJeżeli twój pierwszy kupon będzie zwycięski otrzymujesz wygraną\, a jeśli przegrasz Fortuna zwróci Ci wkład\, maksymalnie do 600 zł na konto gracza. Możesz dodać na swój kupon jakiekolwiek rozgrywki sportowe i obstawić za dowolna kwotę\, a jeśli typerskie przeczucie Cię zawiedzie przy okazji DWCS\, otrzymasz zwrot postawionej kwoty\, który możesz wykorzystać na grę. \n\n\n\nKursy zostaną dodane po aktualizacji na stronie bukmachera Fortuna \nKarta walk Dana White’s Contender Series 2022: Week 4\n\nThomas Paull (11-3-0) vs. Esteban Ribovics (10-0-0)\nClaudio Ribeiro (9-2-0) vs. Iván Valenzuela (8-1-0)\nJack Cartwright (10-0-0) vs. Jose Johnson (14-7-0)\nHailey Cowan (6-2-0) vs. Cláudia Leite (7-2-0)\nNazim Sadykhov (6-1-0) vs. Ahmad Suhail Hassanzada (9-1-0)\n\nOstatnia modyfikacja: 14.08.2022 r.
URL:https://strefamma.pl/event/dana-whites-contender-series-2022-week-4/
LOCATION:Las Vegas\, UFC Apex
ATTACH;FMTTYPE=image/png:https://strefamma.pl/wp-content/uploads/2022/07/Dana-Whites-Contender-Series.png
END:VEVENT
END:VCALENDAR