BEGIN:VCALENDAR
VERSION:2.0
PRODID:-//StrefaMMA.pl - Portal sportów walki - ECPv5.16.3.1//NONSGML v1.0//EN
CALSCALE:GREGORIAN
METHOD:PUBLISH
X-WR-CALNAME:StrefaMMA.pl - Portal sportów walki
X-ORIGINAL-URL:https://strefamma.pl
X-WR-CALDESC:Wydarzenia dla StrefaMMA.pl - Portal sportów walki
REFRESH-INTERVAL;VALUE=DURATION:PT1H
X-Robots-Tag:noindex
X-PUBLISHED-TTL:PT1H
BEGIN:VTIMEZONE
TZID:Europe/Warsaw
BEGIN:DAYLIGHT
TZOFFSETFROM:+0100
TZOFFSETTO:+0200
TZNAME:CEST
DTSTART:20220327T010000
END:DAYLIGHT
BEGIN:STANDARD
TZOFFSETFROM:+0200
TZOFFSETTO:+0100
TZNAME:CET
DTSTART:20221030T010000
END:STANDARD
END:VTIMEZONE
BEGIN:VEVENT
DTSTART;TZID=Europe/Warsaw:20220806T210000
DTEND;TZID=Europe/Warsaw:20220807T013000
DTSTAMP:20260423T015954
CREATED:20220725T120650Z
LAST-MODIFIED:20220725T120650Z
UID:44797-1659819600-1659835800@strefamma.pl
SUMMARY:Smith vs. O'Maison
DESCRIPTION:Już w sobotę 6 sierpnia poznamy nowego brytyjskiego mistrza wagi super lekkiej. Dalton Smith zmierzy się o ten tytuł z Samem O’Maisonem. \nAngielscy pięściarze spotkają się w Sheffield Arenie\, co oznacza świetną godzinę dla polskich fanów boksu zawodowego! \nNiepokonany Dalton Smith jedynie dwie walki w karierze wygrał przez decyzje. Wszystko inne kończył przed czasem\, choćby w ostatniej rundzie. Naprzeciwko 25-letniego „Thundera” zstanie o wiele bardziej doświadczony i o 6 lat starszy Sam O’Maison. Anglik zdołał wrócić na ścieżkę zwycięstw po tym\, jak zremisował\, a następnie przegrał z Kayem Prosperem. \nKiedy i gdzie oglądać Smith vs. O’Maison? Transmisja w DAZN!\nTransmisja na żywo nie będzie transmitowana w telewizji. Cała gala Dalton Smith vs. Sam O’Maison dostępna będzie do obejrzenia NA ŻYWO dla użytkowników DAZN. Wystarczy zarejestrować się przez TEN LINK. Subskrypcja kosztuje 39\,99 zł miesięcznie\, a zrezygnować z niej można w każdej chwili. DAZN daje możliwość zobaczenia na żywo wielu innych wydarzeń sportowych. \nKarta walk Smith vs. O’Maison\nWalka wieczoru: \n\nDalton Smith (11-0-0) vs. Sam O’Maison (17-3-1) – o brytyjski pas mistrzowski wagi super lekkiej\n\nPozostałe walki: \n\nErica Farias 27-5-0) vs. Sandy Ryan (3-1-0)\nHopey Price (7-0-0) vs. Alexander Mejia (18-3-0)\nJordan Thompson (13-0-0) vs. Vasil Ducár (10-5-1)\nJohnny Fisher (5-0-0) vs. Michal Reissinger (3-1-0)\nCampbell Hatton (7-0-0) vs. Michael Dufek (31-23-2)\n\nOstatnia modyfikacja: 25.07.2022 r.
URL:https://strefamma.pl/event/smith-vs-omaison/
LOCATION:Sheffield Arena\, Sheffield\, Yorkshire\, United Kingdom
ATTACH;FMTTYPE=image/png:https://strefamma.pl/wp-content/uploads/2022/07/Smith-vs.-OMaison.png
END:VEVENT
END:VCALENDAR