BEGIN:VCALENDAR
VERSION:2.0
PRODID:-//StrefaMMA.pl - Portal sportów walki - ECPv5.16.3.1//NONSGML v1.0//EN
CALSCALE:GREGORIAN
METHOD:PUBLISH
X-WR-CALNAME:StrefaMMA.pl - Portal sportów walki
X-ORIGINAL-URL:https://strefamma.pl
X-WR-CALDESC:Wydarzenia dla StrefaMMA.pl - Portal sportów walki
REFRESH-INTERVAL;VALUE=DURATION:PT1H
X-Robots-Tag:noindex
X-PUBLISHED-TTL:PT1H
BEGIN:VTIMEZONE
TZID:Europe/Warsaw
BEGIN:DAYLIGHT
TZOFFSETFROM:+0100
TZOFFSETTO:+0200
TZNAME:CEST
DTSTART:20220327T010000
END:DAYLIGHT
BEGIN:STANDARD
TZOFFSETFROM:+0200
TZOFFSETTO:+0100
TZNAME:CET
DTSTART:20221030T010000
END:STANDARD
END:VTIMEZONE
BEGIN:VEVENT
DTSTART;TZID=Europe/Warsaw:20220803T020000
DTEND;TZID=Europe/Warsaw:20220803T070000
DTSTAMP:20260423T015952
CREATED:20220801T120938Z
LAST-MODIFIED:20220801T120938Z
UID:45493-1659492000-1659510000@strefamma.pl
SUMMARY:Dana White's Contender Series 2022: Week 2
DESCRIPTION:W nocy z 2 na 3 sierpnia odbędzie się kolejny odcinek szóstego sezonu programu Dana White’s Contender Series. To obecnie jedna z najszybszych dróg do kontraktu w UFC. \nRuszył kolejny sezon programu od prezydenta największej federacji MMA na świecie! Dana White’s Contender Series to obecnie jedna z najszybszych dróg do UFC\, a skorzystali z niej między innymi Sean O’Malley\, Johnny Walker\, czy polski zawodnik – Łukasz Brzeski. \nW drugim odcinku ponownie nie zabraknie niepokonanych zawodników. W wadze piórkowej zmierzą się Francis Marshall oraz Connor Matthews – obaj zawodnicy mają rekordy 5-0-0\, a do tego łącznie aż 9-krotnie kończyli swoich oponentów przed czasem! Fani europejskiego MMA na pewno skojarzą też Brazylijczyka Danilo Suzarta\, który przed kilkoma miesiącami zdobył tytułwagi ciężkiej federacji Ares FC. \nTypy\, kursy i zakłady bukmacherskie na Dana White’s Contender Series 2022: Week 2\nWszystkie walki i wydarzenia z nimi związane możecie obstawić w STS! Największy polski bukmacher STS oferuje dodatkowe 100% od pierwszego depozytu do kwoty aż 300 złotych. Ponadto gracz będzie mógł postawić pierwszy zakład bez ryzyka do 100 złotych. Wystarczy zarejestrować się – tutaj – wpłacić pieniądze i obstawić kupon. \n \nKarta walk Dana White’s Contender Series 2022: Week 2\n\n155 lb: Charlie Campbell (6-1-0) vs. Chris Duncan (8-1-0)\n125 lb: Shannon Ross (13-5-0) vs. Vinicius Salvador (13-4-0)\n145 lb: Francis Marshall (5-0-0) vs. Connor Matthews (5-0-0)\n265 lb: Waldo Cortes-Acosta (6-0-0) vs. Danilo Suzart (9-1-0)\n170 lb: Billy Goff (7-2-0) vs. Shimon Smotritsky (8-1-0)\n\nOstatnia modyfikacja: 01.08.2022 r. \n 
URL:https://strefamma.pl/event/dana-whites-contender-series-2022-week-2/
LOCATION:Las Vegas\, UFC Apex
ATTACH;FMTTYPE=image/png:https://strefamma.pl/wp-content/uploads/2022/07/Dana-Whites-Contender-Series.png
END:VEVENT
END:VCALENDAR