BEGIN:VCALENDAR
VERSION:2.0
PRODID:-//StrefaMMA.pl - Portal sportów walki - ECPv5.16.3.1//NONSGML v1.0//EN
CALSCALE:GREGORIAN
METHOD:PUBLISH
X-WR-CALNAME:StrefaMMA.pl - Portal sportów walki
X-ORIGINAL-URL:https://strefamma.pl
X-WR-CALDESC:Wydarzenia dla StrefaMMA.pl - Portal sportów walki
REFRESH-INTERVAL;VALUE=DURATION:PT1H
X-Robots-Tag:noindex
X-PUBLISHED-TTL:PT1H
BEGIN:VTIMEZONE
TZID:Europe/Warsaw
BEGIN:DAYLIGHT
TZOFFSETFROM:+0100
TZOFFSETTO:+0200
TZNAME:CEST
DTSTART:20220327T010000
END:DAYLIGHT
BEGIN:STANDARD
TZOFFSETFROM:+0200
TZOFFSETTO:+0100
TZNAME:CET
DTSTART:20221030T010000
END:STANDARD
END:VTIMEZONE
BEGIN:VEVENT
DTSTART;TZID=Europe/Warsaw:20220730T020000
DTEND;TZID=Europe/Warsaw:20220731T103000
DTSTAMP:20260423T032602
CREATED:20220710T192714Z
LAST-MODIFIED:20220710T192714Z
UID:43504-1659146400-1659263400@strefamma.pl
SUMMARY:Garcia vs. Benavidez
DESCRIPTION:Przedostatniej lipcowej nocy do ringu powróci Adam Kownacki. Polak w Barclays Center spotka się z Alim Erenem Demirezenem na gali Garcia vs. Benavidez. \nAdam Kownacki nie zrewanżował się Robertowi Heleniusowi w swoim ostatnim występie i ponownie musi spróbować udowodnić swoją wartość. Popularny „Babyface” zmierzy się z tureckim pięściarzem\, Alim Erenem Demirezenem\, który na rozkładzie wygranych ma już jednego Polaka – w 2020 roku zwyciężył jednogłośnie z Kamilem Sokołowskim. \nMain eventem gali będzie walka w dywizji super średniej. W czterdziestej zawodowej walce Danny Garcia będzie szukał sposobu na ustabilizowanie formy. Jego przeciwnikiem będzie Jose Benavidez Junior. Popularny „Merciless” do ringu wraca po pierwszej zawodowej porażce i remisie – odpowiednio z Terencem Crawfordem oraz Francisco Emanuelem Torresem. \nTypy i kursy bukmacherskie na Garcia vs. Benavidez. Obstaw w Fortunie! \nCałą galę obstawisz tylko i wyłącznie u bukmachera eFortuna.pl! Na start przygotowano specjalny BONUS i ZAKŁAD BEZ RYZYKA aż do 600 zł! \nZasady są proste. Jeżeli twój pierwszy kupon będzie zwycięski otrzymujesz wygraną\, jeżeli przegrasz Fortuna zwróci Ci wkład\, maksymalnie do 600 zł na konto gracza. Możesz dodać na swój kupon jakiekolwiek rozgrywki sportowe i obstawić za dowolna kwotę\, a jeśli typerskie przeczucie Cię zawiedzie przy okazji gali Garcia vs. Benavidez\, otrzymasz zwrot postawionej kwoty\, który możesz wykorzystać na grę. \n \nKarta walk Gracia vs. Benavidez\nWalka wieczoru: \n\nDanny Garcia (36-3-0) vs. Jose Benavidez Jr. (27-1-1)\n\nPozostałe walki: \n\nAdam Kownacki (20-2-0) vs. Ali Eren Demirezen (16-1-0)\nRances Barthelemy (29-1-1) vs. Gary Antuanne Russell (15-0-0)\nVito Mielnicki Jr. (11-1-0) vs. Joe Eli Hernandez (12-2-0)\n\nOstatnia modyfikacja: 10.07.2022 r.
URL:https://strefamma.pl/event/garcia-vs-benavidez/
LOCATION:Barclays Center\, Brooklyn\, United States
ATTACH;FMTTYPE=image/png:https://strefamma.pl/wp-content/uploads/2022/07/Garcia-vs-Benavidez-i-Kownacki-vs-Demirezen.png
END:VEVENT
BEGIN:VEVENT
DTSTART;TZID=Europe/Warsaw:20220730T210000
DTEND;TZID=Europe/Warsaw:20220731T020000
DTSTAMP:20260423T032602
CREATED:20220725T105618Z
LAST-MODIFIED:20220725T105618Z
UID:44791-1659214800-1659232800@strefamma.pl
SUMMARY:Billam Smith vs. Chamberlain
DESCRIPTION:W ostatni weekend lipca w angielskim Bournemouth zobaczymy kolejny pojedynek o pas mistrza Europy w wadze półciężkiej. \nChris Billam-Smith to 31-letni pięściarz\, który aż 11 oponentów kończył przez KO. Tym razem zmierzy się z młodym i rozpędzonym Isaakiem Chamberlainem\, który w ostatnim występie w niespełna 3 minuty znokautował Dilana Prašovicia. \nTypy i kursy bukmacherskie na walkę Billam-Smith vs. Chamberlain\nCałą galę obstawisz tylko i wyłącznie u bukmachera eFortuna.pl! Na start przygotowano specjalny BONUS i ZAKŁAD BEZ RYZYKA aż do 600 zł! \nZasady są proste. Jeżeli twój pierwszy kupon będzie zwycięski otrzymujesz wygraną\, jeżeli przegrasz Fortuna zwróci Ci wkład\, maksymalnie do 600 zł na konto gracza. Możesz dodać na swój kupon jakiekolwiek rozgrywki sportowe i obstawić za dowolna kwotę\, a jeśli typerskie przeczucie Cię zawiedzie przy okazji gali Billam-Smith vs. Chamberlain\, otrzymasz zwrot postawionej kwoty\, który możesz wykorzystać na grę. \n \nKarta walk: Billam-Smith vs. Chamberlain\nWalka wieczoru: \n\nChris Billam-Smith (15-1-0) vs. Isaac Chamberlain (14-1-0) – o pas mistrza Europy kategorii junior ciężkiej EBU\n\nPozostałe walki: \n\nBen Whitaker (0-0-0) vs. Greg O’Neill (6-6-1)\nJohn Docherty (12-1-0) vs. Diego Costa (8-0-0)\nCaroline Dubois (0-0-0) vs. Happy Daudi (9-9-1)\n\nOstatnia modyfikacja: 25.07.2022 r.
URL:https://strefamma.pl/event/billam-smith-vs-chamberlain/
LOCATION:Bournemouth International Centre\, Bournemouth\, Dorset\, United Kingdom
ATTACH;FMTTYPE=image/png:https://strefamma.pl/wp-content/uploads/2022/07/Billam-Smith-vs.-Chamberlain.png
END:VEVENT
BEGIN:VEVENT
DTSTART;TZID=Europe/Warsaw:20220730T233000
DTEND;TZID=Europe/Warsaw:20220731T090000
DTSTAMP:20260423T032602
CREATED:20220626T142824Z
LAST-MODIFIED:20220725T103005Z
UID:42163-1659223800-1659258000@strefamma.pl
SUMMARY:UFC 277: Peña vs. Nunes 2
DESCRIPTION:Już w nocy z 30 na 31 lipca w Dallas w stanie Texas odbędzie się gala UFC 277. Na ostatnim show w lipcu znów dojdzie do dwóch walk mistrzowskich! \nW grudniu ubiegłego roku wszystkie oczy zwróciły się na Juliannę Penę\, która w co-main evencie UFC 269 poddała Amandę Nunes już w drugiej rundzie\, po kapitalnej pierwszej odsłonie. Teraz zawodniczki podgrzały atmosferę stając na czele przeciwnych zespołów w 30. sezonie The Ultimate Fighter. \nDo tego były mistrz wagi muszej\, Brandon Moreno\, wraca do oktagonu po utracie pasa na UFC 270. 31 lipca Meksykanin ponownie staje przed szansą zostania championem\, choć tylko tymczasowym. na UFC 277 rywalem Moreno będzie Kai Kara-France. \nTransmisja UFC 277: Peña vs. Nunes 2 w STS TV!\nJak zawsze wydarzenia UFC można oglądać za pośrednictwem UFC Fight Pass. Cała gala UFC 277 będzie jednak dostępna w STS TV dla użytkowników STS. Wystarczy zarejestrować się na stronie bukmachera TUTAJ\, by móc oglądać UFC 277 PPV już od karty wstępnej! Największy polski bukmacher STS oferuje dodatkowe 100% od pierwszego depozytu do kwoty aż 300 złotych. Ponadto gracz będzie mógł postawić pierwszy zakład bez ryzyka do 100 złotych. Wystarczy zarejestrować się – tutaj – wpłacić pieniądze i obstawić kupon. \n \nKarta walk UFC 277: Peña vs. Nunes 2\nWalka wieczoru: \n\nJulianna Peña (11-4-0) vs. Amanda Nunes (21-5-0) – o pas mistrzowski wagi koguciej kobiet UFC\n\nKarta główna: \n\nBrandon Moreno (19-6-2) vs. Kai Kara-France (24-9-0) – o pas mistrzowski tymczasowego mistrza wagi muszej UFC\nDerrick Lewis (26-9-0) vs. Sergei Pavlovich (15-1-0)\nAlexandre Pantoja (24-5-0) vs. Alex Perez (24-6-0)\nMagomed Ankalaev (17-1-0) vs. Anthony Smith (36-16-0)\n\nKarta wstępna: \n\nAlex Morono (21-7-0) vs. Matt Semelsberger (10-3-0)\nDrew Dober (24-11-0) vs. Rafael Alves (20-10-0)\nDon’Tale Mayes (9-4-0) vs. Hamdy Abdelwahab (3-0-0)\nDrakkar Klose (12-2-1) vs. Rafa García (14-2-0)\nMichael Morales (13-0-0) vs. Adam Fugitt (8-2-0)\nJi Yeon Kim (9-5-2) vs. Joselyne Edwards (11-4-0)\nNick Negumereanu (12-1-0) vs. Ihor Potieria (20-2-0)\nOrion Cosce (7-1-0) vs. Blood Diamond (3-1-0)\n\nOstatnia modyfikacja: 25.07.2022 r.
URL:https://strefamma.pl/event/ufc-277-pena-vs-nunes-2/
LOCATION:American Airlines Center\, Dallas\, United States
ATTACH;FMTTYPE=image/png:https://strefamma.pl/wp-content/uploads/2022/06/UFC-277-Pena-vs-Nunes-2.png
END:VEVENT
BEGIN:VEVENT
DTSTART;TZID=Europe/Warsaw:20220731T180000
DTEND;TZID=Europe/Warsaw:20220801T010000
DTSTAMP:20260423T032602
CREATED:20220719T064639Z
LAST-MODIFIED:20220719T064639Z
UID:44238-1659290400-1659315600@strefamma.pl
SUMMARY:RIZIN 37
DESCRIPTION:Na przełomie lipca i sierpnia odbędzie się gala RIZIN 37. Areną zmagań ponownie będzie Saitama Super Arena. \nTego wieczoru odbędą się kolejne pojedynki ćwierćfinałowe w turnieju kobiet. Pojawią się między innymi niepokonana Laura Fontoura\, czy znana z pojedynków w UFC Jessica Aguilar. \nTypy i zakłady bukmacherskie na RIZIN 37\nRejestrując się – tutaj – otrzymasz specjalne bonusy przygotowane dla wszystkich nowych użytkowników. STS oferuje dodatkowe 100% od pierwszego depozytu aż do kwoty 300 złotych. Ponadto gracz będzie mógł postawić pierwszy zakład bez ryzyka do 100 złotych. Wystarczy zarejestrować się – tutaj – wpłacić pieniądze i obstawić kupon. \n \nKarta walk RIZIN 37\nWalka wieczoru: \n\nNaoki Inoue (15-3-0) vs. Kenta Takizawa (13-8-0)\n\nCo-main event: \n\nHideo Tokoro (35-30-2) vs. Makoto Takahashi (13-1-1)\n\nKarta główna: \n\nYuki Motoya (30-10-0) vs. Shinobu Ota (2-1-0)\nSekine (12-5-0) vs. Tsuyoshi Sudario (4-1-0)\nUlka Sasaki (23-10-2) vs. Yoshiki Nakahara (15-5-0)\nKota Miura (1-0-0) vs. Felipe Masoni (9-4-0)\nYushi (1-1-0) vs. Haruki (0-0-0)\nVugar Karamov (16-4-0) vs. Sora Yamamoto (16-6-2)\nMarcos Yoshio de Souza (9-2-0) vs. Daichi Abe (10-5-0)\nRena Kubota (12-4-0) vs. Anastasiya Svetkivska (2-0-0) – ćwierćfinał turnieju\nKanna Asakura (19-6-0) vs. Si Woo Park (7-4-0) – ćwierćfinał turnieju\nAyaka Hamasaki (23-5-0) vs. Jessica Aguilar (20-9-0) – ćwierćfinał turnieju\nSeika Izawa (6-0-0) vs. Laura Fontoura (7-0-0) – ćwierćfinał turnieju\nJohnny Case (27-8-1) vs. Koji Takeda (13-3-0)\nRyusei Kumagai vs. Kaiji – walka w kickboxingu\n\nOstatnia modyfikacja: 19.07.2022 r.
URL:https://strefamma.pl/event/rizin-37/
LOCATION:Saitama Super Arena\, Saitama\, Japan
ATTACH;FMTTYPE=image/png:https://strefamma.pl/wp-content/uploads/2022/07/Rizin-37.png
END:VEVENT
END:VCALENDAR