BEGIN:VCALENDAR
VERSION:2.0
PRODID:-//StrefaMMA.pl - Portal sportów walki - ECPv5.16.3.1//NONSGML v1.0//EN
CALSCALE:GREGORIAN
METHOD:PUBLISH
X-WR-CALNAME:StrefaMMA.pl - Portal sportów walki
X-ORIGINAL-URL:https://strefamma.pl
X-WR-CALDESC:Wydarzenia dla StrefaMMA.pl - Portal sportów walki
REFRESH-INTERVAL;VALUE=DURATION:PT1H
X-Robots-Tag:noindex
X-PUBLISHED-TTL:PT1H
BEGIN:VTIMEZONE
TZID:Europe/Warsaw
BEGIN:DAYLIGHT
TZOFFSETFROM:+0100
TZOFFSETTO:+0200
TZNAME:CEST
DTSTART:20220327T010000
END:DAYLIGHT
BEGIN:STANDARD
TZOFFSETFROM:+0200
TZOFFSETTO:+0100
TZNAME:CET
DTSTART:20221030T010000
END:STANDARD
END:VTIMEZONE
BEGIN:VEVENT
DTSTART;TZID=Europe/Warsaw:20220729T160000
DTEND;TZID=Europe/Warsaw:20220729T233000
DTSTAMP:20260423T032603
CREATED:20220725T091736Z
LAST-MODIFIED:20220727T124209Z
UID:44762-1659110400-1659137400@strefamma.pl
SUMMARY:Armia Fight Night 14
DESCRIPTION:W ostatni piątek lipca odbędzie się kolejna gala z udziałem żołnierzy Wojska Polskiego. Armia Fight Night 14 będzie miała miejsce w Kołobrzegu! \nW co-main evencie pojawi się Kapral 8. Batalionu Remontowego w Kołobrzegu – Damian Mieczkowski. Jest on dwukrotnym Mistrzem Świata w Kickboxingu oraz posiadaczem brązowego pasa BJJ. Naprzeciwko niego stanie charakterny Adam Lazar\, który nie jest no namem w sportach walki. Agresywny zawodnik ma na swoim koncie występy w walkach na gołe pięści\, a na co dzień jest trenerem Muay Thai. \nW walce wieczoru wystąpi nadzieja polskiego MMA – Klaudia Syguła. Zawodniczka przeszła już do historii\, gdy jako pierwsza wygrała walkę na gołe pięści na WOTORE 2. Syguła pozostaje niepokonana od trzech pojedynków\, a na Armia Fight Night 14 zmierzy się z Breną Cardozo\, byłą zwyciężczynią WGP Kickboxing i Mistrzynią Świata Amatorek IMMAF-WMMAA z 2019 roku. \nObstaw Armia Fight Night 14 w Fortunie!\nWydarzenia gali AFN 14 obstawisz u bukmachera eFortuna.pl! Na start przygotowano specjalny BONUS i ZAKŁAD BEZ RYZYKA aż do 600 zł! \n\n\nZasady są proste. Jeżeli twój pierwszy kupon będzie zwycięski otrzymujesz wygraną\, jeżeli przegrasz Fortuna zwróci Ci wkład\, maksymalnie do 600 zł na konto gracza. Możesz dodać na swój kupon jakiekolwiek rozgrywki sportowe i obstawić za dowolna kwotę\, a jeśli tym razem typerskie przeczucie Cię zawiedzie otrzymasz zwrot postawionej kwoty\, który możesz wykorzystać na grę. \n\n\n\nKarta walk Armia Fight Night 14\nWalka wieczoru: \n\nKlaudia Syguła (3-1-0) vs. Brena Cardozo (5-2-0)\n\nPozostałe walki: \n\nAdam Lazar (0-1-0) vs. Damian Mieczkowski 0-0-0)\nKacper Matyszewski (1-0-0) vs. Adrian Wieliczko (0-1-0)\nMateusz Pawlik (2-2-0) vs. Krystian Wiśniewski (1-1-0)\nMaciej Zacholski (0-0-0) vs. Konrad Furmanek (3-4-0)\nGrzegorz Stabach (0-0-0) vs. Daniel Wojańczyk (0-1-0)\nKamil Stachura (0-0-0) vs. Marcin Trzciński (1-2-0)\nAdrianna Kreft (2-0-0) vs. Elina Tauber (0-1-0)\nMichał Żmudź (0-0-0) vs. Jakub Dobek (0-0-0)\nMaciej Brzeziński (1-0-0) vs. Krystian Bajor (2-4-0)\n\nOstatnia modyfikacja: 25.07.2022 r.
URL:https://strefamma.pl/event/armia-fight-night-14/
LOCATION:Hala Milenium\, Śliwińskiego 4\, Kołobrzeg\, Zachodniopomorskie\, 78-100\, Poland
ATTACH;FMTTYPE=image/png:https://strefamma.pl/wp-content/uploads/2022/07/Armia-Fight-Night-14.png
END:VEVENT
END:VCALENDAR