BEGIN:VCALENDAR
VERSION:2.0
PRODID:-//StrefaMMA.pl - Portal sportów walki - ECPv5.16.3.1//NONSGML v1.0//EN
CALSCALE:GREGORIAN
METHOD:PUBLISH
X-WR-CALNAME:StrefaMMA.pl - Portal sportów walki
X-ORIGINAL-URL:https://strefamma.pl
X-WR-CALDESC:Wydarzenia dla StrefaMMA.pl - Portal sportów walki
REFRESH-INTERVAL;VALUE=DURATION:PT1H
X-Robots-Tag:noindex
X-PUBLISHED-TTL:PT1H
BEGIN:VTIMEZONE
TZID:Europe/Warsaw
BEGIN:DAYLIGHT
TZOFFSETFROM:+0100
TZOFFSETTO:+0200
TZNAME:CEST
DTSTART:20220327T010000
END:DAYLIGHT
BEGIN:STANDARD
TZOFFSETFROM:+0200
TZOFFSETTO:+0100
TZNAME:CET
DTSTART:20221030T010000
END:STANDARD
END:VTIMEZONE
BEGIN:VEVENT
DTSTART;TZID=Europe/Warsaw:20220727T020000
DTEND;TZID=Europe/Warsaw:20220727T070000
DTSTAMP:20260423T032601
CREATED:20220725T083644Z
LAST-MODIFIED:20220725T083644Z
UID:44741-1658887200-1658905200@strefamma.pl
SUMMARY:Dana White's Contender Series: Week 1
DESCRIPTION:W nocy z 26 na 27 lipca rozpocznie się szósty sezon programu Dana White’s Contender Series. Czy poznamy tam przyszłych mistrzów UFC? \nRusza kolejny sezon programu od prezydenta największej federacji MMA na świecie! Dana White’s Contender Series to obecnie jedna z najszybszych dróg do UFC\, a skorzystali z niej między innymi Sean O’Malley\, Johnny Walker\, czy polski zawodnik – Łukasz Brzeski. \nW pierwszym odcinku nie zabraknie niepokonanych zawodników – Ekwadorczyk Andres Luna Martinetti zmierzy się z Brazylijczykiem Alessandro Costą\, a Farid Basharat z Willianem Souzą. W ostatniej walce Dana White’s Contender Series 2022: Week 1 wystąpi mistrz wagi średniej LFA  – Ozzy Diaz. \nTypy i kursy bukmacherskie na Dana White’s Contender Series 2022: Week 1\nWszystkie walki i wydarzenia z nimi związane możecie obstawić w STS! Największy polski bukmacher STS oferuje dodatkowe 100% od pierwszego depozytu do kwoty aż 300 złotych. Ponadto gracz będzie mógł postawić pierwszy zakład bez ryzyka do 100 złotych. Wystarczy zarejestrować się – tutaj – wpłacić pieniądze i obstawić kupon. \n \nKarta walk Dana White’s Contender Series 2022: Week 1\nPotwierdzone walki: \n\nOzzy Diaz (7-1-0) vs. Joseph Pyfer (8-2-0)\nFarid Basharat (8-0-0) vs. Willian Souza (11-1-0)\nAnton Turkalj (7-0-0) vs. Acácio dos Santos (14-4-0)\nDennis Buzukja 7-2-0) vs. Kaleio Romero (6-1-0)\nAlessandro Costa (10-2-0) vs. Andres Luna Martinetti (12-0-0)\n\nOstatnie modyfikacja 25.07.2022 r.
URL:https://strefamma.pl/event/dana-whites-contender-series-week-1/
LOCATION:Las Vegas\, UFC Apex
ATTACH;FMTTYPE=image/png:https://strefamma.pl/wp-content/uploads/2022/07/Dana-Whites-Contender-Series.png
END:VEVENT
END:VCALENDAR