BEGIN:VCALENDAR
VERSION:2.0
PRODID:-//StrefaMMA.pl - Portal sportów walki - ECPv5.16.3.1//NONSGML v1.0//EN
CALSCALE:GREGORIAN
METHOD:PUBLISH
X-WR-CALNAME:StrefaMMA.pl - Portal sportów walki
X-ORIGINAL-URL:https://strefamma.pl
X-WR-CALDESC:Wydarzenia dla StrefaMMA.pl - Portal sportów walki
REFRESH-INTERVAL;VALUE=DURATION:PT1H
X-Robots-Tag:noindex
X-PUBLISHED-TTL:PT1H
BEGIN:VTIMEZONE
TZID:Europe/Warsaw
BEGIN:DAYLIGHT
TZOFFSETFROM:+0100
TZOFFSETTO:+0200
TZNAME:CEST
DTSTART:20220327T010000
END:DAYLIGHT
BEGIN:STANDARD
TZOFFSETFROM:+0200
TZOFFSETTO:+0100
TZNAME:CET
DTSTART:20221030T010000
END:STANDARD
END:VTIMEZONE
BEGIN:VEVENT
DTSTART;TZID=Europe/Warsaw:20220723T010000
DTEND;TZID=Europe/Warsaw:20220723T093000
DTSTAMP:20260423T032601
CREATED:20220710T182019Z
LAST-MODIFIED:20220710T182019Z
UID:43489-1658538000-1658568600@strefamma.pl
SUMMARY:Bellator 283: Lima vs. Jackson
DESCRIPTION:Już w nocy z 22 na 23 lipca dojdzie do kolejnej gali Bellator z numerem 283. W walce wieczoru pojawi się były mistrz wagi półśredniej\, Douglas Lima! \nBrazylijczyk Douglas Lima to wieloletni reprezentant federacji Bellator\, w której zadebiutował jeszcze w 2011 roku. Jest 3-krotnym mistrzem wagi półśredniej\, a przed galą Bellator 283 zaliczył trzy porażki z rzędu – w tym dwie w walce o pas. \nW walce wieczoru Douglas Lima ma spotkać się z Jasonem Jacksonem. Jamajczyk od debiutu u obecnego pracodawcy w 2019 roku pozostaje niepokonany\, a wszystkie pojedynki zwyciężał w dominującym stylu. Z pięcioma wygranymi z rzędu to właśnie „The Ass-kicking Machine” był faworytem bukmacherów. \nTypy i kursy bukmacherskie na Bellator 283\nRejestrując się – tutaj – otrzymasz specjalne bonusy przygotowane dla wszystkich nowych użytkowników. STS oferuje dodatkowe 100% od pierwszego depozytu aż do kwoty 300 złotych. Ponadto gracz będzie mógł postawić pierwszy zakład bez ryzyka do 100 złotych. Wystarczy zarejestrować się – tutaj – wpłacić pieniądze i obstawić kupon. \n \nKarta walk Belllator 283: Lima vs. Jackson\nWalka wieczoru: \n\nDouglas Lima (32-10-0) vs. Jason Jackson 15-4-0 Jason Jackson\n\nKarta główna: \n\nSidney Outlaw (16-4-0) vs. Tofiq Musayev (18-4-0)\nUsman Nurmagomedov (14-0-0) vs. Chris Gonzalez (7-1-0)\nLorenz Larkin (24-7-0) vs. Mukhamed Berkhamov (15-1-0)\nDavion Franklin (5-0-0) vs. Marcelo Golm (9-3-0)\n\nPozostałe walki: \n\nRomero Cotton (6-0-0) vs. Dalton Rosta (6-0-0)\nVeta Arteaga (6-4-0) vs. Vanessa Porto (23-9-0)\nGadzhi Rabadanov (17-4-2) vs. Bobby King (12-4-0)\nJaylon Bates (5-0-0) vs. Mark Coates (10-7-0)\nRoman Faraldo (7-0-0) vs. Luis Iniguez (5-1-0)\nKai Kamaka III (9-5-1) vs. Akhmed Magomedov (8-0-0)\nEthan Hughes (3-0-0) vs. Kevin Hand (2-0-0)\n\nOstatnia modyfikacja: 10.07.2022 r.
URL:https://strefamma.pl/event/bellator-283-lima-vs-jackson/
LOCATION:Emerald Queen Casino and Hotel\, Tacoma\, United States
ATTACH;FMTTYPE=image/png:https://strefamma.pl/wp-content/uploads/2022/07/Bellator-283-plakat.png
END:VEVENT
BEGIN:VEVENT
DTSTART;TZID=Europe/Warsaw:20220723T170000
DTEND;TZID=Europe/Warsaw:20220724T000000
DTSTAMP:20260423T032601
CREATED:20220626T145952Z
LAST-MODIFIED:20220717T105859Z
UID:42168-1658595600-1658620800@strefamma.pl
SUMMARY:UFC London: Blaydes vs. Aspinall
DESCRIPTION:Największa federacja MMA na świecie wraca do Londynu! 23 lipca w O2 Arenie ponownie zobaczymy kapitalne walki\, a kibice jak zwykle zapewnią znakomity doping! \nW walce wieczoru w O2 Arenie ponownie zobaczymy Toma Aspinalla! Angielski ciężki po poddaniu Alexandra Volkova już w 1. rundzie przed kilkoma miesiącami tym razem stanie naprzeciwko Curtisa Blaydesa! \nNa angielskiej gali nie może zabraknąć jednej z największych gwiazd z tego kraju\, czyli Paddy’ego Pimbletta. Fighter z Liverpoolu spotka się w oktagonie z Jordanem Leavittem licząc na przedłużenie obecnej serii 5. zwycięstw z rzędu. \nTransmisja na żywo UFC Fight Night London w STS\nJak zawsze wydarzenia UFC można oglądać za pośrednictwem UFC Fight Pass\, do której dostęp wynosi 9\,99 euro/miesiąc. Cała gala będzie jednak dostępna w STS TV dla użytkowników STS. Wystarczy zarejestrować się na stronie bukmachera TUTAJ\, by móc oglądać UFC Fight Night London za darmo już od karty wstępnej! Największy polski bukmacher STS oferuje dodatkowe 100% od pierwszego depozytu do kwoty aż 300 złotych. Ponadto gracz będzie mógł postawić pierwszy zakład bez ryzyka do 100 złotych. Wystarczy zarejestrować się – tutaj – wpłacić pieniądze i obstawić kupon. \n \nKarta walk UFC Fight Night: Blaydes vs. Aspinall\nWalka wieczoru: \n\nCurtis Blaydes (16-3-0) vs. Tom Aspinall (12-2-0)\n\nKarta główna: \n\nJack Hermansson (22-7-0) vs. Chris Curtis (29-8-0)\nPaddy Pimblett (18-3-0) vs. Jordan Leavitt (10-1-0)\nNikita Krylov (27-9-0) vs. Alexander Gustafsson (18-7-0)\nMolly McCann (12-4-0) vs. Hannah Goldy (6-2-0)\nPaul Craig (16-4-1) vs. Volkan Oezdemir (17-6-0)\n\nKarta wstępna: \n\nMuhammad Mokaev (6-0-0) vs. Charles Johnson (11-2-0)\nMandy Böhm (7-1-0) vs. Victoria Leonardo (8-4-0)\nMakwan Amirkhani (17-7-0) vs. Jonathan Pearce (12-4-0)\nMarc Diakiese (15-5-0) vs. Damir Hadžović (14-6-0)\nNicolas Dalby (19-4-1) vs. Claudio Silva (14-3-0)\nJai Herbert (11-4-0) vs. Kyle Nelson (13-4-0)\nNathaniel Wood (17-5-0) vs. Charles Rosa (14-7-0)\n\nOstatnia modyfikacja: 10.07.2022 r.
URL:https://strefamma.pl/event/ufc-london-blaydes-vs-aspinall/
LOCATION:O2 Arena\, Londyn\, United Kingdom
ATTACH;FMTTYPE=image/png:https://strefamma.pl/wp-content/uploads/2022/06/UFC-Fight-Night-London-Blaydes-vs-Aspinall.png
END:VEVENT
BEGIN:VEVENT
DTSTART;TZID=Europe/Warsaw:20220723T190000
DTEND;TZID=Europe/Warsaw:20220723T233000
DTSTAMP:20260423T032601
CREATED:20220627T074414Z
LAST-MODIFIED:20220723T070923Z
UID:42172-1658602800-1658619000@strefamma.pl
SUMMARY:KSW 72: Romanowski vs. Grzebyk
DESCRIPTION:Już 23 lipca największa europejska federacja MMA zawita do Kielc! Na historycznym wydarzeniu\, jakim jest KSW 72\, nie zabraknie emocji! \nNa lipcowej gali KSW 72 zmierzą się ze sobą czołowi polscy półśredni. Tomasz Romanowski wrócił na ścieżkę zwycięstw po porażce z Patrikiem Kinclem na KSW 61. Tym razem w walce wieczoru spotka się z Andrzejem Grzebykiem\, który nie radzi sobie najlepiej od czasu dołączenia do KSW. Były podwójny mistrz organizacji FEN w 4. walkach uzbierał dwie wygrane i tyle samo porażek. Warto zaznaczyć\, że jedna z nich była efektem złamania nogi. \nInną potwierdzoną walką jest Patryk Kaczmarczyk vs. Dawid Śmiełowski. Młodzi gniewni fighterzy rozpoczęli konflikt w mediach społecznościowych\, a 23 lipca na KSW 72 wyjaśnią wszystko w okrągłej klatce! \nObstaw KSW 72 w Fortunie!\nCałą galę KSW 72 obstawicie u bukmachera eFortuna.pl! Na start przygotowano dla Was specjalny BONUS i ZAKŁAD BEZ RYZYKA aż do 600 zł! \nJeżeli twój pierwszy kupon będzie zwycięski otrzymujesz wygraną\, a jeśli przegrasz Fortuna zwróci Ci wkład\, maksymalnie do 600 zł na konto gracza. Możesz dodać na swój kupon jakiekolwiek rozgrywki sportowe i obstawić za dowolna kwotę\, a jeśli typerskie przeczucie Cię zawiedzie przy okazji KSW 72\, otrzymasz zwrot postawionej kwoty\, który możesz wykorzystać na grę. \n \nKarta walk KSW 72: Romanowski vs. Grzebyk\nWalka wieczoru: \n\n77\,1 kg/170 lb: Tomasz Romanowski (15-8-0) vs. Andrzej Grzebyk (18-5-0)\n\nKarta główna: \n\n65\,8 kg/145 lb: Patryk Kaczmarczyk (8-1-0) vs. Dawid Śmiełowski (9-0-0)\n77\,1 kg/170 lb: Michał Pietrzak (10-5-1) vs. Brian Hooi (17-8-0)\n56\,7 kg/125 lb: Sara Luzar-Smajić (4-1) vs Emilia Czerwińska (1-0)\n93 kg/205 lb: Oumar Sy (6-0) vs Bartłomiej Gładkowicz (8-2-0)\n61\,2 kg/135 lb: Patryk Surdyn (6-2) vs Gustavo Oliveira (8-1)\n70\,3 kg/155 lb: Hubert Szymajda (9-5) vs. Yann Liasse (6-1)\n77\,1  kg/170 lb: Robert Maciejowski (5-4-1) vs Arkadiusz Kaszuba (3-1)\n\nOstatnia modyfikacja: 19.07.2022 r.
URL:https://strefamma.pl/event/ksw-72/
LOCATION:Amfiteatr Kadzielnia\, Kielce\, Świętokrzyskie\, Poland
ATTACH;FMTTYPE=image/png:https://strefamma.pl/wp-content/uploads/2022/06/KSW-72.png
END:VEVENT
BEGIN:VEVENT
DTSTART;TZID=Europe/Warsaw:20220723T190000
DTEND;TZID=Europe/Warsaw:20220723T233000
DTSTAMP:20260423T032601
CREATED:20220713T063541Z
LAST-MODIFIED:20220713T063541Z
UID:43714-1658602800-1658619000@strefamma.pl
SUMMARY:OKTAGON 34: Vemola vs. Ilić
DESCRIPTION:23 lipca to dzień wypełniony MMA! W czeskiej Pradze na gali OKTAGON 34 ponownie zobaczymy dużo akcji i kapitalne pojedynki\, również z udziałem Polaków! \nByły mistrz wagi lekkiej\, Mateusz Legierski\, powraca po pierwszej zawodowej porażce\, jaką odniósł na KSW 65. Popularny „Dynamit” powinien bez problemu sięgnąć po wygraną w pojedynku\, w którym jego rywalem będzie Matouš Kohout. \nW walce wieczoru stawką będzie zawakowany pas mistrza wagi półciężkiej OKTAGON MMA. Zmierzą się o niego dawny reprezentant UFC\, który w Ameryce nie radził sobie najlepiej\, Karlos Vémola oraz dobrze znany fanom KSW Serb\, Aleksandar Ilić. \nTypy i kursy bukmacherskie na OKTAGON 34. Graj z STS!\nRejestrując się – tutaj – otrzymasz specjalne bonusy przygotowane dla wszystkich nowych użytkowników. STS oferuje dodatkowe 100% od pierwszego depozytu aż do kwoty 300 złotych. Ponadto gracz będzie mógł postawić pierwszy zakład bez ryzyka do 100 złotych. Wystarczy zarejestrować się – tutaj – wpłacić pieniądze i obstawić kupon. \n \nKarta walk OKTAGON 34: Vemola vs. Ilić\nWalka wieczoru: \n\nKarlos Vémola (32-6-0) vs. Aleksandar Ilić (13-4-0) – o zawakowany pas wagi półciężkiej OKTAGON MMA\n\nKarta główna: \n\nMateusz Legierski (7-1-0) vs. Matouš Kohout (7-4-0)\nJeremy Kimball (18-9-0) vs. Hatef Moeil (12-4-0)\nMáté Kertész (11-5-0) vs. Vladislav Kanchev (12-6-2)\nDawid Kareta (4-2-0) vs. Roman Paulus (8-1-0)\nJan Široký (11-13-0) vs. Tomáš Fiala (7-5-0)\n\nPozostałe walki: \n\nDaniel Škvor (3-1-0) vs. Panagiotis Stroumpoulis (14-7-0)\nDavid Moon (9-5-0) vs. Michal Konrád (8-8-0)\nMichal Kotalík (6-4-0) vs. Ole Magnor (6-6-0)\nFilip Macek (26-16-1) vs. Mikael Silander (20-9-0)\nCornelia Holm (4-4-0) vs. Róża Gumienna (4-2-0)\nVáclav Holota (6-1-0) vs. Max Handanagić (8-5-1)\nSimeon Kapuya (2-0-0) vs. Martin Pipek (0-0-0)\n\nOstatnia modyfikacja: 12.07.2022 r.
URL:https://strefamma.pl/event/oktagon-34-vemola-vs-ilic/
LOCATION:Central Tennis Court Štvanice\, Praga\, Czech Republic
ATTACH;FMTTYPE=image/png:https://strefamma.pl/wp-content/uploads/2022/07/OKTAGON-34-PLAKAT.png
END:VEVENT
END:VCALENDAR