BEGIN:VCALENDAR
VERSION:2.0
PRODID:-//StrefaMMA.pl - Portal sportów walki - ECPv5.16.3.1//NONSGML v1.0//EN
CALSCALE:GREGORIAN
METHOD:PUBLISH
X-WR-CALNAME:StrefaMMA.pl - Portal sportów walki
X-ORIGINAL-URL:https://strefamma.pl
X-WR-CALDESC:Wydarzenia dla StrefaMMA.pl - Portal sportów walki
REFRESH-INTERVAL;VALUE=DURATION:PT1H
X-Robots-Tag:noindex
X-PUBLISHED-TTL:PT1H
BEGIN:VTIMEZONE
TZID:Europe/Warsaw
BEGIN:DAYLIGHT
TZOFFSETFROM:+0100
TZOFFSETTO:+0200
TZNAME:CEST
DTSTART:20220327T010000
END:DAYLIGHT
BEGIN:STANDARD
TZOFFSETFROM:+0200
TZOFFSETTO:+0100
TZNAME:CET
DTSTART:20221030T010000
END:STANDARD
END:VTIMEZONE
BEGIN:VEVENT
DTSTART;TZID=Europe/Warsaw:20220709T190000
DTEND;TZID=Europe/Warsaw:20220710T003000
DTSTAMP:20260423T032631
CREATED:20220709T120849Z
LAST-MODIFIED:20220709T120849Z
UID:43246-1657393200-1657413000@strefamma.pl
SUMMARY:Dereck Chisora vs. Kubrat Pulev 2
DESCRIPTION:W Londynie będzie „Totalna Rzeźnia”! Już 9 lipca odbędzie się hitowy pojedynek rewanżowy pomiędzy Dereckiem Chisorą i Kubratem Pulevem! \nDoświadczony pięściarz Dereck Chisora wraca do ringu by udowodnić\, że wciąż należy do czołówki wagi ciężkiej! W ostatnich dwóch latach przegrywał aż trzykrotnie: nie dał rady Ołeksandrowi Usykowi oraz dwa razy uległ Josephowi Parkerowi (raz niejednogłośną\, a raz jednogłośną decyzją sędziów). \nTeraz kontrowersyjnego pięściarza czeka kolejny rewanż! Kubrat Pulev pokonał Chisorę przed sześcioma laty niejednogłośną decyzją. W całej karierze Bułgar przegrywał jedynie dwukrotnie – z Władimirem Kliczką oraz Anthonym Joshuą. \nNa gali Chisora vs. Pulev 2 w Londynie pojawi się też polski akcent. Łukasz Maciec po wygranej przed niespełna dwoma miesiącami z Joelem Julio stanie do walki o zawakowany pas wagi super średniej WBA. Rywalem „Grubego” będzie niepokonany w 11. pojedynkach Caoimhin Agyarko. \nKiedy i gdzie oglądać Chisora – Pulev? Transmisja w DAZN!\nTransmisja na żywo nie będzie transmitowana w telewizji. Cała gala Dereck Chisora vs. Kubrat Pulev dostępna będzie do obejrzenia NA ŻYWO dla użytkowników DAZN. Wystarczy zarejestrować się przez TEN LINK. Subskrypcja kosztuje 39\,99 zł miesięcznie\, a zrezygnować z niej można w każdej chwili. DAZN daje możliwość zobaczenia na żywo wielu innych wydarzeń sportowych. \nTypy i kursy bukmacherskie Chisora – Pulev 2. Obstaw walkę w STS!\nRejestrując się – tutaj – otrzymasz specjalne bonusy przygotowane dla wszystkich nowych użytkowników. STS oferuje dodatkowe 100% od pierwszego depozytu aż do kwoty 300 złotych. Ponadto gracz będzie mógł postawić pierwszy zakład bez ryzyka do 100 złotych. Wystarczy zarejestrować się – tutaj – wpłacić pieniądze i obstawić kupon. \n \nKarta walk Chisora vs. Pulev 2\nWalka wieczoru: \n\nDereck Chisora (32-12-0) vs. Kubrat Pulev (29-2-0)\n\nPozostałe walki: \n\nIsrail Madrimov (8-0-0) vs. Michel Soro (35-3-1)\nRamla Ali (5-0-0) vs. Agustina Marisa Rojas (0-0-0)\nFelix Cash (15-0-0) vs. Vaughn Alexander (17-6-1) – o pas mistrzowski WBA w wadze średniej\nCaoimhin Agyarko (11-0-0) vs. Łukasz Maciec (28-4-1) – o pas mistrzowski WBA w wadze super średniej\nSolomon Dacres (3-0-0) vs. Kevin Nicolas Espindola (7-4-0)\nYousuf Ibrahim (0-0-0) vs. Fran Rodriguez (1-7-0)\n\nOstatnia modyfikacja: 09.07.2022 r.
URL:https://strefamma.pl/event/dereck-chisora-vs-kubrat-pulev-2/
LOCATION:O2 Arena\, Londyn\, United Kingdom
ATTACH;FMTTYPE=image/png:https://strefamma.pl/wp-content/uploads/2022/07/Chisora-vs.-Pulev-2.png
END:VEVENT
BEGIN:VEVENT
DTSTART;TZID=Europe/Warsaw:20220709T190000
DTEND;TZID=Europe/Warsaw:20220710T010000
DTSTAMP:20260423T032631
CREATED:20220615T050955Z
LAST-MODIFIED:20220705T101046Z
UID:40620-1657393200-1657414800@strefamma.pl
SUMMARY:Prime Show MMA 2: Kosmos
DESCRIPTION:Dnia 9 lipca w gdyńskiej Arenie rozpocznie się wielce oczekiwane show w świecie freak fightów. Do akcji powraca Prime Show MMA 2! \nFederacja\, której twarzą jest Kasjusz „Don Kasjo” Życiński ponownie zrobiła szum na polskiej scenie freak fightów! Na Prime Show MMA 2: Kosmos zobaczymy nie tylko gwiazdy z YouTube’a\, ale też sportowców z krwi i kości. \nDo Polski powraca senegalski „Bombardier”\, który w ostatniej walce poniósł sromotną porażkę z Mariuszem Pudzianowskim\, teraz spotka się z Damianem „Stiflerem” Zduńczykiem. Niedoszły rywal gwiazdy Warsaw Shore\, Adam Soroko\, również pojawi się n a Prime Show MMA 2. Jego oponentem będzie Paweł „Tybori” Tyburski. \nWreszcie w walce wieczoru Grzegorz Szulakowski będzie mógł udowodnić swoje słowa z ubiegłego roku\, gdy stwierdził\, że chciałby napier***lić Normanowi Parke. Włodarze Prime Show MMA postanowili spełnić jego życzenie i zestawili fighterów w walce wieczoru. \nTypy i kursy na galę Prime Show MMA 2\nGalę Prime Show MMA obstawisz tylko u bukmachera eFortuna.pl! Na start przygotowano specjalny BONUS i ZAKŁAD BEZ RYZYKA aż do 600 zł! \nZasady są proste. Jeżeli twój pierwszy kupon będzie zwycięski otrzymujesz wygraną\, jeżeli przegrasz Fortuna zwróci Ci wkład\, maksymalnie do 600 zł na konto gracza. Możesz dodać na swój kupon jakiekolwiek rozgrywki sportowe i obstawić za dowolna kwotę\, a jeśli tym razem typerskie przeczucie Cię zawiedzie otrzymasz zwrot postawionej kwoty\, który możesz wykorzystać na grę. \n \n-> Gram z Fortuną! Odbieram bonus. \nKarta walk Prime Show MMA 2: Kosmos\nWalka wieczoru: \n\nNorman Parke vs. Grzegorz Szulakowski\n\nPozostałe walki: \n\nDominika Rybak vs. Klaudia Kapuśniak – walka w K-1 w małych rękawicach\nSerigne „Bombardier” Ousmane Dia vs. Damian „Stifler” Zduńczyk\nAdam Soroko vs. Paweł „Tybori” Tyburski – walka w K-1 w małych rękawicach\nJan Patecki vs. Michał „Bagietka” Gorzelańczyk\nSebastian „Ztrolowany” Nowak vs. Marcin „Mielonidas” Makowski\nMateusz „Millu” Mil vs. Mikołaj Jędruszczak\nJakub „HeCmAn” Rygiel vs. Dawid „Ambro” Ambroziak – pojedynek bokserski\nJaś Kapela vs. Konrad „Skolim” Skolimowski\nMarcin „Polish Zombie” Wrzosek vs. Piotr Kałuski – walka w K-1 w małych rękawicach\nMaciej Rataj vs. Mikołaj „Vandal” Rdzanek – walka w K-1 w małych rękawicach\n\nOstatnia modyfikacja: 05.07.2022 r.
URL:https://strefamma.pl/event/prime-show-mma-2-kosmos/
LOCATION:Gdynia Arena\, ul. Kazimierza Górskiego 8\, Gdynia\, Poland
ATTACH;FMTTYPE=image/png:https://strefamma.pl/wp-content/uploads/2022/06/Prime-Show-MMA-2-kOSMOS-Baner.png
END:VEVENT
BEGIN:VEVENT
DTSTART;TZID=Europe/Warsaw:20220709T230000
DTEND;TZID=Europe/Warsaw:20220710T230000
DTSTAMP:20260423T032631
CREATED:20220620T161650Z
LAST-MODIFIED:20220705T143150Z
UID:41342-1657407600-1657494000@strefamma.pl
SUMMARY:UFC Vegas 58: Dos Anjos vs. Fiziev
DESCRIPTION:Kolejny weekend w Las Vegas! Na UFC Vegas 58 zobaczymy pojedynek Rafael vs. Rafael\, czyli Dos Anjos vs. Fiziev! \nDo oktagonu powróci były mistrz wagi lekkiej\, Rafael Dos Anjos. Brazylijczyk w ostatnim boju nie miał litości nad Renato Moicano\, któremu urządził masakrę na UFC 272 i wygrał pewną\, jednogłośną decyzją. Dzięki temu Dos Anjos zaliczył udany powrót do startów w MMA po blisko półtorarocznej przerwie. \nRywalem „RDA” będzie niezwykle groźny Rafael Fiziev. Pochodzący z Kirgistanu „Ataman” przegrał w zawodowej karierze tylko raz – w debiucie w UFC. Fiziev ma obecnie serię 5. walk\, kończąc po drodze wspominanego Moicano\, dając znakomitą wojnę z Bobby’im Greenem oraz nokautując w 3. rundzie obrotówką Brada Riddella. \nOglądaj UFC Vegas 58 w STS TV!\nJak zawsze wydarzenia UFC można oglądać za pośrednictwem UFC Fight Pass. Cała gala UFC Fight Night będzie jednak dostępna w STS TV dla użytkowników STS. Wystarczy zarejestrować się na stronie bukmachera TUTAJ\, by móc oglądać UFC Vegas 58 już od karty wstępnej! Największy polski bukmacher STS oferuje dodatkowe 100% od pierwszego depozytu do kwoty aż 300 złotych. Ponadto gracz będzie mógł postawić pierwszy zakład bez ryzyka do 100 złotych. Wystarczy zarejestrować się – tutaj – wpłacić pieniądze i obstawić kupon. \n \nKarta walk UFC Vegas 58: Dos Anjos vs. Fiziev\nWalka wieczoru: \n\nRafael dos Anjos (31-13-0) vs. Rafael Fiziev (11-1-0)\n\nKarta główna: \n\nCaio Borralho (11-1-0) vs. Armen Petrosyan (7-1-0)\nSaid Nurmagomedov (15-2-0) vs. Douglas Silva de Andrade (28-4-0)\nJared Vanderaa (12-8-0) vs. Chase Sherman (15-10-0)\nMichael Johnson (20-17-0) vs. Jamie Mullarkey (14-5-0)\n\nPozostałe walki: \n\nCynthia Calvillo (9-4-1) vs. Nina Nunes (10-7-0)\nAiemann Zahabi (8-2-0) vs. Ricky Turcios (11-2-0)\nAntonina Shevchenko (9-4-0) vs. Cortney Casey (10-9-0)\nCody Brundage (7-2-0) vs. Tresean Gore (3-1-0)\nKennedy Nzechukwu (9-3-0) vs. Karl Roberson (9-5-0)\nRonnie Lawrence (8-1-0) vs. Saidyokub Kakhramonov (9-2-0)\n\n \nOstatnia modyfikacja: 05.07.2022 r.
URL:https://strefamma.pl/event/ufc-vegas-58-dos-anjos-vs-fiziev/
LOCATION:Las Vegas\, UFC Apex
ATTACH;FMTTYPE=image/png:https://strefamma.pl/wp-content/uploads/2022/06/Poster-RDA-vs.-Fiziev.png
END:VEVENT
END:VCALENDAR