BEGIN:VCALENDAR
VERSION:2.0
PRODID:-//StrefaMMA.pl - Portal sportów walki - ECPv5.16.3.1//NONSGML v1.0//EN
CALSCALE:GREGORIAN
METHOD:PUBLISH
X-WR-CALNAME:StrefaMMA.pl - Portal sportów walki
X-ORIGINAL-URL:https://strefamma.pl
X-WR-CALDESC:Wydarzenia dla StrefaMMA.pl - Portal sportów walki
REFRESH-INTERVAL;VALUE=DURATION:PT1H
X-Robots-Tag:noindex
X-PUBLISHED-TTL:PT1H
BEGIN:VTIMEZONE
TZID:Europe/Warsaw
BEGIN:DAYLIGHT
TZOFFSETFROM:+0100
TZOFFSETTO:+0200
TZNAME:CEST
DTSTART:20220327T010000
END:DAYLIGHT
BEGIN:STANDARD
TZOFFSETFROM:+0200
TZOFFSETTO:+0100
TZNAME:CET
DTSTART:20221030T010000
END:STANDARD
END:VTIMEZONE
BEGIN:VEVENT
DTSTART;TZID=Europe/Warsaw:20220618T000000
DTEND;TZID=Europe/Warsaw:20220618T073000
DTSTAMP:20260423T082357
CREATED:20220615T192915Z
LAST-MODIFIED:20220615T192915Z
UID:40681-1655510400-1655537400@strefamma.pl
SUMMARY:CES 69: Ajim vs. Baatar
DESCRIPTION:W nocy z 17 na 18 czerwca odbędzie się kolejna gala CES MMA. Ashiek Ajim spotka się w walce o pas z Azjavkhlanem Baatarem. \nObstaw CES 69: Ajim vs. Baatar w Fortunie!\nGalę i wszystkie wydarzenia CES 69 obstawisz tylko i wyłącznie u bukmachera eFortuna.pl! Na start przygotowano specjalny BONUS i ZAKŁAD BEZ RYZYKA aż do 600 zł! \nZasady są proste. Jeżeli twój pierwszy kupon będzie zwycięski otrzymujesz wygraną\, jeżeli przegrasz Fortuna zwróci Ci wkład\, maksymalnie do 600 zł na konto gracza. Możesz dodać na swój kupon jakiekolwiek rozgrywki sportowe i obstawić za dowolna kwotę\, a jeśli typerskie przeczucie Cię zawiedzie przy okazji CES 69\, otrzymasz zwrot postawionej kwoty\, który możesz wykorzystać na grę. \n \nKarta walk CES 69: Ajim vs. Baatar\nWalka wieczoru: \n\nAshiek Ajim (5-1-0) vs. Azjavkhlan Baatar (8-6-0) – o pas mistrzowski CES MMA w wadze koguciej\n\nKarta główna: \n\nMike Rodriguez (11-7-0) vs. Jeremy May (13-11-0)\nRichie Santiago (8-4-0) vs. Harris Bonfiglio (4-1-0)\nAlex Cardenas (1-0-0) vs. Tyrime Da Silva (2-0-0)\nEddy George (5-0-0) vs. Jacob Bohn (10-9-0)\nDion Rubio (2-0-0) vs. Sam Watford (2-2-0)\nFran Collins 3-0-0) vs. Deran Martinez (0-0-0)\nNathan Ghareeb (5-1-0) vs. Javon Wright (6-5-0)\nChad Kelly (4-5-0) vs. John Douma (7-2-0)\n\nOstatnia modyfikacja: 15.06.2022 r.
URL:https://strefamma.pl/event/ces-69-ajim-vs-baatar/
LOCATION:Twin River Casino\, Lincoln\, United States
ATTACH;FMTTYPE=image/png:https://strefamma.pl/wp-content/uploads/2022/06/CES-MMA-69.png
END:VEVENT
BEGIN:VEVENT
DTSTART;TZID=Europe/Warsaw:20220618T010000
DTEND;TZID=Europe/Warsaw:20220618T083000
DTSTAMP:20260423T082357
CREATED:20220613T050046Z
LAST-MODIFIED:20220616T061032Z
UID:40468-1655514000-1655541000@strefamma.pl
SUMMARY:PFL 4: 2022 Regular Season
DESCRIPTION:W nocy z 17 na 18 czerwca do klatki powróci Marcin Held! Polak\, który dołączył do obecnego sezonu Professional Fighters League spotka się z Natanem Schulte! \nMarcin Held to niezwykle doświadczony zawodnik\, który występował już dla wielu organizacji. Polak najbardziej został zapamiętany z walk w Bellatorze\, gdzie zachwycał swoimi poddaniami. Rywalem Helda będzie Natan Schulte\, z którym to Marcin mierzył się w poprzednim sezonie Professional Fighting League. \nObstaw PFL 4  w STS!!\nPFL 4 obstawić można w STS. Wszyscy nowi użytkownicy otrzymują świetny bonus! \nWystarczy zarejestrować się na stronie bukmachera TUTAJ\, by móc oglądać UFC 275 za darmo już od karty wstępnej! STS oferuje dodatkowe 100% od pierwszego depozytu do kwoty aż 300 złotych. Ponadto gracz będzie mógł postawić pierwszy zakład bez ryzyka do 100 złotych. Wystarczy zarejestrować się – tutaj – wpłacić pieniądze i obstawić kupon. \n \n\nKarta walk PFL 4\nWalka wieczoru: \n\nClay Collard (21-9-0) vs. Alex Martinez (9-2-0)\n\nKarta główna: \n\nAntônio Carlos Júnior (14-5-0) vs. Bruce Souto (15-4-0)\nRaush Manfio (16-3-0) vs. Olivier Aubin-Mercier (14-5-0)\nJeremy Stephens (28-20-0) vs. Myles Price (11-8-0)\n\nKarta wstępna: \n\nOmari Akhmedov (22-7-1) vs. Teodoras Aukštuolis (11-6-0)\nNatan Schulte (21-5-1) vs. Marcin Held (27-8-0)\nEmiliano Sordi 23-10-1) vs. Delan Monte (8-2-0)\nRob Wilkinson (14-2-0) vs. Viktor Pešta (18-7-0)\nMarthin Hamlet (9-3-0) vs. Josh Silveira (8-0-0)\nBruno Miranda (14-3-0) vs. Nate Jennerman (15-5-0)\n\nOstatnia modyfikacja: 13.06.2022
URL:https://strefamma.pl/event/pfl-4-2022-regular-season/
LOCATION:Overtime Elite Arena\, Atlanta\, United States
ATTACH;FMTTYPE=image/png:https://strefamma.pl/wp-content/uploads/2022/06/PFL-4-Schilte-vs.-Held.png
END:VEVENT
BEGIN:VEVENT
DTSTART;TZID=Europe/Warsaw:20220618T160000
DTEND;TZID=Europe/Warsaw:20220618T233000
DTSTAMP:20260423T082357
CREATED:20220613T043853Z
LAST-MODIFIED:20220617T081643Z
UID:40462-1655568000-1655595000@strefamma.pl
SUMMARY:Armia Fight Night 13
DESCRIPTION:Ponownie w hotelu DoubleTree by Hilton w Łodzi18 czerwca odbędzie się gala Armia Fight Night 13. Na show nie zabraknie walki o tytuł mistrzowski! \nSylwester Miller spotka się w rewanżu za porażkę z AFN 11 z Oleksijem Polischuckiem. Ukrainiec tak\, jak na Armia Fight Night 13 18 czerwca\, mógł zdobyć Mistrzowską Szablę wagi koguciej\, jednak przekroczył on limit wagowy. Szykuje się zatem wspaniała wojna! \nPrzed nimi do klatki powróci niepokonany Norbert Daszkiewicz. Zawodnik trenujący na co dzień w WCA Fight Team spotka się z największym dotychczas wyzwaniem. Naprzeciwko Daszkiewicza stanie Kolumbijczyk\, Gilber Ordoñez Huila. \nObstaw Armia Fight Night 13 w Fortunie!\nWydarzenia gali AFN 13 obstawisz tylko i wyłącznie u bukmachera eFortuna.pl! Na start przygotowano specjalny BONUS i ZAKŁAD BEZ RYZYKA aż do 600 zł! \nZasady są proste. Jeżeli twój pierwszy kupon będzie zwycięski otrzymujesz wygraną\, jeżeli przegrasz Fortuna zwróci Ci wkład\, maksymalnie do 600 zł na konto gracza. Możesz dodać na swój kupon jakiekolwiek rozgrywki sportowe i obstawić za dowolna kwotę\, a jeśli typerskie przeczucie Cię zawiedzie przy okazji Armia Fight Night 13\, otrzymasz zwrot postawionej kwoty\, który możesz wykorzystać na grę. \n \nKarta walk Armia Fight Night 13\nWalka wieczoru: \n\nSylwester Miller 10-5-0) vs. Oleksii Polischuck (9-3-0) – o zawakowaną Mistrzowską Szablę wagi koguciej\n\nPozostałe walki: \n\nNorbert Daszkiewicz (4-0-0) vs. Gilber Ordoñez Huila (10-4-0)\nJan Ciepłowski (3-0-0) vs. Patrik Martinik (2-1-0)\nMarcin Polita (0-1-0) vs. Jakub Dobek (0-0-0)\nSławomir Rawiński 3-2-0) vs. Dariusz Sierhej (1-1-0)\nBłażej Majdan (3-4-0) vs. Kamil Czyżewski (3-2-0)\nSara Jóźwiak (5-2-0) vs. Klara Piętak (1-0-0)\n\nOstatnia modyfikacja: 13.06.2022 r.
URL:https://strefamma.pl/event/armia-fight-night-13/
LOCATION:DoubleTree by Hilton Hotel Łódź\, Łódź\, Poland
ATTACH;FMTTYPE=image/png:https://strefamma.pl/wp-content/uploads/2022/06/Armia-Fight-Night-13-AFNTwitter.png
END:VEVENT
BEGIN:VEVENT
DTSTART;TZID=Europe/Warsaw:20220618T180000
DTEND;TZID=Europe/Warsaw:20220618T233000
DTSTAMP:20260423T082357
CREATED:20220607T045933Z
LAST-MODIFIED:20220613T161102Z
UID:39765-1655575200-1655595000@strefamma.pl
SUMMARY:KSW 71: Ziółkowski vs. Rajewski
DESCRIPTION:anńPo znakomitym show jakim było KSW 70\, największa federacja MMA w Polsce wraca z kolejną porcją znakomitych walk. KSW 71 już 18 czerwca w Toruniu! \nNa gali pojawi się jeden z czołowych polskich lekkich i mistrz federacji w tej kategorii\, Marian Ziółkowski po pewnej obronie jednogłośną decyzją przeciwko Borysowi Mańkowskiemu teraz spotka się z kolejnym pretendentem\, jakim będzie Sebastian Rajewski. \nKSW 71 przyciągnie fanów wielkim powrotem i bodaj jeszcze większymi debiutami! Do klatki jednej z największych federacji MMA w Europie powraca były jednokrotny mistrz wagi ciężkiej\, Marcin „Różal” Różalski! Wytatuowany fighter zmierzy się w K-1 z Holendrem\, Errolem Zimmermanem. \nI wreszcie\, po latach oczekiwania\, rękawice bokserskie na te mniejsze od MMA zdecydował się zamienić Artur Szpilka. Znany polski pięściarz zmierzy się z mającym doświadczeniem Ukraińcem\, Serhijejem Radczenką. \nKSW 71 Obstawisz w FORTUNIE!\nWydarzenia gali KSW 71 obstawisz tylko i wyłącznie u bukmachera eFortuna.pl! Na start przygotowano specjalny BONUS i ZAKŁAD BEZ RYZYKA aż do 600 zł! \nZasady są proste. Jeżeli twój pierwszy kupon będzie zwycięski otrzymujesz wygraną\, jeżeli przegrasz Fortuna zwróci Ci wkład\, maksymalnie do 600 zł na konto gracza. Możesz dodać na swój kupon jakiekolwiek rozgrywki sportowe i obstawić za dowolna kwotę\, a jeśli typerskie przeczucie Cię zawiedzie przy okazji KSW 71\, otrzymasz zwrot postawionej kwoty\, który możesz wykorzystać na grę. \n \nKarta walk KSW 71: Ziółkowski vs. Rajewski\nWalka wieczoru: \nMarian Ziółkowski (24-8-1) vs. Sebastian Rajewski (12-6-0) – o pas mistrzowski KSW w wadze lekkiej \nCo-main event: \nMarcin Różalski vs. Errol Zimmerman – walka na zasadach K-1 w rękawicach do MMA \nPozostałe walki: \nArtur Szpilka (0-0-0) vs. Serhiy Radchenko (2-1-0) \nBorys Mańkowski (22-9-1) vs. Daniel Torres (13-5-0) \nJakub Wikłacz (12-3-1) vs. Bruno Santos (10-3-0) \nFilip Stawowy (9-2-0) vs. Michal Martínek (9-3-0) \nRoman Szymański (15-6-0) vs. Valeriu Mircea (26-7-1) \nArtur Sowiński (22-13-0) vs. Donovan Desmae (15-7-0) \nPrzemysław Dzwoniarek (3-1-0) vs. Marc Doussis (7-1-0) \nOstatnia modyfikacja: 13.06.2022 r.
URL:https://strefamma.pl/event/ksw-71-ziolkowski-vs-rajewski/
LOCATION:Toruń Arena\, Toruń\, Poland
ATTACH;FMTTYPE=image/png:https://strefamma.pl/wp-content/uploads/2022/06/KSW-71-Baner.png
END:VEVENT
BEGIN:VEVENT
DTSTART;TZID=Europe/Warsaw:20220618T180000
DTEND;TZID=Europe/Warsaw:20220619T180000
DTSTAMP:20260423T082357
CREATED:20220422T043809Z
LAST-MODIFIED:20220617T180159Z
UID:35330-1655575200-1655661600@strefamma.pl
SUMMARY:FEN 40
DESCRIPTION:Już 18 czerwca w ostródzkim Amfiteatrze odbędzie się gala FEN 40! Tego wieczoru zobaczymy aż trzy walki o pasy mistrzowskie! \nByły fighter między innymi KSW\, czy OKTAGON MMA Marcin Naruszczka stanie przed szansą zdobycia zawakowanego pasa mistrzowskiego wagi średniej. Jego rywalem na FEN 40 będzie zdecydowanie mniej doświadczony Piotr Kuberski. \nW co-main evencie zaś Cezary Oleksiejczuk stanie do pierwszej obrony tytułu mistrzowskiego kategorii półśredniej\, który zdobył na FEN 37. 18 czerwca w Ostródzie jego oponentem będzie Kamil Kraska. Walką wieczoru FEN 40 jest starcie Kacper Formela vs. Aleksandr Gorshechnik o pas mistrzowski wagi piórkowej\, który jest w posiadaniu Polaka. \nFEN 40 Obstawisz w FORTUNIE!\nWydarzenia gali FEN 40 obstawisz tylko i wyłącznie u bukmachera eFortuna.pl! Na start przygotowano specjalny BONUS i ZAKŁAD BEZ RYZYKA aż do 600 zł! \nZasady są proste. Jeżeli twój pierwszy kupon będzie zwycięski otrzymujesz wygraną\, jeżeli przegrasz Fortuna zwróci Ci wkład\, maksymalnie do 600 zł na konto gracza. Możesz dodać na swój kupon jakiekolwiek rozgrywki sportowe i obstawić za dowolna kwotę\, a jeśli typerskie przeczucie Cię zawiedzie przy okazji FEN 40\, otrzymasz zwrot postawionej kwoty\, który możesz wykorzystać na grę. \n \nKarta walk FEN 40\nWalka wieczoru: \n\nKacper Formela (13-4-0) vs. Aleksandr Gorshechnik (18-5-0) – o pas mistrzowski wagi piórkowej FEN\n\nPozostałe walki: \n\nCezary Oleksiejczuk (8-2-0) vs. Kamil Kraska (8-1-0) – o pas mistrzowski wagi półśredniej FEN\nMarcin Naruszczka (23-11-2) vs. Piotr Kuberski (9-1-0) – o pas mistrzowski wagi średniej FEN\nPatryk Duński (8-5-1) vs. Wojciech Kawa (4-1-0)\nMariusz Joniak 9-4-0) vs. Sebastian Romanowski (14-9-1)\nAdrian Zieliński (21-11-0) vs. Jacek Jędraszczyk (8-3-0)\nWojciech Janusz (11-7-0) vs. Łukasz Klinger (10-6-0)\nSzymon Dusza (10-7-0) vs. Wawrzyniec Bartnik (6-2-0)\nDariusz Hrehorowicz (0-0-0) vs. Adam Lazar (0-0-0)\nAlan Szymański (0-1-0) vs. Bartłomiej Dragański (1-0-0)\nOskar Stachura (2-1-0) vs. Oliwier Filipiak (8-1-0)\nMichał Borowski (11-1-0) vs. Mateusz Koszela (1-3-0)\n\nOstatnia modyfikacja: 17.06.2022 r.
URL:https://strefamma.pl/event/fen-40/
LOCATION:Amfiteatr Ostróda\, Ostróda\, Poland
ATTACH;FMTTYPE=image/png:https://strefamma.pl/wp-content/uploads/2022/04/FEN-40-Plakat-Twitter.png
END:VEVENT
BEGIN:VEVENT
DTSTART;TZID=Europe/Warsaw:20220618T200000
DTEND;TZID=Europe/Warsaw:20220619T090000
DTSTAMP:20260423T082357
CREATED:20220523T043633Z
LAST-MODIFIED:20220618T065430Z
UID:38136-1655582400-1655629200@strefamma.pl
SUMMARY:UFC on ESPN 37: Kattar vs. Emmet
DESCRIPTION:UFC znów zaczęło wyjeżdżać do innych miast i w nocy z 18 na 19 czerwca kolejna gala z cyklu Fight Night odbędzie się w Austin\, Texas. Karta walk jak zawsze pełna jest gwiazd! \nMain eventem UFC on ESPN 37 będzie pojedynek Calvina Kattara z Josem Emmetem. Ten ostatni przeżywa drugą młodość\, bo mimo 37 lat na karku znajduje się na serii 4. kolejnych zwycięstw. Przeciwnik z kolei\, czyli „The Boston Finisher” wytrzymał nawałnicę ciosów Maxa Hollowaya\, z którym przegrał przez decyzję\, a następnie udowodnił\, że jest w ścisłym topie dywizji piórkowej jednogłośnie pokonując Gigę Chikadze. \nTransmisja na żywo UFC w STS!\nWszystkie gale UFC można oglądać za pośrednictwem UFC Fight Pass. O wiele tańszą i lepszą opcją będzie jednak dostęp przez STS TV dla użytkowników STS. Wystarczy zarejestrować się na stronie bukmachera TUTAJ\, by móc oglądać UFC Fight Night za darmo już od karty wstępnej! Największy polski bukmacher STS oferuje dodatkowe 100% od pierwszego depozytu do kwoty aż 300 złotych. Ponadto gracz będzie mógł postawić pierwszy zakład bez ryzyka do 100 złotych. Wystarczy zarejestrować się – tutaj – wpłacić pieniądze i obstawić kupon. \n \n \nKarta walk UFC on ESPN 37\nWalka wieczoru: \n\nCalvin Kattar (23-5-0) vs. Josh Emmett (17-2-0)\n\nKarta główna: \n\nDonald Cerrone (36-16-0) vs. Joe Lauzon (28-15-0)\nDamir Ismagulov (23-1-0) vs. Guram Kutateladze (12-2-0)\nJulian Marquez (9-2-0) vs. Gregory Rodrigues (11-4-0)\nTim Means (32-12-1) vs. Kevin Holland (22-7-0)\nJoaquin Buckley (14-4-0) vs. Albert Duraev (15-3-0)\n\nKarta wstępna: \n\nPhil Hawes (11-3-0) vs. Deron Winn (7-2-0)\nKyle Daukaus (11-2-0) vs. Roman Dolidze (9-1-0)\nGloria de Paula (6-4-0) vs. Maria Oliveira (12-5-0)\nJasmine Jasudavicius (7-1-0) vs. Natália Silva (12-5-1)\nCody Stamann 19-5-1) vs. Eddie Wineland (24-15-1)\nJeremiah Wells (10-2-1) vs. Court McGee (21-10-0)\nAdrian Yanez 15-3-0 vs. Tony Kelley (8-2-0)\nDanny Chavez (11-4-1) vs. Ricardo Ramos (15-4-0)\n\nOstatnia modyfikacja: 18.06.2022 r.
URL:https://strefamma.pl/event/ufc-on-espn-37-kattar-vs-emmet/
LOCATION:Moody Center\, Austin\, United States
ATTACH;FMTTYPE=image/png:https://strefamma.pl/wp-content/uploads/2022/06/Calvin-Kattar-vs.-Josh-Emmet-wazenie.png
END:VEVENT
END:VCALENDAR