BEGIN:VCALENDAR
VERSION:2.0
PRODID:-//StrefaMMA.pl - Portal sportów walki - ECPv5.16.3.1//NONSGML v1.0//EN
CALSCALE:GREGORIAN
METHOD:PUBLISH
X-WR-CALNAME:StrefaMMA.pl - Portal sportów walki
X-ORIGINAL-URL:https://strefamma.pl
X-WR-CALDESC:Wydarzenia dla StrefaMMA.pl - Portal sportów walki
REFRESH-INTERVAL;VALUE=DURATION:PT1H
X-Robots-Tag:noindex
X-PUBLISHED-TTL:PT1H
BEGIN:VTIMEZONE
TZID:Europe/Warsaw
BEGIN:DAYLIGHT
TZOFFSETFROM:+0100
TZOFFSETTO:+0200
TZNAME:CEST
DTSTART:20220327T010000
END:DAYLIGHT
BEGIN:STANDARD
TZOFFSETFROM:+0200
TZOFFSETTO:+0100
TZNAME:CET
DTSTART:20221030T010000
END:STANDARD
END:VTIMEZONE
BEGIN:VEVENT
DTSTART;TZID=Europe/Warsaw:20220527T010000
DTEND;TZID=Europe/Warsaw:20220527T083000
DTSTAMP:20260423T094753
CREATED:20220523T181417Z
LAST-MODIFIED:20220523T181417Z
UID:38190-1653613200-1653640200@strefamma.pl
SUMMARY:Detroit Brawl: Wallin vs. Booker
DESCRIPTION:Już w nocy z 26 na 27 maja kolejna walka Otto Wallina! Szwedzki reprezentant wagi ciężkiej wystąpi na gali w stanie Michigan. \nPo raz ostatni Wallin wystąpił na gali w lutym tego roku\, gdzie na punkty pokonał reprezentanta Polski\, Kamila Skołowskiego. Szwed nie przejechał się po pięściarzu znad Wisły\, co jednak nie przeszkadzało mu w stwierdzeniu\, że dałby radę z Tysonem Furym. W nocy z 26 na 27 maja Otto Wallin będzie miał szansę udowodnić swoje słowa w starciu z Rydellem Bookerem. \nKarta walk Detroit Brawl: Wallin vs. Booker\nWalka wieczoru: \n\nOtto Wallin (23-1-0) vs. Rydell Booker (26-5-1)\n\nPozostałe walki: \n\nShohjahon Ergashev (21-0-0) vs. Luis Alberto Veron (19-3-2)\nMarlon Harrington (7-0-0) vs. Azael Cosio (21-9-2)\nFerris Dixon Jr (0-0-0) vs. Justin Cole (0-0-0)\n\nOstatnia modyfikacja: 23.05.2022 r.
URL:https://strefamma.pl/event/detroit-brawl-wallin-vs-booker/
LOCATION:Ford Community Centre\, Dearborn\, United States
ATTACH;FMTTYPE=image/png:https://strefamma.pl/wp-content/uploads/2022/05/Detroit-Brawl-Wallin-vs-Booker.png
END:VEVENT
BEGIN:VEVENT
DTSTART;TZID=Europe/Warsaw:20220527T190000
DTEND;TZID=Europe/Warsaw:20220528T010000
DTSTAMP:20260423T094753
CREATED:20220523T202314Z
LAST-MODIFIED:20220523T202314Z
UID:38202-1653678000-1653699600@strefamma.pl
SUMMARY:Cage Warriors 137
DESCRIPTION:27 maja w arenie Graham Boylanw Colchester odbędzie się kolejna gala od Cage Warriors. \nPodczas gali Cage Warriors 137 Joël Kouadja zmierzy się z Matthew Bonnerem. Anglik zdołał już podnieść się po porażce przez decyzję z Djati Melanem i skończył w 2. rundzie Hugo Pereirę. Francuz z kolei w końcu zaczął odnosić wygrane\, a konkretnie 6. z rzędu – do tego wszystkie przed czasem! \nKarta walk Cage Warriors 137\nWalka wieczoru: \nJoël Kouadja (7-8-0) vs. Matthew Bonner (11-7-1) \nPozostałe walki: \nTanio Pagliariccio (7-2-0) vs. Benoit Blanc (4-1-0) \nJack Dedames (1-0-0) vs. Omran Chaaban (2-1-0)
URL:https://strefamma.pl/event/cage-warriors-137/
LOCATION:Charter Hall\, Colchester\, United Kingdom
ATTACH;FMTTYPE=image/png:https://strefamma.pl/wp-content/uploads/2022/05/Cage-Warriors-137.png
END:VEVENT
END:VCALENDAR