BEGIN:VCALENDAR
VERSION:2.0
PRODID:-//StrefaMMA.pl - Portal sportów walki - ECPv5.16.3.1//NONSGML v1.0//EN
CALSCALE:GREGORIAN
METHOD:PUBLISH
X-ORIGINAL-URL:https://strefamma.pl
X-WR-CALDESC:Wydarzenia dla StrefaMMA.pl - Portal sportów walki
REFRESH-INTERVAL;VALUE=DURATION:PT1H
X-Robots-Tag:noindex
X-PUBLISHED-TTL:PT1H
BEGIN:VTIMEZONE
TZID:Europe/Warsaw
BEGIN:DAYLIGHT
TZOFFSETFROM:+0100
TZOFFSETTO:+0200
TZNAME:CEST
DTSTART:20220327T010000
END:DAYLIGHT
BEGIN:STANDARD
TZOFFSETFROM:+0200
TZOFFSETTO:+0100
TZNAME:CET
DTSTART:20221030T010000
END:STANDARD
END:VTIMEZONE
BEGIN:VEVENT
DTSTART;TZID=Europe/Warsaw:20220520T233000
DTEND;TZID=Europe/Warsaw:20220521T100000
DTSTAMP:20260423T082614
CREATED:20220515T000941Z
LAST-MODIFIED:20220515T000941Z
UID:37553-1653089400-1653127200@strefamma.pl
SUMMARY:Eagle FC 47: Dos Santos vs. De Castro
DESCRIPTION:Kolejna gala federacji Khabiba Nurmagomedova Eagle FC 47 odbędzie się w FLXcast Arenie w Miami w nocy z 20 na 21 maja. \nDo zawodowych startów w profesjonalnym MMA powróci Junior dos Santos. Były mistrz UFC w wadze ciężkiej spróbuje przerwać swoją serię 4. porażek z rzędu. Ostatni występ „Cigano” zaliczył na UFC 256 w 2020 roku\, gdzie przegrał przez KO w 2. rundzie. \nNaprzeciwko Brazylijczyka będzie pochodzący z Wysp Zielonego Przylądka Yorgan De Castro. Popularny „The Mad Titan” również mierzył się swego czasu w największej federacji MMA\, gdzie jednak wygrał tylko raz w 4. pojedynkach. \nKarta walk Eagle FC 47\nWalka wieczoru: \n\nYorgan De Castro (8-3-0) vs. Junior dos Santos (21-9-0)\n\nKarta główna: \n\nHector Lombard (34-10-1) vs. Thiago Silva (21-9-0)\nDylan Mantello (4-2-0) vs. Dennis Hughes (7-4-0)\nMaki Pitolo (14-9-0) vs. Doug Usher (13-3-0)\n\nKarta wstępna: \n\nAlexandre de Almeida (21-10-0) vs. Roosevelt Roberts (11-3-0)\nYosdenis Cedeno (11-7-1) vs. Islam Mamedov (20-2-1)\nRonny Markes (21-9-0) vs. Reggie Peña (15-6-0)\nAkhmed Aliev (20-7-0) vs. Darrell Horcher (14-5-0)\nDylan Mantello (4-2-0) vs. Dennis Hughes (7-4-0)\n\nOstatnia modyfikacja: 15.05.2022 r
URL:https://strefamma.pl/event/eagle-fc-47-dos-santos-vs-de-castro/
LOCATION:FLXcast Arena\, Miami\, Miami\, United States
ATTACH;FMTTYPE=image/png:https://strefamma.pl/wp-content/uploads/2022/05/Eagle-FC-47-plakat.png
END:VEVENT
BEGIN:VEVENT
DTSTART;TZID=Europe/Warsaw:20220521T173000
DTEND;TZID=Europe/Warsaw:20220522T010000
DTSTAMP:20260423T082614
CREATED:20220520T184137Z
LAST-MODIFIED:20220521T084503Z
UID:38011-1653154200-1653181200@strefamma.pl
SUMMARY:Joshua Buatsi vs. Craig Richards
DESCRIPTION:Już w sobotę 21 maja o znakomitej porze dla Polaków rozpocznie się gala z walką Adama Balskiego! Show odbędzie się w O2 Arenie w Londynie. \nTransmisja na żywo. Oglądaj w DAZN!\nCała gala Buatsi vs. Richards z walką mistrzowską Alen Babic vs. Adam Balski dostępna będzie do obejrzenia NA ŻYWO dla użytkowników DAZN. Wystarczy zarejestrować się przez TEN LINK. Subskrypcja kosztuje 39\,99 zł miesięcznie\, a zrezygnować z niej można w każdej chwili.\nDAZN daje możliwość zobaczenia na żywo wielu innych wydarzeń sportowych! \nTypowanie Buatsi vs. Richards. Obstawiaj w STS!\nNajwiększy polski bukmacher STS oferuje dodatkowe 100% od pierwszego depozytu do kwoty aż 300 złotych. Ponadto gracz będzie mógł postawić pierwszy zakład bez ryzyka do 100 złotych. Wystarczy zarejestrować się – tutaj – wpłacić pieniądze i obstawić kupon. \n \nKarta walk Buatsi vs. Richards\nWalka wieczoru: \n\nJoshua Buatsi (15-0-0) vs. Craig Richards (17-2-1)\n\nPozostałe walki: \n\nChantelle Cameron (15-0-0) vs. Victoria Noelia Bustos (23-6-0) – o pasy mistrzowskie wagi lekkiej WBC i IBF Super\nAlen Babic (10-0-0) vs. Adam Balski (16-1-0) – o pas mistrzowski WBC Silver w wadze Bridger\nRobbie Davies Jr. (22-3-0) vs. Javier Molina (22-4-0) – o pas mistrzowski wagi lekkiej WBA Continental\nEllie Scotney (4-0-0) vs. Maria Cecilia Roman (16-6-1) – o pas wagi koguciej WBA Inter Continental\nCheavon Clarke (0-0-0) vs. Paweł Martyniuk (4-9-0)\nJohn Hedges (5-0-0) vs. Robert Baltaru (0-0-0)\nShiloh Defreitas (0-0-0) vs. Iliyan Markov (5-15-2)\nCyrus Pattinson (0-0-0) vs. Dimitri Trenel (8-0-0)\n\nOstatnia modyfikacja: 20-05-2022 r.
URL:https://strefamma.pl/event/joshua-buatsi-vs-craig-richards/
LOCATION:O2 Arena\, Londyn\, United Kingdom
ATTACH;FMTTYPE=image/png:https://strefamma.pl/wp-content/uploads/2022/05/Buatsi-vs.-Richards-z-walka-Babic-vs.-Balski.png
END:VEVENT
BEGIN:VEVENT
DTSTART;TZID=Europe/Warsaw:20220521T220000
DTEND;TZID=Europe/Warsaw:20220522T220000
DTSTAMP:20260423T082614
CREATED:20220514T234645Z
LAST-MODIFIED:20220516T043819Z
UID:37549-1653170400-1653256800@strefamma.pl
SUMMARY:UFC Vegas 55: Holm vs. Vieira
DESCRIPTION:Gala UFC Vegas 55 odbędzie się w nocy z soboty 21 maja na niedzielę 22 maja. W walce wieczoru zobaczymy byłą mistrzynię wagi koguciej UFC\, Holly Holm. Amerykanka spotka się w oktagonie z Brazylijką\, Ketlen Vieirą. \nWalcząca pod pseudonimem „The Preacher’s Daughter” była championka podejdzie do walki na UFC Vegas 55 po dwóch kolejnych wygranych z rzędu. Amerykanka powróci do oktagonu po dwuletniej nieobecności. \nJej rywalką będzie Ketlen Vieira\, która po 10. wygranych w zawodowej karierze w końcu doznała smaku porażki z rąk Irene Aldany. Popularna „Fenomeno” od tamtej pory przeplatała przegrane zwycięstwami\, ale na UFC Vegas 43 kompletnie rozbiła Mieshę Tate. 22 maja spotka się z kolejną byłą mistrzynią wagi koguciej. \nTransmisja na żywo UFC Vegas 55 w STS\nJak zawsze wydarzenia UFC można oglądać za pośrednictwem UFC Fight Pass\, do której dostęp wynosi 9\,99 euro/miesiąc. Cała gala będzie jednak dostępna w STS TV dla użytkowników STS. Wystarczy zarejestrować się na stronie bukmachera TUTAJ\, by móc oglądać UFC Fight Night za darmo już od karty wstępnej! Największy polski bukmacher STS oferuje dodatkowe 100% od pierwszego depozytu do kwoty aż 300 złotych. Ponadto gracz będzie mógł postawić pierwszy zakład bez ryzyka do 100 złotych. Wystarczy zarejestrować się – tutaj – wpłacić pieniądze i obstawić kupon. \n \nKarta walk UFC Vegas 55\nWalka wieczoru: \n\nHolly Holm (14-5-0) vs. Ketlen Vieira (12-2-0)\n\nKarta główna: \n\nSantiago Ponzinibbio (28-5-0) vs. Michel Pereira (27-11-0)\nChidi Njokuani (21-7-0) vs. Duško Todorović (11-2-0)\nParker Porter (13-6-0) vs. Jailton Almeida (15-2-0)\nEryk Anders (14-6-0) vs. Jun Yong Park (13-5-0)\n\nKarta wstępna: \n\nJoseph Holmes (7-2-0) vs. Alen Amedovski (8-2-0)\nPolyana Viana (12-4-0) vs. Tabatha Ricci (6-1-0)\nOmar Morales 11-2-0) vs. Uros Medic (7-1-0)\nJonathan Martinez (15-4-0) vs. Vince Morales (11-5-0)\nChase Hooper (10-2-1) vs. Felipe Colares (10-3-0)\nElise Reed (5-1-0) vs. Sam Hughes (6-4-0)\n\nOstatnia modyfikacja: 15.05.2022 r
URL:https://strefamma.pl/event/ufc-vegas-55-holm-vs-vieira/
LOCATION:Las Vegas\, UFC Apex
ATTACH;FMTTYPE=image/png:https://strefamma.pl/wp-content/uploads/2022/05/UFC-Vegas-55-plakat.png
END:VEVENT
END:VCALENDAR