BEGIN:VCALENDAR
VERSION:2.0
PRODID:-//StrefaMMA.pl - Portal sportów walki - ECPv5.16.3.1//NONSGML v1.0//EN
CALSCALE:GREGORIAN
METHOD:PUBLISH
X-WR-CALNAME:StrefaMMA.pl - Portal sportów walki
X-ORIGINAL-URL:https://strefamma.pl
X-WR-CALDESC:Wydarzenia dla StrefaMMA.pl - Portal sportów walki
REFRESH-INTERVAL;VALUE=DURATION:PT1H
X-Robots-Tag:noindex
X-PUBLISHED-TTL:PT1H
BEGIN:VTIMEZONE
TZID:Europe/Warsaw
BEGIN:DAYLIGHT
TZOFFSETFROM:+0100
TZOFFSETTO:+0200
TZNAME:CEST
DTSTART:20220327T010000
END:DAYLIGHT
BEGIN:STANDARD
TZOFFSETFROM:+0200
TZOFFSETTO:+0100
TZNAME:CET
DTSTART:20221030T010000
END:STANDARD
END:VTIMEZONE
BEGIN:VEVENT
DTSTART;TZID=Europe/Warsaw:20220520T120000
DTEND;TZID=Europe/Warsaw:20220520T180000
DTSTAMP:20260423T094753
CREATED:20220515T004353Z
LAST-MODIFIED:20220517T191418Z
UID:37556-1653048000-1653069600@strefamma.pl
SUMMARY:One Championship 157: Petchmorakot vs. Vienot
DESCRIPTION:One Championship powraca z kolejną galą i krwawymi bojami w różnych dyscyplinach sportów walki. Show odbędzie się w Singapore Indoor Stadium. \nCałkiem wcześnie\, bo o godzinie 12:00 czasu rozpocznie się gala One Championship 157. W walce wieczoru Petchmorakot stanie do obrony tytułu wagi lekkiej w Muay Thai i podejmie Francuza\, Jimmy’ego Vienota. Przed nimi o pas mistrzowski wagi muszej One Championship również w Muay Thai Prajanchai zmierzy się z włoskim pretendentem\, Josephem Lasirim. \nOBSTAW ONE CHAMPIONSHIP W STS!\nNajwiększy polski bukmacher STS oferuje dodatkowe 100% od pierwszego depozytu do kwoty aż 300 złotych. Ponadto gracz będzie mógł postawić pierwszy zakład bez ryzyka do 100 złotych. Wystarczy zarejestrować się – tutaj – wpłacić pieniądze i obstawić kupon. \n \nKarta walk One Championship 157:\nWalka wieczoru: \n\nPetchmorakot Petchyindee vs. Jimmy Vienot – walka o pas mistrzowski wagi lekkiej One Championship w Muay Thai\n\nPozostałe walki: \n\nPrajanchai PK Saenchai vs. Joseph Lasiri – walka o pas mistrzowski wagi muszej One Championship w Muay Thai\nPanpayak Jitmuangnon vs. Josue Cruz Josue Cruz – walka w Muay Thai\nElipitua Siregar (4-2-0) vs. Robin Catalan (9-7-0)\nAsha Roka (4-2-0) vs. Alyse Anderson (5-2-0)\nWondergirl Fairtex (0-0-0) vs. Zeba Bano (1-0-0)\nSavvas Michael vs. Amir Naseri – walka w Muay Thai\nSuperlek Kiatmoo9 vs. aiki Naito – walka w Muay Thai\nRade Opačić vs. Guto Inocente – walka w kickboxingu\nMarcus Buchecha (2-0-0) vs. Hugo Cunha (6-1-0)\nShinya Aoki vs. Kade Ruotolo – walka w grapplingu\nGarry Tonon vs. Tye Ruotolo – walka w grapplingu\nDavit Kiria vs. Mohammed Boutasaa – walka w kickboxingu\nJonathan Haggerty vs. Walter Goncalves – walka w Muay Thai\nRodtang Jitmuangnon vs. Jacob SmithT – walka w Muay Thai\nDenis Purić vs. Sherzod Kabutov – walka w Muay Thai\n\nOstatnia modyfikacja: 17.05.2022 r
URL:https://strefamma.pl/event/one-championship-157-petchmorakot-vs-vienot/
LOCATION:Singapore Indoor Stadium\, Singapore\, Singapore\, Singapore
ATTACH;FMTTYPE=image/png:https://strefamma.pl/wp-content/uploads/2022/05/One-Championship-157.png
END:VEVENT
BEGIN:VEVENT
DTSTART;TZID=Europe/Warsaw:20220520T170000
DTEND;TZID=Europe/Warsaw:20220520T233000
DTSTAMP:20260423T094753
CREATED:20220517T193257Z
LAST-MODIFIED:20220517T193257Z
UID:37828-1653066000-1653089400@strefamma.pl
SUMMARY:Wrzesiński vs. Gailatano
DESCRIPTION:Już 20 maja w Hali Sportowej Zespołu Szkół w Środzie Wielkopolskiej kolejna gala pod banderą MB Promotions! \nW walce wieczoru na planowanym dystansie 10-ciu rund zmierzą się Damian Wrzesiński oraz Ismail Galiatano. Wcześniej na gali w Środzie Wielkopolskiej wystąpi między innymi niepokonany Tomasz Nowicki\, czy Sebastain Ślusarczyk. \nKarta walk Wrzesiński vs. Galiatano\nWalka wieczoru: \n\nDamian Wrzesiński (24-2-2) vs. Ismail Galiatano (8-3-3)\n\nPozostałe walki: \n\nSebastian Ślusarczyk (9-1-0) vs. Michal Plesnik (9-5-0)\nTomasz Nowicki (12-0-0) vs. Louis Greene (13-3-0)\nŁukasz Maciec (27-4-1) vs. Joel Julio (39-11-0)\nKarol Welter (11-1-0) vs. Emmanuel Feuzeu (10-11-2)\n\nOstatnia modyfikacja: 17-05-2022 r.
URL:https://strefamma.pl/event/wrzesinski-vs-gailatano/
LOCATION:Hala Zespołu Szkół\, Środa Wielkopolska\, Wielkopolska\, Poland
ATTACH;FMTTYPE=image/png:https://strefamma.pl/wp-content/uploads/2022/05/MB-Boxing-Wrzesinski-vs-Gailatano.png
END:VEVENT
BEGIN:VEVENT
DTSTART;TZID=Europe/Warsaw:20220520T233000
DTEND;TZID=Europe/Warsaw:20220521T100000
DTSTAMP:20260423T094753
CREATED:20220515T000941Z
LAST-MODIFIED:20220515T000941Z
UID:37553-1653089400-1653127200@strefamma.pl
SUMMARY:Eagle FC 47: Dos Santos vs. De Castro
DESCRIPTION:Kolejna gala federacji Khabiba Nurmagomedova Eagle FC 47 odbędzie się w FLXcast Arenie w Miami w nocy z 20 na 21 maja. \nDo zawodowych startów w profesjonalnym MMA powróci Junior dos Santos. Były mistrz UFC w wadze ciężkiej spróbuje przerwać swoją serię 4. porażek z rzędu. Ostatni występ „Cigano” zaliczył na UFC 256 w 2020 roku\, gdzie przegrał przez KO w 2. rundzie. \nNaprzeciwko Brazylijczyka będzie pochodzący z Wysp Zielonego Przylądka Yorgan De Castro. Popularny „The Mad Titan” również mierzył się swego czasu w największej federacji MMA\, gdzie jednak wygrał tylko raz w 4. pojedynkach. \nKarta walk Eagle FC 47\nWalka wieczoru: \n\nYorgan De Castro (8-3-0) vs. Junior dos Santos (21-9-0)\n\nKarta główna: \n\nHector Lombard (34-10-1) vs. Thiago Silva (21-9-0)\nDylan Mantello (4-2-0) vs. Dennis Hughes (7-4-0)\nMaki Pitolo (14-9-0) vs. Doug Usher (13-3-0)\n\nKarta wstępna: \n\nAlexandre de Almeida (21-10-0) vs. Roosevelt Roberts (11-3-0)\nYosdenis Cedeno (11-7-1) vs. Islam Mamedov (20-2-1)\nRonny Markes (21-9-0) vs. Reggie Peña (15-6-0)\nAkhmed Aliev (20-7-0) vs. Darrell Horcher (14-5-0)\nDylan Mantello (4-2-0) vs. Dennis Hughes (7-4-0)\n\nOstatnia modyfikacja: 15.05.2022 r
URL:https://strefamma.pl/event/eagle-fc-47-dos-santos-vs-de-castro/
LOCATION:FLXcast Arena\, Miami\, Miami\, United States
ATTACH;FMTTYPE=image/png:https://strefamma.pl/wp-content/uploads/2022/05/Eagle-FC-47-plakat.png
END:VEVENT
END:VCALENDAR