BEGIN:VCALENDAR
VERSION:2.0
PRODID:-//StrefaMMA.pl - Portal sportów walki - ECPv5.16.3.1//NONSGML v1.0//EN
CALSCALE:GREGORIAN
METHOD:PUBLISH
X-ORIGINAL-URL:https://strefamma.pl
X-WR-CALDESC:Wydarzenia dla StrefaMMA.pl - Portal sportów walki
REFRESH-INTERVAL;VALUE=DURATION:PT1H
X-Robots-Tag:noindex
X-PUBLISHED-TTL:PT1H
BEGIN:VTIMEZONE
TZID:Europe/Warsaw
BEGIN:DAYLIGHT
TZOFFSETFROM:+0100
TZOFFSETTO:+0200
TZNAME:CEST
DTSTART:20220327T010000
END:DAYLIGHT
BEGIN:STANDARD
TZOFFSETFROM:+0200
TZOFFSETTO:+0100
TZNAME:CET
DTSTART:20221030T010000
END:STANDARD
END:VTIMEZONE
BEGIN:VEVENT
DTSTART;TZID=Europe/Warsaw:20220514T030000
DTEND;TZID=Europe/Warsaw:20220514T100000
DTSTAMP:20260423T094948
CREATED:20220504T180623Z
LAST-MODIFIED:20220504T180623Z
UID:36538-1652497200-1652522400@strefamma.pl
SUMMARY:LFA 132: Gomes vs. Costa
DESCRIPTION:Legacy Fighting Alliance zawitało tym razem do Rio de Janeiro! Na LFA 132 zobaczymy wiele przykuwających oko pojedynków. \nW walce wieczoru\, jak w wielu starciach tego wieczoru\, dojdzie do brazylijsko-brazylijskiej batalii. Italo Gomes podejmie w wadze lekkiej Melquizaela Costę. Obaj fighterzy pozostają niepokonani\, odpowiednio od dwóch pojedynków (Gomes) oraz pięciu pojedynków (Costa). \nWcześniej w klatce pojawi się między innymi Luan Luiz Lacerda\, który w przeszłości wygrywał między innymi z obecnym zawodnikiem UFC\, Raulianem Paivą. Brazylijski zawodnik w wadze koguciej spotka się z rodakiem\, niepokonanym od dwóch walk Marcileyem Alvesem. \nKarta walk LFA 132: Gomes vs. Costa\nWalka wieczoru: \n\nItalo Gomes (10-2-0) vs. Melquizael Costa (17-4-0)\n\nKarta główna: \n\nLuan Luiz Lacerda (11-1-0) vs. Marciley Alves (9-2-0)\nGabriel Silva (8-2-0) vs. Rono Junior (8-1-0)\nLeo Leite (10-2-0) vs. Claiton Trassante (9-1-0)\nYasmin Castanho (5-0-0) vs. Bruna Brasil (6-2-1)\nEdna Oliveira (10-9-1) vs. Gabriella Hermógenes (6-1-0)\nJosé Henrique (4-0-0) vs. Pedro Oliveira (5-0-1)\n\nPozostałe walki: \n\nLincon Santos (5-1-0) vs. Rodrigo Roldan (5-3-0)\nGabriel Souza Galindo (3-0-0) vs. Lucas Sousa (2-0-0)\nHyago Silva (4-0-0) vs. Richard Jacobi (5-0-0)\nJefferson Nascimento (6-0-0) vs. Uyran Carlos (12-6-0)\nJoão Moraes (0-0-0) vs. Lucas Martins (0-0-0)\n\nOstatnia modyfikacja: 04.05.2022 r.
URL:https://strefamma.pl/event/lfa-132-gomes-vs-costa/
LOCATION:Quali Stage\, Rio de Janeiro\, Brazil
ATTACH;FMTTYPE=image/png:https://strefamma.pl/wp-content/uploads/2022/05/LFA-132-plakat-LFA-Twitter.png
END:VEVENT
BEGIN:VEVENT
DTSTART;TZID=Europe/Warsaw:20220514T200000
DTEND;TZID=Europe/Warsaw:20220514T233000
DTSTAMP:20260423T094948
CREATED:20220328T211345Z
LAST-MODIFIED:20220514T084230Z
UID:33911-1652558400-1652571000@strefamma.pl
SUMMARY:FAME 14: Gimper vs. Tromba
DESCRIPTION:Już 14 maja na Tauron Arenie w Krakowie odbędzie się gala FAME MMA z numerem 14. W walce wieczoru Gimper zmierzy się z Trombą. Ponadto na to wydarzenie ogłoszone starcie Mony z Fagatą oraz Wiewióra z Krychą. Niezwykle eksponowanym pojedynkiem będzie starcie pomiędzy Piotrem Szeligą a Normanem Parkiem. Starcie odbędzie się w klatce rzymskiej. \n\n-> OGLĄDAJ FAME MMA 14 NA ŻYWO! \n\n\n\n\n\nKursy bukmacherskie Szeliga vs Parke i Gimper vs. Tromba\nZdecydowanym faworytem w walce wieczoru jest Mateusz „Trąbka” Tromba. Kurs na jego zwycięstwo wynosi 1.30. Natomiast kurs na Gimpera wynosi 3.00. \n\nWygra Mateusz „Trąbka” Tromba – 1.30 (odbierz bonus)\nWygra Tomasz „Gimper” Działowy – 3.00 (odbierz bonus)\n\nNa wygranej Szeligi można nieźle zarobić. Polak wejdzie do klatki jako spory underdog\, jednak wciąż ma szansę na zwycięstwo. Już dwukrotnie „Szeli” zwyciężył w efektowny sposób. Najpierw znokautował „Wujaszka Fericze”\, a w ostatniej walce mimo słabej pierwszej rundy w drugiej odsłonie trafił „Araba” potężnym prawym i zanotował kolejne zwycięstwo przez KO. Galę FAME 14 obstawisz wyłącznie u legalnego bukmachera BetClic! Jeśli nie masz jeszcze konta\, możesz odebrać swój BONUS! -> Otwórz konto i odbierz bonus \n\nWygra Piotra Szeliga – 3.50 (odbierz bonus)\nWygra Norman Parke – 1.22 (odbierz bonus)\n\nTransmisja FAME 14:\nGala FAME 14 odbędzie się 14 maja w Tauron Arenie Kraków. Wydarzenie będzie można obejrzeć TUTAJ. \nSzczegóły transmisji: \nLokalizacja: Tauron Arena Kraków \nGodzina: 20:00 \nLink do PPV – https://bit.ly/FAMEMMA_14\n\nKarta walk FAME  14\n\n\n\nWalka wieczoru: \n\nMateusz „Trąbka” Tromba vs. Tomasz „Gimper” Działowy\n\n\n\n\nPozostałe walki: \n\nSergiusz „Nitro” Górski vs. Marcin „Xayoo” Majkut\nPiotr „Szeli” Szeliga vs. Norman „Stormin” Parke (Rzymska klatka\, pierwsza runda boks\, Druga i trzecia MMA)\nMonika „Mona” Kociołek vs. Agata „Fagata” Fąk\nMaksymilian „Wiewiór” Wiewiórka vs.  Krystian Krycha Wilczak – o pas mistrzowski\nMateusz „Fit Lovers” Janusz vs. Adam „AJ” Josef – pojedynek w K1\nAlan Kwieciński vs. Mateusz „Muran” Murański\nMariusz „Hejter” Słoński vs. Dawid Malczyński\nWiktoria „Wiki” Jaroniewska vs. Klaudia „Lala Laluna” Alexander\n\nOstatnia modyfikacja: 11.05.2022 r.  
URL:https://strefamma.pl/event/fame-mma-14-gimper-vs-tromba/
LOCATION:Kraków\, Tauron Arena
ATTACH;FMTTYPE=image/jpeg:https://strefamma.pl/wp-content/uploads/2022/03/960.jpeg
END:VEVENT
END:VCALENDAR