BEGIN:VCALENDAR
VERSION:2.0
PRODID:-//StrefaMMA.pl - Portal sportów walki - ECPv5.16.3.1//NONSGML v1.0//EN
CALSCALE:GREGORIAN
METHOD:PUBLISH
X-ORIGINAL-URL:https://strefamma.pl
X-WR-CALDESC:Wydarzenia dla StrefaMMA.pl - Portal sportów walki
REFRESH-INTERVAL;VALUE=DURATION:PT1H
X-Robots-Tag:noindex
X-PUBLISHED-TTL:PT1H
BEGIN:VTIMEZONE
TZID:Europe/Warsaw
BEGIN:DAYLIGHT
TZOFFSETFROM:+0100
TZOFFSETTO:+0200
TZNAME:CEST
DTSTART:20220327T010000
END:DAYLIGHT
BEGIN:STANDARD
TZOFFSETFROM:+0200
TZOFFSETTO:+0100
TZNAME:CET
DTSTART:20221030T010000
END:STANDARD
END:VTIMEZONE
BEGIN:VEVENT
DTSTART;TZID=Europe/Warsaw:20220508T000000
DTEND;TZID=Europe/Warsaw:20220508T080000
DTSTAMP:20260423T094832
CREATED:20220411T194401Z
LAST-MODIFIED:20220502T170336Z
UID:34789-1651968000-1651996800@strefamma.pl
SUMMARY:UFC 274: Oliveira vs. Gaethje
DESCRIPTION:Już w nocy z 7 na 8 maja na gali UFC 274 dojdzie do walki na szczycie wagi lekkiej! Charles Oliveira stanie do kolejnej obrony tytułu przeciwko Justinowi Gaethje! \nMain event UFC 274 to jedna z najbardziej ekscytujących walk roku! Charles Oliveira\, który poddał Dustina Poiriera na UFC 269\, stanie przed kolejnym wielkim wyzwaniem. Rywalem znakomitego Brazylijczyka będzie Justin Gaethje. Amerykanin otrzyma kolejną szansę na zdobycie pasa mistrzowskiego. „The Highlight” przegrał w październiku 2020 roku z legendarnym Khabibem Nurmagomedovem\, ale dał niesamowite show pokonując Michaela Chandlera na UFC 268. \nWspomniany „Iron” także pojawi się na UFC 273. Amerykanin i były mistrz Bellatora zmierzy się z Tonym Fergusonem! Co-main eventem będzie jednak pojedynek pań o tytuł dywizji słomkowej. Rose Namajunas\, po obronie pasa na UFC 268 w walce z Weili Zhang\, spotka się z Carlą Esparzą. Popularna „Cookie Monster” to pierwsza championka\, która koronę zdobyła pokonując… Namajunas. \n \nKarta walk UFC 274\nWalka wieczoru: \n\nCharles Oliveira (32-8-0) vs. Justin Gaethje (23-3-0) – o pas mistrzowski UFC wagi lekkiej\n\nKarta główna: \n\nRose Namajunas (11-4-0) vs. Carla Esparza (18-6-0) – o pas mistrzowski UFC wagi słomkowej kobiet\nMichael Chandler (22-7-0) vs. Tony Ferguson (25-6-0)\nOvince St. Preux (25-16-0) vs. Maurício Rua (27-12-1)\nDonald Cerrone (36-16-0) vs. Joe Lauzon (28-15-0)\n\nPozostałe walki: \n\nMacy Chiasson (7-2-0) vs. Norma Dumont (7-1-0)\nLupita Godinez (7-2-0) vs. Ariane Carnelossi (14-2-0)\nBlagoy Ivanov (18-4-0) vs. Marcos Rogério de Lima (19-7-1)\nKleydson Rodrigues (7-1-0) vs. C.J. Vergara (9-3-1)\nJourney Newson (9-3-0) vs. Fernie Garcia (10-1-0)\nBrandon Royval (13-6-0) vs. Matt Schnell (15-6-0)\nMichael Johnson (19-17-0) vs. Alan Patrick (15-3-0)\nFrancisco Trinaldo (27-8-0) vs. Danny Roberts (18-5-0)\nRandy Brown (14-4-0) vs. Khaos Williams (13-2-0)\nTracy Cortez (9-1-0) vs. Melissa Gatto (8-0-2)\nLupita Godinez (7-2-0) vs. Ariane Carnelossi (14-2-0)\nAndre Fialho (15-4-0) vs. Cameron VanCamp (15-5-1)\n\nOstatnia modyfikacja: 02.05.2022 r. \nTransmisja UFC 274 na żywo w STS TV!\nCała gala UFC 274 będzie dostępna w STS TV dla użytkowników STS. Wystarczy zarejestrować się na stronie bukmachera TUTAJ\, by móc oglądać UFC za darmo już od karty wstępnej! \nRejestrując się – tutaj – otrzymasz specjalne bonusy przygotowane dla wszystkich nowych użytkowników. STS oferuje dodatkowe 100% od pierwszego depozytu aż do kwoty 300 złotych. Ponadto gracz będzie mógł postawić pierwszy zakład bez ryzyka do 100 złotych. Wystarczy zarejestrować się – tutaj – wpłacić pieniądze i obstawić kupon. \n-> OGLĄDAJ UFC NA ŻYWO TUTAJ! \n \nOstatnia modyfikacja 27.04.2022 r.
URL:https://strefamma.pl/event/ufc-274-oliveira-vs-gaethje/
LOCATION:Phoenix Arena\, Phoenix\, Phoenix\, United States
ATTACH;FMTTYPE=image/png:https://strefamma.pl/wp-content/uploads/2022/04/UFC-274.png
END:VEVENT
BEGIN:VEVENT
DTSTART;TZID=Europe/Warsaw:20220508T040000
DTEND;TZID=Europe/Warsaw:20220508T160000
DTSTAMP:20260423T094832
CREATED:20220413T161346Z
LAST-MODIFIED:20220504T050105Z
UID:34906-1651982400-1652025600@strefamma.pl
SUMMARY:Canelo Alvarez vs. Dmitry Bivol
DESCRIPTION:7 maja kolejna uczta dla wszystkich fanów boksu! Jeden z najlepszych pięściarzy na świecie\, Canelo Alvarez\, stanie przed szansą na zostanie mistrzem wagi półciężkiej WBA! \n31-letni Meksykanin przez wielu uznawany jest za najlepszego pięściarza na świecie. Saul Alvarez przegrał w karierze tylko raz\, z Floydem Mayweatherem. Poza tym nie ma mocnego na Canelo\, który znokautował 39 z 57 rywali! Aktualny zunifikowany mistrz federacji WBC\, WBA\, IBF i WBO w wadze super średniej przechodzi kategorię wyżej do półciężkiej by zdobyć kolejną koronę. \nJego przeciwnikiem 7 maja będzie champion\, Dmitry Bivol. Rosjanin stoczył 19 zawodowych walk nie przegrywając ani jednego pojedynku! Warto podkreślić\, że aż 11 z nich zwyciężył przez KO. \nTransmisja na żywo Alvarez vs. Bivol w DAZN !\nCała gala Alvarez vs. Bivol dostępna będzie do obejrzenia NA ŻYWO dla użytkowników DAZN. Wystarczy zarejestrować się przez TEN LINK. Subskrypcja kosztuje 7\,99 zł miesięcznie\, a zrezygnować z niej można w każdej chwili. To najprostszy sposób na obejrzenie tego wielkiego wydarzenia NA ŻYWO! \nObstaw w STS!\nRejestrując się – tutaj – otrzymasz specjalne bonusy przygotowane dla wszystkich nowych użytkowników. STS oferuje dodatkowe 100% od pierwszego depozytu aż do kwoty 300 złotych. Ponadto gracz będzie mógł postawić pierwszy zakład bez ryzyka do 100 złotych. Wystarczy zarejestrować się – tutaj – wpłacić pieniądze i obstawić kupon. \n \nKarta walk Alvarez vs. Biwoł\nWalka wieczoru: \n\nCanelo Álvarez (57-1-2) vs. Dmitry Bivol (19-0-0) – o pas mistrzowski wagi półciężkiej WBA\n\nPozostałe walki: \n\nMontana Love (17-0-1) vs. Gabriel Gollaz Valenzuela (25-2-1)\nChristian Gomez (22-2-1) vs. Shakhram Giyasov (12-0-0) – o pas mistrzowski wagi półśredniej IBF NABF\nJoselito Velazquez (13-0-1) vs. Jose Soto (15-1-0)\nMarc Castro (6-0-0) vs. Pedro Vicente (7-4-1)\nAlexis Espino (9-0-1) vs. Aaron Silva (9-0-0)\nManuel Correa (11-0-0) vs. Elnur Abduraimov (8-0-0)\nFernando Molina (7-0-0) vs. Ricardo Valdovinos (8-1-0)\nZhilei Zhang (23-0-1) vs. Scott Alexander (16-4-2)\n\n \nOstatnia modyfikacja: 04.05.2022 r.
URL:https://strefamma.pl/event/canelo-alvarez-vs-dmitry-bivol/
LOCATION:T-Mobile Arena\, 3780 Las Vegas Blvd S\, Las Vegas\, 89158\, United States
ATTACH;FMTTYPE=image/png:https://strefamma.pl/wp-content/uploads/2022/04/Alvarez-vs-Bivol.png
END:VEVENT
BEGIN:VEVENT
DTSTART;TZID=Europe/Warsaw:20220508T200000
DTEND;TZID=Europe/Warsaw:20220509T200000
DTSTAMP:20260423T094832
CREATED:20220506T171151Z
LAST-MODIFIED:20220506T171151Z
UID:36682-1652040000-1652126400@strefamma.pl
SUMMARY:Fury FC 61
DESCRIPTION:Po raz kolejny federacja Fury wraca z emocjonującymi walkami! W niedzielę 8 maja zobaczymy galę Fury FC 61! \nW walce wieczoru debiut zaliczy Anthony Canzano. Popularny „Fat Tony” na Fury FC 61 zmierzy się z mającym słabą passę 3. porażek z rzędu Nate’em Smithem. Przed nimi pojawi się między innymi Sam Guardiola! Niepokonany od 7. pojedynków Amerykanin zmierzy się z Peterem Caballero w wadze koguciej. \nKarta walk Fury FC 61\nWalka wieczoru: \n\nAnthony Canzano (6-1-0) vs. Nate Smith (6-3-0)\n\nKarta główna: \n\nSam Guardiola (7-1-0) vs. Peter Caballero (9-5-0)\nEdmilson Freitas (9-5-1) vs. Evan Cutts (13-5-0)\nFrancisco Javier Castro (0-0-0) vs. Darren Whitney (3-0-0)\nChristopher Cuadra (2-2-0) vs. Eddie Torres (4-1-0)\nAllen Silva (5-4-0) vs. Devin Miller (5-3-0)\nTedrick Macklin (1-0-0) vs. Juan Carlos De Leon (0-2-0)\nIsaac Moreno (2-0-0) vs. Ratavious Thrasher (0-1-0)\nReese Forest (1-3-0) vs. Joel Bauman (4-2-0)\n\nPozostałe walki: \n\nAlexander Sanchez (0-1-0) vs. Angel Cortez (0-0-0)\nRicky Yracheta (0-0-0) vs. Joshua Quintero (0-2-0)\nJack Martinez (2-1-0) vs. Enrique Tapia (0-0-0)\nEnrique Molina (2-1-0) vs. Brandon Meneses (3-3-0)\nJesses Pantoja (0-1-0) vs. Abner Castro (0-0-0)\nAnthoney Torres (0-0-0) vs. Erick Delgadillo (0-1-0)\nXavier Young (1-2-0) vs. David De Los Santos (0-1-0)\nEnrique Lara Bas (0-0-0) vs. Emmanuel Garcia (1-0-0)\n\nOstatnia modyfikacja: 06.05.2022 r.
URL:https://strefamma.pl/event/fury-fc-61/
LOCATION:Bert Ogden Arena\, Edinburg\, United States
ATTACH;FMTTYPE=image/png:https://strefamma.pl/wp-content/uploads/2022/05/Fury-FC-61.png
END:VEVENT
END:VCALENDAR