BEGIN:VCALENDAR
VERSION:2.0
PRODID:-//StrefaMMA.pl - Portal sportów walki - ECPv5.16.3.1//NONSGML v1.0//EN
CALSCALE:GREGORIAN
METHOD:PUBLISH
X-WR-CALNAME:StrefaMMA.pl - Portal sportów walki
X-ORIGINAL-URL:https://strefamma.pl
X-WR-CALDESC:Wydarzenia dla StrefaMMA.pl - Portal sportów walki
REFRESH-INTERVAL;VALUE=DURATION:PT1H
X-Robots-Tag:noindex
X-PUBLISHED-TTL:PT1H
BEGIN:VTIMEZONE
TZID:Europe/Warsaw
BEGIN:DAYLIGHT
TZOFFSETFROM:+0100
TZOFFSETTO:+0200
TZNAME:CEST
DTSTART:20220327T010000
END:DAYLIGHT
BEGIN:STANDARD
TZOFFSETFROM:+0200
TZOFFSETTO:+0100
TZNAME:CET
DTSTART:20221030T010000
END:STANDARD
END:VTIMEZONE
BEGIN:VEVENT
DTSTART;TZID=Europe/Warsaw:20220506T020000
DTEND;TZID=Europe/Warsaw:20220506T103000
DTSTAMP:20260423T082356
CREATED:20220503T171111Z
LAST-MODIFIED:20220503T171111Z
UID:36473-1651802400-1651833000@strefamma.pl
SUMMARY:Cinco de Mayo: Acosta vs. Garcia
DESCRIPTION:W nocy z czwartku 5 maja na piątek 6 maja w Kanadzie odbędzie się gala z okazji Święta Piątego Maja\, Cinco de Mayo. W walce wieczoru nie zabraknie walki o pas mistrzowski! \nTransmisja Cinco de Mayo: Acosta vs. Garcia w DAZN !\nCała gala Cinco de Mayo dostępna będzie do obejrzenia NA ŻYWO dla użytkowników DAZN. Wystarczy zarejestrować się przez TEN LINK. Subskrypcja kosztuje 7\,99 zł miesięcznie\, a zrezygnować z niej można w każdej chwili. \nKarta walk Cinco de Mayo: Acosta vs. Garcia\nWalka wieczoru: \n\nBryan Acosta (16-0-0) vs. Benito Garcia (14-5-1) – o pas mistrzowski WBC Continental Americas Super wagi piórkowej\n\nKarta główna: \n\nLee Reeves (7-1-0) vs. Sebastian Diaz Maldonado (0-0-0) – o pas mistrzowski NABF Super wagi lekkiej\nNick Asberry (10-2-0) vs. Jesus Angel Nerio (15-10-1)\nRoss Mylet (7-1-0) vs. Luis Francisco Vara (0-0-0)\nNick Fantauzzi (11-0-0) vs. Juan Sergio Torres Perez (8-11-0)\nSteven Wilcox (21-3-1) vs. Miguel Angel Martinez (15-4-1)\nDiego Paredes Medina (0-0-0) vs. Mohamed Zawadi (2-1-0\n\nOstatnia modyfikacja: 3.5.2022 r.
URL:https://strefamma.pl/event/cinco-de-mayo-acosta-vs-garcia/
LOCATION:Rebel Entertainment Complex\, Toronto\, Ontario\, Canada
ATTACH;FMTTYPE=image/png:https://strefamma.pl/wp-content/uploads/2022/05/Cinco-de-Mayo-Acosta-Garcia.png
END:VEVENT
BEGIN:VEVENT
DTSTART;TZID=Europe/Warsaw:20220506T173000
DTEND;TZID=Europe/Warsaw:20220506T233000
DTSTAMP:20260423T082356
CREATED:20220426T185450Z
LAST-MODIFIED:20220506T042324Z
UID:35796-1651858200-1651879800@strefamma.pl
SUMMARY:Bellator 280: Bader vs. Kongo 2
DESCRIPTION:6 maja w Paryżu pojawi się federacja Bellator! W walce wieczoru gali Bellator 280 odbędzie się rewanżowy pojedynek z pasem mistrzowskim na szali: Ryan Bader vs. Cheick Kongo! \nRyan Bader to były fighter UFC oraz były podwójny mistrz federacji Bellator. Popularny „Darth” stracił pas wagi półciężkiej na rzecz Vadima Nemkova\, ale obecnie nie ma na niego mocnych w królewskiej kategorii wagowej. \nCheick Kongo mierzył się już z Baderem przed trzema laty na Bellator 226. Tamten pojedynek skończył się jednak po No Contest przez nieszczęśliwe dźgnięcie w oko. Tym razem Francuz będzie mógł liczyć na wsparcie swoich rodaków! \nObstaw Bellator 280 w STS!\nRejestrując się – tutaj – otrzymasz specjalne bonusy przygotowane dla wszystkich nowych użytkowników. STS oferuje dodatkowe 100% od pierwszego depozytu aż do kwoty 300 złotych. Ponadto gracz będzie mógł postawić pierwszy zakład bez ryzyka do 100 złotych. Wystarczy zarejestrować się – tutaj – wpłacić pieniądze i obstawić kupon. \n \nKarta walk Bellator 280\nWalka wieczoru: \n\nRyan Bader (29-7-0) vs. Cheick Kongo (31-11-2) – o pas mistrzowski Bellator w wadze ciężkiej\n\nKarta główna: \n\nYoel Romero (13-6-0) vs. Alex Polizzi (10-1-0)\nDavy Gallon (20-7-2) vs. Benjamin Brander (13-8-0)\nMike Shipman (14-3-0) vs. Gregory Babene (21-11-0)\nLorenz Larkin (23-7-0) vs. Kyle Stewart (15-5-0)\n\nKarta wstępna: \n\nYves Landu (16-9-0) vs. Gavin Hughes (10-2-0)\nFabacary Diatta (8-0-0) vs. Jordan Barton (6-2-1)\nSoren Bak (15-1-0) vs. Charlie Leary (17-12-1)\nLewis Long (19-6-0) vs. Thibault Gouti (15-5-0)\nLucie Bertaud (3-3-0) vs. Katarzyna Sadura (5-4-0)\nPedro Carvalho (12-5-0) vs. Piotr Niedzielski (16-4-0)\nYoucef Ouabbas (2-0-0) vs. Matthieu Duclos (2-1-0)\nVictor Verchere (5-1-0) vs. Bourama Camara (4-1-0)\n\nOstatnia modyfikacja 06.05..2022 r.
URL:https://strefamma.pl/event/bellator-280-bader-vs-kongo-2/
LOCATION:Accor Arena\, Paris\, France
ATTACH;FMTTYPE=image/png:https://strefamma.pl/wp-content/uploads/2022/04/Bellator-280-plakat-Twitter.png
END:VEVENT
BEGIN:VEVENT
DTSTART;TZID=Europe/Warsaw:20220506T230000
DTEND;TZID=Europe/Warsaw:20220507T033000
DTSTAMP:20260423T082356
CREATED:20220503T173227Z
LAST-MODIFIED:20220506T042027Z
UID:36478-1651878000-1651894200@strefamma.pl
SUMMARY:Titan FC 76
DESCRIPTION:Już w nocy z 6 na 7 maja powróci Titan FC z galą Titan FC 76. W walce wieczoru wystąpi kontrowersyjny Luis Pena! \nPena to były zawodnik UFC\, z którą to organizacją pożegnał się w kwietniu ubiegłego roku. Amerykanin „zasłynął” zatrzymaniem w czerwcu ubiegłego roku. W walce wieczoru Titan FC 76 jego rywalem będzie Zach Zane. „God’s Warrior” przegrywa ostatnie 2 pojedynki w MMA w dwóch różnych organizacjach. \nObstawiaj Titan FC 76 w STS!\nRejestrując się – tutaj – otrzymasz specjalne bonusy przygotowane dla wszystkich nowych użytkowników. STS oferuje dodatkowe 100% od pierwszego depozytu aż do kwoty 300 złotych. Ponadto gracz będzie mógł postawić pierwszy zakład bez ryzyka do 100 złotych. Wystarczy zarejestrować się – tutaj – wpłacić pieniądze i obstawić kupon. \n \nKarta walk Titan FC 76\nWalka wieczoru: \n\nLuis Pena (9-3-0) vs. Zach Zane (15-11-0)\n\nKarta główna: \n\nRichie Lewis (2-0-0) vs. Kelvin Bowen (1-0-1)\nRichard Mayol (0-0-0) vs. Daniel Morrison (0-0-0)\nAsa Ten Pow (1-0-0) vs. Sean Mora (2-0-0)\nJason Somchay (1-7-0) vs. Nekoro Bunsie (0-2-0)\n\nOstatnia modyfikacja: 6.5.2022 r.
URL:https://strefamma.pl/event/titan-fc-76/
LOCATION:National Guard Armory\, Florida\, United States
ATTACH;FMTTYPE=image/png:https://strefamma.pl/wp-content/uploads/2022/05/tITAN-fc-76.png
END:VEVENT
BEGIN:VEVENT
DTSTART;TZID=Europe/Warsaw:20220506T233000
DTEND;TZID=Europe/Warsaw:20220507T233000
DTSTAMP:20260423T082356
CREATED:20220427T051016Z
LAST-MODIFIED:20220503T182752Z
UID:35829-1651879800-1651966200@strefamma.pl
SUMMARY:PFL 2022 #3: Regular Season
DESCRIPTION:Kolejny tydzień zmagań w Professional Fighters League! Bez wątpienia na ten tydzień czekał każdy fan PFL\, bo w nocy z 6 na 7 maja powraca Kayla Harrison! \nNiepokonana Amerykanka to zwyciężczyni ostatniego sezonu PFL 2021. Harrison ma rekord 12-0-0 i wielu ekspertom przypomina Rondę Rousey – choć w porównaniu do niej\, nie wszystkie poddania odniosła przez balachę! \nOprócz Kayli Harrison na PFL 2022 #3 pojawią się także inne znane w całym świecie MMA nazwiska: Anthony Pettis\, Rory MacDonald\, czy Gleison Tibau. Do klatki powróci także Brett Cooper\, którego można pamiętać z jednorazowego występu dla KSW i porażki z Mamedem Khalidovem. \n \nKarta walk PFL 2022 #3: Regular Season\nWalka wieczoru: \n\nKayla Harrison (12-0-0) vs. Marina Mokhnatkina (6-2-0)\n\nKarta główna: \n\nRay Cooper III (24-7-1) vs. Carlos Leal (16-3-0)\nAnthony Pettis (24-12-0) vs. Myles Price (11-7-0)\nRory MacDonald (22-8-1) vs. Brett Cooper (28-15-0)\n\nKarta wstępna: \n\nMagomed Magomedkerimov (29-6-0) vs. João Zeferino (26-9-0)\nGenah Fabian (4-2-0) vs. Julia Budd (16-3-0)\nSadibou Sy (9-6-2) vs. Nikolay Aleksakhin (26-6-0)\nLarissa Pacheco (15-4-0) vs. Zamzagul Fayzallanova (7-1-0)\nGleison Tibau (36-15-0) vs. Jarrah Hussein Al-Silawi (17-3-0)\nOlena Kolesnyk (5-4-0) vs. Abby Montes (3-0-0)\nVanessa Melo (11-8-0) vs. Martina Jindrová (4-2-0)\n\nOstatnia modyfikacja: 03.05.2022 r.
URL:https://strefamma.pl/event/pfl-2022-3-regular-season/
LOCATION:Esports Stadium Arlington\, Arlington\, United States
ATTACH;FMTTYPE=image/png:https://strefamma.pl/wp-content/uploads/2022/04/PFL-2022-3-plakat.png
END:VEVENT
END:VCALENDAR