BEGIN:VCALENDAR
VERSION:2.0
PRODID:-//StrefaMMA.pl - Portal sportów walki - ECPv5.16.3.1//NONSGML v1.0//EN
CALSCALE:GREGORIAN
METHOD:PUBLISH
X-ORIGINAL-URL:https://strefamma.pl
X-WR-CALDESC:Wydarzenia dla StrefaMMA.pl - Portal sportów walki
REFRESH-INTERVAL;VALUE=DURATION:PT1H
X-Robots-Tag:noindex
X-PUBLISHED-TTL:PT1H
BEGIN:VTIMEZONE
TZID:Europe/Warsaw
BEGIN:DAYLIGHT
TZOFFSETFROM:+0100
TZOFFSETTO:+0200
TZNAME:CEST
DTSTART:20220327T010000
END:DAYLIGHT
BEGIN:STANDARD
TZOFFSETFROM:+0200
TZOFFSETTO:+0100
TZNAME:CET
DTSTART:20221030T010000
END:STANDARD
END:VTIMEZONE
BEGIN:VEVENT
DTSTART;TZID=Europe/Warsaw:20220429T200000
DTEND;TZID=Europe/Warsaw:20220430T200000
DTSTAMP:20260423T110503
CREATED:20220422T181445Z
LAST-MODIFIED:20220426T164513Z
UID:34915-1651262400-1651348800@strefamma.pl
SUMMARY:WOTORE 5: "Krwawy Spektakl"
DESCRIPTION:Już 29 kwietnia zobaczymy WOTORE 5. Jedna z najlepszych organizacji walk na gołe pięści po raz kolejny dostarczy wielu emocji\, ponownie zapewniając wrażenia niesamowitymi superfightami!\n\nNowa jakość w sportach walki\, połączona z klimatyczną\, teatralną oprawą! Krwawe starcia na wysokim poziomie i trzymające w napięciu turnieje – to właśnie jest WOTORE. Organizacja powraca z piątą już galą\, na której raz jeszcze zobaczymy 8-osobowy turniej na gołe pięści\, a do tego niesamowite superfighty!\n\nNa WOTORE 5 dojdzie do walki Vaso Bakocevic vs. Marcin Wrzosek! Oprócz tego wielkie emocje zapewni także co-main event: Michał „Matrix” Królik vs. Bartosz Batra!\nWYKUP DOSTĘP DO WOTORE 5 \n\nSzczegóły WOTORE 5\nGdzie Wotore 5? Lokalizację gali jest Teatr Szekspirowski w Gdańsku.\n\nKiedy WOTORE 5? Gala WOTORE 5 odbędzie się 29 kwietnia\, początek o godzinie 20:00\n\nGdzie oglądać WOTORE 5? Gala dostępna tylko i wyłącznie w systemie pay-per-view\, które zakupić możesz TUTAJ.\n\n\n\nWotore 5 karta walk\n \nWalka wieczoru:\n \n\n 	Vaso Bakocevic vs. Marcin Wrzosek\n\n \nCo-main event:\n \n\n 	Michał „Matrix” Królik vs. Bartosz Batra\n\n \nWielki finał Wotore 4 o 50.000 zł\n \n\n 	Jakub Ozga vs. Dominik Owsiany\n\n \nSuper-fighty:\n \n\n 	Robert Maruszak vs. Szymon Szynkiewicz\n 	Rafał Szczerbiński vs. Christos Navrozidis\n\n \nTurniej Wotore 5:\n \n\n 	Krzysztof „Rambo” Waczyński vs. Krystian Rosa\n 	Bartosz „Ufol” Kwiatkowski vs. Michał „Kornik” Kornacki\n 	Paweł „Polski Wiking” Gołębiewski vs. Paweł „Venom” Kubielas\n 	Paweł Malinowski vs. Raul Joshua Stir\n\nObstawiaj WOTORE 5 w STS!\nWszystkie wydarzenia związane z WOTORE 5 możecie obstawiać w STS. Rejestrując się – tutaj – otrzymasz specjalne bonusy przygotowane dla wszystkich nowych użytkowników. STS  oferuje dodatkowe 100% od pierwszego depozytu aż do kwoty 300 złotych. Ponadto gracz będzie mógł postawić pierwszy zakład bez ryzyka do 100 złotych. Wystarczy zarejestrować się – tutaj – wpłacić pieniądze i obstawić kupon.\n\n\n\n\n\nOstatnia modyfikacja: 22.04.2022 r.
URL:https://strefamma.pl/event/wotore-5-krwawy-spektakl/
LOCATION:Teatr Szekspirowski\, Gdańsk\, Pomorskie\, Poland
ATTACH;FMTTYPE=image/png:https://strefamma.pl/wp-content/uploads/2022/04/WOTORE-5.png
END:VEVENT
BEGIN:VEVENT
DTSTART;TZID=Europe/Warsaw:20220430T120000
DTEND;TZID=Europe/Warsaw:20220430T170000
DTSTAMP:20260423T110503
CREATED:20220428T043516Z
LAST-MODIFIED:20220428T043557Z
UID:35892-1651320000-1651338000@strefamma.pl
SUMMARY:Brave CF 58: Hlongwa vs. Jae La
DESCRIPTION:Już 30 kwietnia o godzinie 12:00 polskiego czasu startuje gala Brave CF 58! W co-main evencie zobaczymy walkę byłego polskiego reprezentanta w UFC\, Marcina Bandela! \nPopularny „Bomba” wrócił po dwuletniej przerwie od startów w MMA oraz na ścieżkę zwycięstw poddając Davida Karpa na EMC 7. W Brave Combat Federation zadebiutował już 2 miesiące później\, poddając przez duszenie zza pleców Magomeda Ayskhanova. \nRywalem Polaka będzie Luis Felipe Dias\, który w MMA nie przegrał od 7. pojedynków. Brazylijczyk\, podobnie jak Marcin Bandel\, jest znakomitym parterowcem. Sześciokrotnie poddawał rywali\, ale co ważniejsze\, tylko jedną walkę wygrał przez decyzję. To pokazuje\, jak groźnym jest oponentem. \nTransmisja na żywo Brave CF 58 w DAZN !\nCała gala Brave CF 58 dostępna będzie do obejrzenia NA ŻYWO dla użytkowników DAZN. Wystarczy zarejestrować się przez TEN LINK. Subskrypcja kosztuje 7\,99 zł miesięcznie\, a zrezygnować z niej można w każdej chwili. \nDzięki dostępowi możecie obejrzeć całą galę Brave CF 58\, która rozpocznie się już o godzinie 12:00 polskiego czasu. Zobacz na żywo walkę Marcina Bandela TUTAJ! \nKarta walk Brave CF 58\nWalka wieczoru: \n\nMzwandile Hlongwa (6-1-0) vs. In Jae La (10-1-)\n\nKarta główna: \n\nMarcin Bandel (20-7-1) vs. Luis Felipe Dias (14-3-0)\nRolando Dy (14-11-0) vs. Ho Taek Oh (7-2-1)\nAbdullah Al-Qahtani (4-0-0) vs. Yong Soo Jung (3-0-1)\nAxel Sola (2-0-0) vs. Yoon Sung Jang (1-0-0)\nJun Soo Lim (13-12-0) vs. Myung Hwan Kim (4-1-0)\nGillian Goh (0-0-0) vs. Yerin Hong (3-2-0)\nMaciek Gierszewski (8-6-0) vs. Issa Isakov (6-2-0)\nWalter Cogliandro (11-2-1) vs. Jae Hyuk Bang (9-5-0)\nSim Kai Xiong (2-0-0) vs. Chang Ho Lee (6-0-0)\n\nOstatnia modyfikacja 27.04.2022 r.
URL:https://strefamma.pl/event/brave-cf-58-hlongwa-vs-jae-la/
LOCATION:Incheon\, Incheon\, Korea\, Republic of
ATTACH;FMTTYPE=image/png:https://strefamma.pl/wp-content/uploads/2022/04/Brave-CF-58-plakat.png
END:VEVENT
BEGIN:VEVENT
DTSTART;TZID=Europe/Warsaw:20220430T220000
DTEND;TZID=Europe/Warsaw:20220501T040000
DTSTAMP:20260423T110503
CREATED:20220411T174657Z
LAST-MODIFIED:20220425T163650Z
UID:34778-1651356000-1651377600@strefamma.pl
SUMMARY:UFC Vegas 53: Font vs. Vera
DESCRIPTION:W nocy z 30 kwietnia na 1 maja największa federacja MMA zaserwuje nam galę UFC Vegas 53! Main eventem będzie starcie w wadze koguciej: Rob Font vs. Marlon Vera. \nPiąty w rankingu wagi koguciej Rob Font wraca do klatki po nieudanej walce z Jose Aldo. Były mistrz kategorii piórkowej całkowicie zdominował Amerykanina i sędziowie byli zgodni na kartach punktowych. Na UFC Vegas 53 nie będzie łatwiej\, bo choć Marlon Vera jest niżej w TOP 10 dywizji koguciej (8 lokata)\, to w ostatnim starciu  podczas UFC 268 znokautował Frankiego Edgara w 3. odsłonie. \nNa UFC Vegas 53 powróci także Krzysztof Jotko! Polski fighter wagi średniej zmierzy się z o wiele bardziej doświadczonym Geraldem Meerschaertem. Pochodzący z Elbląga zawodnik American Top Team będzie chciał przedłużyć swoją serię. Ostatnie zwycięstwo odniósł na UFC Vegas 38 przez niejednogłośną decyzję Mishę Cirkunova. \n \nKarta walk UFC Vegas 53\nWalka wieczoru: \n\nRob Font (19-5-0) vs. Marlon Vera (20-7-1)\n\nKarta główna: \n\nJake Collier (13-6-0) vs. Andrei Arlovski (33-20-0)\nAndre Fili (21-8-0) vs. Joanderson Brito (12-3-1)\nJared Gordon (18-4-0) vs. Grant Dawson (17-1-1)\nDarren Elkins (26-10-0) vs. Tristan Connelly (14-7-0)\nGerald Meerschaert (34-14-0) vs. Krzysztof Jotko (23-5-0)\n\nKarta wstępna: \n\nDaniel da Silva (11-2-0) vs. Francisco Figueiredo (12-4-1)\nGabe Green (10-3-0) vs. Yohan Lainesse (8-0-0)\nMike Breeden (10-4-0) vs. Natan Levy (6-1-0)\nGina Mazany (7-5-0) vs. Shanna Young (7-4-0)\nTatsuro Taira (10-0-0) vs. Carlos Candelario (8-1-0)\nChase Sherman (15-9-0) vs. Alexandr Romanov (15-0-0)\n\nKarta walk ostatnio modyfikowana: 25.04.2022 \nTransmisja UFC Vegas 53 na żywo w STS TV!\nCała gala UFC Vegas 53 będzie dostępna w STS TV dla użytkowników STS. Wystarczy zarejestrować się na stronie bukmachera TUTAJ\, by móc oglądać UFC za darmo już od karty wstępnej! \nRejestrując się – tutaj – otrzymasz specjalne bonusy przygotowane dla wszystkich nowych użytkowników. STS oferuje dodatkowe 100% od pierwszego depozytu aż do kwoty 300 złotych. Ponadto gracz będzie mógł postawić pierwszy zakład bez ryzyka do 100 złotych. Wystarczy zarejestrować się – tutaj – wpłacić pieniądze i obstawić kupon. \n-> OGLĄDAJ UFC NA ŻYWO TUTAJ!
URL:https://strefamma.pl/event/ufc-vegas-53-font-vs-vera/
LOCATION:Las Vegas\, UFC Apex
ATTACH;FMTTYPE=image/png:https://strefamma.pl/wp-content/uploads/2022/04/UFC-Vegas-53.png
END:VEVENT
END:VCALENDAR