BEGIN:VCALENDAR
VERSION:2.0
PRODID:-//StrefaMMA.pl - Portal sportów walki - ECPv5.16.3.1//NONSGML v1.0//EN
CALSCALE:GREGORIAN
METHOD:PUBLISH
X-WR-CALNAME:StrefaMMA.pl - Portal sportów walki
X-ORIGINAL-URL:https://strefamma.pl
X-WR-CALDESC:Wydarzenia dla StrefaMMA.pl - Portal sportów walki
REFRESH-INTERVAL;VALUE=DURATION:PT1H
X-Robots-Tag:noindex
X-PUBLISHED-TTL:PT1H
BEGIN:VTIMEZONE
TZID:Europe/Warsaw
BEGIN:DAYLIGHT
TZOFFSETFROM:+0100
TZOFFSETTO:+0200
TZNAME:CEST
DTSTART:20220327T010000
END:DAYLIGHT
BEGIN:STANDARD
TZOFFSETFROM:+0200
TZOFFSETTO:+0100
TZNAME:CET
DTSTART:20221030T010000
END:STANDARD
END:VTIMEZONE
BEGIN:VEVENT
DTSTART;TZID=Europe/Warsaw:20220416T180000
DTEND;TZID=Europe/Warsaw:20220417T180000
DTSTAMP:20260423T122156
CREATED:20220410T185401Z
LAST-MODIFIED:20220410T185401Z
UID:34730-1650132000-1650218400@strefamma.pl
SUMMARY:RIZIN Trigger 3rd
DESCRIPTION:Japońska federacja RIZIN nie zwalnia tempa i po raz kolejny przyciąga widzów ekscytującymi walkami. 16 kwietnia zobaczymy ich aż 7! \nW walce wieczoru w wadze lekkiej Luiz Gustavo podejmie doświadczonego Japończyka Yusuke Yachi. Obaj fighterzy chcą wrócić na ścieżkę zwycięstw po porażkach w ostatnich pojedynkach. \nWcześniej w dywizji koguciej Yuto Hokamura spróbuje pokazać\, że wciąż stać go na wygraną. Japończyk z rekordem 14-11-2 podejmie w co-main evencie Kazumę Kuramoto! \nKarta walk RIZIN Trigger 3rd\nWalka wieczoru: \nLuiz Gustavo (10-2-0) vs. Yusuke Yachi (23-12-0) \nPozostałe walki: \nYuto Hokamura (14-11-2) vs. Kazuma Kuramoto (9-2-0) \nMasanori Kanehara (28-14-5) vs. Kazumasa Majima (14-3-0) \nHideki Sekine (11-5-0) vs. Satoshi Kamiyama (0-0-0) \nTatsuya Saika (7-2-0) vs. Kimihiro Eto (18-6-2) \nTakaki Soya (11-4-1) vs. Nobuyoshi Nakatsuka (7-3-0) \nShooto Watanabe (23-6-6) vs. Takuma Sudo (5-0-0) \n 
URL:https://strefamma.pl/event/rizin-trigger-3rd/
LOCATION:Musashino Forest Sport Plaza\, Chofu\, Tokyo\, Japan
ATTACH;FMTTYPE=image/png:https://strefamma.pl/wp-content/uploads/2022/04/RIZIN-Trigger-3rd-plakat.png
END:VEVENT
BEGIN:VEVENT
DTSTART;TZID=Europe/Warsaw:20220416T180000
DTEND;TZID=Europe/Warsaw:20220417T180000
DTSTAMP:20260423T122156
CREATED:20220415T190018Z
LAST-MODIFIED:20220415T190018Z
UID:35006-1650132000-1650218400@strefamma.pl
SUMMARY:Ares FC 5: Lapilus vs. Pena
DESCRIPTION:Na francuskiej gali Ares FC 5 rozwiąże się w końcu sytuacja z pasem wagi koguciej. O zawakowany tytuł Taylor Lapilus spotka się z Demarte Peną! \nNiepokonany angolski zawodnik Demarte Pena już w debiucie w Ares Fighting Championship staje przed szansą zostania mistrzem! O pas wagi koguciej zmierzy się z miejscowym fighterem\, Taylorem Lapilusem. Popularny „Double Impact” w ostatnim starciu pokonał znanego z występów w UFC Wilsona Reisa. Tym samym przedłużył swoją serię wygranych do 4 z rzędu! \n \nKarta walk Ares FC 5\nWalka wieczoru: \n\nTaylor Lapilus vs. Demarte Pena – o zawakowany pas wagi koguciej Ares Fighting Championship\n\nPozostałe walki: \n\nWissame Akhmouch (5-0-0) vs. Felix Klinkhammer (7-0-0)\nLaureano Staropoli (9-5-0) vs. Carl Booth (10-4-0)\nZaira Dyshekova (9-4-0) vs. Gisele Moreira (11-5-0)\nLeonardo de Oliveira (8-4-0) vs. Samir Faiddine (13-8-0)\nDaniel Lentie (0-0-0) vs. Freddy Kemayo (0-0-0)\nMarta Waliczek (5-4-0) vs. Ivana Petrović (3-0-0)\nBobby Pallett (5-0-0) vs. Axel Sola (2-0-0)\nAssia Miri (0-0-0) vs. Marjorie Le Moullac (0-0-0)\nMariza Loch (6-0-0) vs. Karolina Sobek (3-0-0)\n\nOstatnia modyfikacja: 15.04.2022 r.
URL:https://strefamma.pl/event/ares-fc-5-lapilus-vs-pena/
LOCATION:Le Dome de Paris\, Paryż\, France
ATTACH;FMTTYPE=image/png:https://strefamma.pl/wp-content/uploads/2022/04/Ares-FC-5.png
END:VEVENT
BEGIN:VEVENT
DTSTART;TZID=Europe/Warsaw:20220416T210000
DTEND;TZID=Europe/Warsaw:20220417T210000
DTSTAMP:20260423T122156
CREATED:20220403T092520Z
LAST-MODIFIED:20220403T092520Z
UID:34176-1650142800-1650229200@strefamma.pl
SUMMARY:Benn vs. van Heerden
DESCRIPTION:16 kwietnia w Manchesterze dojdzie do emocjonującej gali bokserskiej! W AO Arenie zobaczymy kilka walk o pasy mistrzowskie! \nW walce wieczoru gali od Matchroom Boxing niepokonany Anglik Conor Benn zmierzy się z reprezentantem Republiki Południowej Afryki\, Chrisem van Heerdenem. Pięściarze zmierzą się o pas WBA Coninental w wadze półśredniej. \nPrzed nimi kolejny Anglik\, Chris Billam-Smith podejmie Irlandczyka\, Tommy’ego McCarthy’ego. Stawką tego pojedynku będą pasy mistrzowskie EBU European oraz Commonwealth w kategorii cruiserweight. \nTransmisja Benn vs. van Heerden w DAZN !\nCała gala Benn vs. van Heerden dostępna będzie do obejrzenia NA ŻYWO dla użytkowników DAZN. Wystarczy zarejestrować się przez TEN LINK. Subskrypcja kosztuje 7\,99 zł miesięcznie\, a zrezygnować z niej można w każdej chwili. \nKarta walk Benn vs. van Heerden\nWalka wieczoru: \n\nConor Benn (20-0-0) vs. Chris van Heerden (28-2-1) – o pas mistrzowski WBA Continental w wadze półśredniej\n\nPozostałe walki: \n\nChris Billam-Smith (14-1-0) vs. Tommy McCarthy (18-3-0) – o pasy EBU European i  Commonwealth w wadze junior ciężkiej\nFaroukh Kourbanov (19-3-0) vs. Zelfa Barrett (27-1-0) – o pas EBU European Super Featherweight\n\nKarta walk na 03.04.2022 r.
URL:https://strefamma.pl/event/benn-vs-van-heerden/
LOCATION:AO Arena\, Manchester\, Manchester\, Lancashire\, United Kingdom
ATTACH;FMTTYPE=image/png:https://strefamma.pl/wp-content/uploads/2022/04/Benn-vs.-van-Heerden.png
END:VEVENT
BEGIN:VEVENT
DTSTART;TZID=Europe/Warsaw:20220416T230000
DTEND;TZID=Europe/Warsaw:20220417T013000
DTSTAMP:20260423T122156
CREATED:20220406T153752Z
LAST-MODIFIED:20220415T155559Z
UID:34335-1650150000-1650159000@strefamma.pl
SUMMARY:UFC Vegas 51: Luque vs. Muhammad 2
DESCRIPTION:W sobotę 16 kwietnia UFC powraca do kompleksu Apex z galą UFC Vegas 51! W walce wieczoru mistrz duszenia D’Arce\, Vicente Luque\, podejmie dobijającego się do walki o pas Belala Muhammada! \nChoć Vicente Luque sugerował eliminator w postaci walki z Leonem Edwardsem\, musiał jednak obejść się smakiem. Brazylijczyk swoją szansę będzie mógł wywalczyć na UFC Vegas 51. Walczący pod pseudonimem „The Silent Assasin” zawodnik nie przegrał od 4 walk\, a w ostatnim starciu poddał Michaela Chiesę już w pierwszej odsłonie! Rywalem Luque na UFC Vegas 51 będzie Belal Muhammad. Amerykanin zajmuje 5. pozycję w TOP 10 półśrednich największej federacji MMA. Popularny „Remember The Name” pozostaje niepokonany od 7 pojedynków. W dwóch ostatnich walkach kompletnie dominował Demiana Maię oraz Stephena Thompsona. \nO której UFC Vegas 51?\n\nKarta wstępna UFC Vegas 51 rozpocznie się 16 kwietnia o 21:00 czasu polskiego.\nKarta główna z walką wieczoru Vicente Luque vs. Belal Muhammad rozpocznie się 16 kwietnia o 23:00.\nGdzie odbędzie się UFC Vegas 51? Miejscem gali jest arena UFC Apex w Las Vegas.\n\nGdzie oglądać transmisję On-line UFC? \nTransmisja UFC Vegas 51 na żywo w STS TV!\nCała gala UFC Vegas 51 będzie dostępna w STS TV dla użytkowników STS. Wystarczy zarejestrować się na stronie bukmachera TUTAJ\, by móc oglądać UFC za darmo już od karty wstępnej! Używając kodu UFC przy rejestracji otrzymacie darmowe 29 zł na dowolny zakład i możliwość zakładu bez ryzyka do 200 zł. Dzięki STS TV otrzymacie darmową transmisję UFC Vegas 51 na komputerze\, telefonie komórkowym\, czy tablecie! -> OGLĄDAJ UFC NA ŻYWO TUTAJ \nKarta walk UFC Vegas 51\n Walka wieczoru: \n\n \n\nVicente Luque (21-7-1) vs. Belal Muhammad (20-3-0)\n\n\n\n Karta główna: \n\n \n\nCaio Borralho (10-1-0) vs. Gadzhi Omargadzhiev (13-0-0)\nAndre Fialho (14-4-0) vs. Miguel Baeza (10-2-0)\nMayra Bueno Silva (7-2-1) vs. Yanan Wu (12-4-0)\nPat Sabatini (16-3-0) vs. T.J. Laramie (12-4-0)\nMounir Lazzez (10-2-0) vs. Ange Loosa (8-2-0)\n\n\n\n Karta wstępna: \n\n \n\nTrey Ogden (15-4-0) vs. Jordan Leavitt (9-1-0)\nChris Barnett (22-7-0) vs. Martin Buday (9-1-0)\nSam Hughes (5-4-0) vs. Istela Nunes (6-2-0)\nLina Länsberg (10-5-0) vs. Pannie Kianzad (15-6-0)\nHeili Alateng (14-8-2) vs. Kevin Croom (21-14-0)\nDevon Clark (12-6-0) vs. William Knight (11-3-0)\nDrakkar Klose (11-2-1) vs. Brandon Jenkins (15-8-0)\nRafa García (13-2-0) vs. Jesse Ronson (21-10-0)\n\nOstatnia modyfikacja: 14.04.2022 r \nTransmisja:\n\nGala będzie dostępna na żywo dla użytkowników serwisu STS (wystarczy się zarejestrować).
URL:https://strefamma.pl/event/ufc-vegas-51-luque-vs-muhammad/
LOCATION:Las Vegas\, UFC Apex
ATTACH;FMTTYPE=image/png:https://strefamma.pl/wp-content/uploads/2022/04/UFC-Vegas-51-plakat.png
END:VEVENT
BEGIN:VEVENT
DTSTART;TZID=Europe/Warsaw:20220417T180000
DTEND;TZID=Europe/Warsaw:20220418T000000
DTSTAMP:20260423T122156
CREATED:20220411T050830Z
LAST-MODIFIED:20220411T050841Z
UID:34738-1650218400-1650240000@strefamma.pl
SUMMARY:RIZIN 35
DESCRIPTION:Dzień po gali RIZIN Trigger 3rd japońska federacja zaprezentuje kolejne show\, podczas którego zobaczymy aż 3 walki o pasy mistrzowskie! \nBrazylijczyk Ronaldo de Souza stanie do kolejnej obrony tytułu kategorii lekkiej i będzie liczył na kolejne szybkie zwycięstwo! Patrząc na jego 4 ostatnie walki w MMA\, popularny „Satoshi„ poddał każdego rywala\, z jakim się mierzył. \n17 kwietnia na RIZIN 35 jego oponentem będzie Johnny Case. Amerykanin mierzył się ostatnio w formule bokserskiej\, kończąc w drugich\, albo pierwszych rundach swoich oponentów. Teraz „Hollywood” liczy na przedłużenie passy i zdobycie pasa wagi lekkiej! \nPrzed nimi zaś między innymi Juntaro Ushiku podejmie Yutakę Saito w starciu o tytuł dywizji piórkowej\, a Ayaka Hamasaki i niepokonana Seika Izawa zawalczą o pas żeńskiej kategorii atomowej. \nKarta walk RIZIN 35\nWalka wieczoru: \n\nRoberto de Souza (13-1-0) vs. Johnny Case (27-7-1) – o pas mistrzowski wagi lekkiej RIZIN Fighting Federation\n\nPozostałe walki: \n\nJuntaro Ushiku (21-8-1) vs. Yutaka Saito (20-6-2) – o pas mistrzowski wagi piórkowej RIZIN Fighting Federation\nAyaka Hamasaki (23-4-0) vs. Seika Izawa (5-0-0) – o pas mistrzowski wagi atomowej kobiet RIZIN Fighting Federation\nKanna Asakura (18-6-0) vs. Satomi Takano (16-12-0)\nKoji Takeda (13-2-0) vs. Spike Carlyle (13-3-0)\nTakahiro Ashida (24-11-2) vs. Kyle Aguon (13-10-0)\nVugar Karamov (15-4-0) vs. Taichi Nakajima (15-11-1)\nShoma Shibisai (7-3-0) vs. Rihards Biģis (9-0-0)\n\nKarta walk na 11.04.2022 r. \n 
URL:https://strefamma.pl/event/rizin-35/
LOCATION:Musashino Forest Sport Plaza\, Chofu\, Tokyo\, Japan
ATTACH;FMTTYPE=image/png:https://strefamma.pl/wp-content/uploads/2022/04/RIZIN-35.png
END:VEVENT
END:VCALENDAR