BEGIN:VCALENDAR
VERSION:2.0
PRODID:-//StrefaMMA.pl - Portal sportów walki - ECPv5.16.3.1//NONSGML v1.0//EN
CALSCALE:GREGORIAN
METHOD:PUBLISH
X-ORIGINAL-URL:https://strefamma.pl
X-WR-CALDESC:Wydarzenia dla StrefaMMA.pl - Portal sportów walki
REFRESH-INTERVAL;VALUE=DURATION:PT1H
X-Robots-Tag:noindex
X-PUBLISHED-TTL:PT1H
BEGIN:VTIMEZONE
TZID:Europe/Warsaw
BEGIN:DAYLIGHT
TZOFFSETFROM:+0100
TZOFFSETTO:+0200
TZNAME:CEST
DTSTART:20220327T010000
END:DAYLIGHT
BEGIN:STANDARD
TZOFFSETFROM:+0200
TZOFFSETTO:+0100
TZNAME:CET
DTSTART:20221030T010000
END:STANDARD
END:VTIMEZONE
BEGIN:VEVENT
DTSTART;TZID=Europe/Warsaw:20220415T210000
DTEND;TZID=Europe/Warsaw:20220416T210000
DTSTAMP:20260423T134916
CREATED:20220410T183648Z
LAST-MODIFIED:20220410T184842Z
UID:34725-1650056400-1650142800@strefamma.pl
SUMMARY:Cage Fury FC 107: Bilder vs. Carvalho
DESCRIPTION:Cage Fury FC to nie tylko prosta droga do UFC\, lecz także świetne i emocjonujące walki! Na CFFC 107 dojdzie także do walki o pas mistrzowski wagi piórkowej! \nJuż w swoim debiucie w organizacji Blake Bilder stanął do walki o pas mistrzowski. Amerykanin pokonał przez duszenie w 2. rundzie Franka Buenafuente. W pierwszej obronie spotka się z groźnym Brazylijczykiem\, Regivaldo Carvalho. Walczący pod pseudonimem „Handstone” 28-latek nigdy się nie cofa\, o czym świadczy fakt\, iż żadna z jego walk nie skończyła się decyzją! \nKarta walk CFFC 107\nWalka wieczoru: \nBlake Bilder (5-0-1) vs. Regivaldo Carvalho (6-3-0) – o pas mistrzowski wagi piórkowej Cage Fury FC \nKarta główna: \n\nCharalampos Grigoriou (5-3-0) vs. Flávio Carvalho (7-4-1)\nGreg Velasco (3-0-0) vs. Edwin Smart (3-3-0)\nCharlie Campbell (5-1-0) vs. Guilherme dos Santos (6-2-0)\nTy Miller (1-0-0) vs. Eric Nolan (1-0-0)\n\nKarta wstępna: \n\nMichael Murphy (4-3-1) vs. Ryan Rizco (4-2-0)\nIsaack Watkins (0-0-0) vs. Victor Silverio (0-0-0)\nVitor Oristanio (3-3-0) vs. BJ Young (4-3-0)\n\nKarta na dzień 10.04.2022 r.
URL:https://strefamma.pl/event/cage-fury-fc-107-bilder-vs-carvalho/
LOCATION:Hard Rock Hotel & Casino\, Atlantic City\, Atlantic City\, United States
ATTACH;FMTTYPE=image/png:https://strefamma.pl/wp-content/uploads/2022/04/CFFC-107-plakat.png
END:VEVENT
END:VCALENDAR