BEGIN:VCALENDAR
VERSION:2.0
PRODID:-//StrefaMMA.pl - Portal sportów walki - ECPv5.16.3.1//NONSGML v1.0//EN
CALSCALE:GREGORIAN
METHOD:PUBLISH
X-ORIGINAL-URL:https://strefamma.pl
X-WR-CALDESC:Wydarzenia dla StrefaMMA.pl - Portal sportów walki
REFRESH-INTERVAL;VALUE=DURATION:PT1H
X-Robots-Tag:noindex
X-PUBLISHED-TTL:PT1H
BEGIN:VTIMEZONE
TZID:Europe/Warsaw
BEGIN:DAYLIGHT
TZOFFSETFROM:+0100
TZOFFSETTO:+0200
TZNAME:CEST
DTSTART:20220327T010000
END:DAYLIGHT
BEGIN:STANDARD
TZOFFSETFROM:+0200
TZOFFSETTO:+0100
TZNAME:CET
DTSTART:20221030T010000
END:STANDARD
END:VTIMEZONE
BEGIN:VEVENT
DTSTART;TZID=Europe/Warsaw:20220409T234500
DTEND;TZID=Europe/Warsaw:20220410T064500
DTSTAMP:20260423T122410
CREATED:20220328T131151Z
LAST-MODIFIED:20220409T115253Z
UID:33891-1649547900-1649573100@strefamma.pl
SUMMARY:UFC 273: Volkanovski vs. Jung
DESCRIPTION:Już z soboty na niedzielę 9 kwietnia odbędzie się UFC 273\, gdzie zobaczymy wiele ciekawych pojedynków. W walce wieczoru mistrz wagi piórkowej Alexander Volkanovski zmierzy się z Chan Sung Jungiem. Na tym wydarzeniu w końcu dojdzie do rewanżowego boju pomiędzy Aljamainem Sterlingiem a Petrem Yanem. W pierwszej walce zwycięzył Amerykanin po dyskwalifikację rywala po nielegalnym kolanie. Podczas tej gali nasz rodak Marcin Tybura miał walczyć z Jairzinho Rozenstruikiem\, ale z powodu problemów zdrowotnych musiał się wycofać z UFC 273. \nKursy bukmacherskie na UFC 273\nW oczach bukmacherów jest ogromnym underdogiem\, jednak nie ma wątpliwości\, że jest w stanie zaskoczyć. Ponadto od dawna toczy medialną wojnę z Yanem i próbuje wejść do głowy swojego przeciwnika. \nWydaje się\, że znacznie większa presja ciąży nie na mistrzu a na Rosjaninie. Jeśli odpowiednio podejdzie do tego starcia\, może odnieść największy sukces w całej swojej karierze. Na zwycięstwie Sterlinga można zarobić naprawdę duże pieniądze. \nCałą kartę walk obstawisz na stronie legalnego bukmachera STS. Przy rejestracji wystarczy użyć kodu: UFC\, który da Wam bonus w postaci darmowych 29 zł na dowolny zakład + zakład bez ryzyka do 200 zł. Oprócz tego będziecie mieli możliwość oglądania streamu online z gali UFC. \n\nKurs na zwycięstwo Petra Yana – 1.15 (OBSTAWIAM)\nKurs na zwycięstwo Aljamaina Sterlinga – 5.46 (OBSTAWIAM)\n\n  \nPoniżej przedstawiamy Wam kursy na wszystkie pojedynki UFC 273: \n \n  \nCała gala od transmitowana będzie w STS TV!\nAby obejrzeć\, wystarczy otworzyć konto TUTAJ. Galę UFC 273 obejrzysz w STS TV! Wydarzenie będzie dostępne dla zarejestrowanych użytkowników serwisu bukmacherskiego firmy STS. \nPrzy rejestracji wystarczy użyć kodu: UFC\, który da Wam bonus w postaci darmowych 29 zł na dowolny zakład + zakład bez ryzyka do 200 zł. Oprócz tego będziecie mieli możliwość oglądania streamu online z gali UFC. \nTransmisja:\n\nGala będzie dostępna na żywo dla użytkowników serwisu STS (wystarczy się zarejestrować).\n\n  \n\nSzczegóły transmisji UFC 273:\n\nKarta przedwstępna rozpocznie się z soboty na niedzielę( z 9 na 10 kwietnia) 00:00 czasu polskiego\nKarta wstępna rozpocznie się o 02:00 czasu polskiego\nKarta główna rozpocznie się w sobotę\, 19 marca o 21:00 czasu polskiego\nMiejsce wydarzenia: Jacksonville Veterans Memorial Arena w Jacksonville na Florydzie\n\nKarta walk UFC 273\nWalka wieczoru:\n65.8 kg.: Alexander Volkanovski (23-1-0) vs. Chan Sung Jung (17-6-0) \nKarta główna:\n61.2 kg.: Aljamain Sterling (20-3-0) vs. Petr Yan (16-2-0)\n77.1 kg.: Gilbert Burns (20-4-0) vs. Khamzat Chimaev (10-0-0)\n52.2 kg.: Mackenzie Dern (11-2-0) vs. Tecia Torres (13-5-0) \nKarta wstępna:\n61.2 kg.: Aspen Ladd (9-2-0) vs. Raquel Pennington (13-8-0)\n77.1 kg.: Ian Garry (8-0-0) vs. Darian Weeks (5-1-0)\n83.9 kg.: Josh Fremd (9-2-0) vs. Anthony Hernandez (8-2-0)\n120.2 kg.: Jairzinho Rozenstruik (12-3-0) vs. Marcin Tybura (22-7-0) \nKarta przedswstępna:\n77.1 kg.: Mickey Gall (7-4-0) vs. Mike Malott (7-1-1)\n61.2 kg.: Julio Arce (17-5-0) vs. Daniel Santos (10-1-0)\n70.3 kg.: Vinc Pichel (14-2-0) vs. Mark Madsen (11-0-0)\n52.2 kg.: Piera Rodriguez (7-0-0) vs. Kay Hansen (7-5-0)
URL:https://strefamma.pl/event/ufc-273-volkanovski-vs-jung/
LOCATION:Jacksonville\, Floryda\, USA
ATTACH;FMTTYPE=image/webp:https://strefamma.pl/wp-content/uploads/2022/03/ufc-273.webp
END:VEVENT
BEGIN:VEVENT
DTSTART;TZID=Europe/Warsaw:20220410T030000
DTEND;TZID=Europe/Warsaw:20220410T120000
DTSTAMP:20260423T122410
CREATED:20220403T082255Z
LAST-MODIFIED:20220403T082255Z
UID:34171-1649559600-1649592000@strefamma.pl
SUMMARY:Ryan Garcia vs. Emmanuel Tagoe
DESCRIPTION:Już 10 kwietnia do kwadratowego pierścienia powraca Ryan Garcia! Niepokonany Amerykanin spotka się z doświadczonym Emmanuelem Tagoe! \n23-letni Ryan Garcia pomimo młodego wieku stoczył już 21 zawodowych pojedynków. Popularny „Kingry” aż 18-krotnie kończył swoich rywali przed czasem\, a w ostatnim występie przeciwko Luke’owi Campbellowi zdobył tymczasowy tytuł wagi lekkiej WBC! \nJego rywalem w Alamodome w San Antonio będzie doświadczony Ghańczyk\, Emmanuel Tagoe. 10 lat starszy oponent tylko raz poległ w 33 zawodowych walkach. Miało to miejsce w ringowym debiucie\, a od tamtej pory popularny „The Gameboy” pozostaje niepokonany. \nTransmisja w DAZN !\nCała gala Garcia vs. Tagoe dostępna będzie do obejrzenia NA ŻYWO dla użytkowników DAZN. Wystarczy zarejestrować się przez TEN LINK. Subskrypcja kosztuje 7\,99 zł miesięcznie\, a zrezygnować z niej można w każdej chwili. \nKarta walk Garcia vs. Tagoe\nWalka wieczoru: \n\nRyan Garcia (21-0-0) vs. Emmanuel Tagoe (32-1-0)\n\nPozostałe walki: \n\nMarlen Esparza (11-1-0) vs. Naoko Fujioka (19-2-1) – walka o pasy WBC i WBA kobiecej wagi muszej\nKatsuma Akitsugi (8-0-0) vs. Gregory Morales (12-0-0)\nGabriel Rosado (26-14-1) vs. Shane Mosley Jr. (17-4-0)\nGeorge Rincon (12-0-0) vs. Alejandro Rene Frias (12-5-2)\nHector Valdez (14-0-0) vs. Daniel Moncada (0-0-0)
URL:https://strefamma.pl/event/ryan-garcia-vs-emmanuel-tagoe/
LOCATION:Alamodome\, San Antonio\, San Antonio\, United States
ATTACH;FMTTYPE=image/png:https://strefamma.pl/wp-content/uploads/2022/04/Garcia-vs.-Tagoe.png
END:VEVENT
END:VCALENDAR