BEGIN:VCALENDAR
VERSION:2.0
PRODID:-//StrefaMMA.pl - Portal sportów walki - ECPv5.16.3.1//NONSGML v1.0//EN
CALSCALE:GREGORIAN
METHOD:PUBLISH
X-ORIGINAL-URL:https://strefamma.pl
X-WR-CALDESC:Wydarzenia dla StrefaMMA.pl - Portal sportów walki
REFRESH-INTERVAL;VALUE=DURATION:PT1H
X-Robots-Tag:noindex
X-PUBLISHED-TTL:PT1H
BEGIN:VTIMEZONE
TZID:Europe/Warsaw
BEGIN:DAYLIGHT
TZOFFSETFROM:+0100
TZOFFSETTO:+0200
TZNAME:CEST
DTSTART:20220327T010000
END:DAYLIGHT
BEGIN:STANDARD
TZOFFSETFROM:+0200
TZOFFSETTO:+0100
TZNAME:CET
DTSTART:20221030T010000
END:STANDARD
END:VTIMEZONE
BEGIN:VEVENT
DTSTART;TZID=Europe/Warsaw:20220319T200000
DTEND;TZID=Europe/Warsaw:20220320T200000
DTSTAMP:20260423T165710
CREATED:20220315T172522Z
LAST-MODIFIED:20220318T052205Z
UID:32712-1647720000-1647806400@strefamma.pl
SUMMARY:Glory 80: Wrzosek vs. Hari 2
DESCRIPTION:Już 19 marca o 20:00 w Hasselt odbędzie się gala Glory 80. Podczas niej zobaczymy rewanż w wadze ciężkiej: Arkadiusz Wrzosek vs. Badr Hari 2! \nBadr Hari to legenda wagi ciężkiej kickboxingu\, który stoczył 127 zawodowych walk. urodzony w Holandii Marokańczyk przegrywał 13-krotnie\, po raz ostatni z oponentem\, z którym spotka się na Glory 80. Arkadiusz Wrzosek zaskoczył wszystkich kończąc rywala na Glory 78\, odwracając losy spotkania. Polak wcześniej dwukrotnie był nokdaunowany\, jednak zaskoczył wszystkich wysokim kopnięciem! To zwycięstwo dało też Wrzoskowi  nagrodę Nokaut Roku 2021. \nW main evencie spotkają się Jamal Ben Saddik oraz Levi Ridgets. Ten pierwszy był blisko pokonania mistrza wagi ciężkiej Glory\, Rico Verhoevena. 26-letni Ridgets stanie przed pierwszą wielką walką w karierze. \nKursy na galę Glory 80\nUżywając kodu UFC przy rejestracji otrzymacie darmowe 29 zł na dowolny zakład i możliwość zakładu bez ryzyka do 200 zł. Dzięki STS TV otrzymacie darmową transmisję na wiele wydarzeń NA ŻYWO! \nkursy STS na dzień 18.03.2022\nKarta walk:\n\nJamal Ben Saddik vs. Levi Rigters\nArkadiusz Wrzosek vs. Badr Hari\nArtem Vakhitov vs. Tarik Khabez\nTiffany van Soest vs. Manazo Kobayashi – o pas mistrzowski wagi super koguciej\nErtugrul Bayrak vs. Serkan Ozcaglayan\nGuerric Billet vs. Nordin Ben Moh\nJos van Belzen vs. Jay Overmeer
URL:https://strefamma.pl/event/glory-80-wrzosek-vs-hari-2/
LOCATION:Trixxo Arena\, Hasselt\, Gouverneur Verwilghensingel 70\, Hasselt\, Belgium
ATTACH;FMTTYPE=image/png:https://strefamma.pl/wp-content/uploads/2022/03/Wrzosek-vs.-Hari-2.png
END:VEVENT
END:VCALENDAR