BEGIN:VCALENDAR
VERSION:2.0
PRODID:-//StrefaMMA.pl - Portal sportów walki - ECPv5.16.3.1//NONSGML v1.0//EN
CALSCALE:GREGORIAN
METHOD:PUBLISH
X-WR-CALNAME:StrefaMMA.pl - Portal sportów walki
X-ORIGINAL-URL:https://strefamma.pl
X-WR-CALDESC:Wydarzenia dla StrefaMMA.pl - Portal sportów walki
REFRESH-INTERVAL;VALUE=DURATION:PT1H
X-Robots-Tag:noindex
X-PUBLISHED-TTL:PT1H
BEGIN:VTIMEZONE
TZID:Europe/Warsaw
BEGIN:DAYLIGHT
TZOFFSETFROM:+0100
TZOFFSETTO:+0200
TZNAME:CEST
DTSTART:20220327T010000
END:DAYLIGHT
BEGIN:STANDARD
TZOFFSETFROM:+0200
TZOFFSETTO:+0100
TZNAME:CET
DTSTART:20221030T010000
END:STANDARD
END:VTIMEZONE
BEGIN:VEVENT
DTSTART;TZID=Europe/Warsaw:20220318T200000
DTEND;TZID=Europe/Warsaw:20220319T000000
DTSTAMP:20260423T163044
CREATED:20220313T115352Z
LAST-MODIFIED:20220313T115352Z
UID:32579-1647633600-1647648000@strefamma.pl
SUMMARY:Contender Fight Night 6
DESCRIPTION:W Hali Widowiskowo-Sportowej w Jeleniej Górze 18 marca odbędzie się gala Contender Fight Night 6. W sumie zaplanowane jest na nią 11 pojedynków w różnych formułach. \nWalką wieczoru będzie starcie Natalii Baczyńskiej (5-1-0) oraz niepokonanej Włoszki Marigiovanny Vai (2-0-0). Emocji dostarczą także pojedynki Adrian Szyba vs. Szymon Bilas\, czy Roberta Rożenki z doświadczonym Niemcem\, Alexandrem Wesnerem. \nKarta walk\nWalka wieczoru: \n\nNatalia Baczyńska vs. Mariagiovanna Vai\n\nPozostałe walki \n\nRobert Rożenko  vs.  Alexander Wesner\nAdrian Szyba  vs.  Szymon Biłas\nPatryk Kobiałka  vs.  Vadym Ivashchuk\nRemigiusz Jabłoński  vs.  Szymon Wieczorek\nDamian Ignatowicz  vs.  Mateusz Bieniasz\nKamil Wilk  vs.  Mariusz Olesek\nRobert Jesiołowski vs. Krystiana Chramęga\nKacper Tracz  vs.  Kamil Knut\nMateusz Furman vs. Paweł Kowalski\nMichał Oleksy vs. Filip Jarocki
URL:https://strefamma.pl/event/contender-fight-night-6/
LOCATION:Jelenia Góra\, Jelenia Góra\, Poland
ATTACH;FMTTYPE=image/png:https://strefamma.pl/wp-content/uploads/2022/03/CFN-6-Plakat.png
END:VEVENT
BEGIN:VEVENT
DTSTART;TZID=Europe/Warsaw:20220318T200000
DTEND;TZID=Europe/Warsaw:20220319T000000
DTSTAMP:20260423T163044
CREATED:20220318T061734Z
LAST-MODIFIED:20220318T061734Z
UID:32907-1647633600-1647648000@strefamma.pl
SUMMARY:Cage Warriors 134: Vucenic vs. Hendin
DESCRIPTION:Już 18 marca na O2 Arenie w Londynie federacja Cage Warriors rozgrzeje emocje fanów MMA! W karcie znalazło się wiele ciekawych pojedynków i nie zabrakło polskiego akcentu! \nPo opuszczeniu ACA polski ciężki Łukasz Kopera szuka szczęścia w angielskiej federacji Cage Warriors. 33-latek spotka się w klatce z George Hardwickiem\, który w zawodowej karierze przegrał tylko raz\, a obecnie znajduje się na serii 4 kolejnych wygranych. Kopera nie może pochwalić się tak dobrą serią. Polski fighter w ostatnich 5 walkach zwyciężył w dwóch\, a aż trzykrotnie przegrywał. \nNa Cage Warriors 134 odbędzie się także walka o pas mistrzowski! Jordan Vucenic stanie do pierwszej obrony pasa mistrzowskiego wagi piórkowej. „The Epidemic” niczym Benson Henderson przed laty ostatnie pojedynki zwycięża przez niejednogłośną decyzję. To może pozwolić Jamesowi Hendinowi myśleć o wygranej. Pretendent zdecydowanie bardziej dominuje nad przeciwnikiem na przestrzeni pełnego dystansu. \nKursy na galę Cage Warriors\nUżywając kodu UFC przy rejestracji otrzymacie darmowe 29 zł na dowolny zakład i możliwość zakładu bez ryzyka do 200 zł. Dzięki STS TV otrzymacie darmową transmisję gal UFC\, jak i wielu innych wydarzeń sportowych z możliwością obejrzenia na komputerze\, tablecie\, czy telefonie komórkowym! \n \nKarta walk Cage Warriors 134\nLone’er Kavanagh vs. Ryan Morgan \nAidan James vs. Kingsley Crawford \nBen Ellis vs. Nik Bagley \nTobias Harila vs. Decky McAleenan \nGeorge Hardwick vs. Łukasz Kopera \nWill Currie vs. Patrick Vallee \nJordan Vucenic vs. James Hendin – o pas mistrzowski wagi piórkowej Cage Warriors
URL:https://strefamma.pl/event/cage-warriors-134-vucenic-vs-hendin/
LOCATION:O2 Arena\, Londyn\, United Kingdom
ATTACH;FMTTYPE=image/png:https://strefamma.pl/wp-content/uploads/2022/03/Cage-Warriors-plakat.png
END:VEVENT
BEGIN:VEVENT
DTSTART;TZID=Europe/Warsaw:20220318T200000
DTEND;TZID=Europe/Warsaw:20220319T200000
DTSTAMP:20260423T163044
CREATED:20220314T205922Z
LAST-MODIFIED:20220318T052920Z
UID:32658-1647633600-1647720000@strefamma.pl
SUMMARY:GROMDA 8
DESCRIPTION:Już 18 marca odbędzie się kolejna edycja gal walk na gołe pięści – GROMDA 8. W trakcie wydarzenia pełnego krwawych walk dojdzie też do kilku Super Fightów! Organizacja potwierdziła występ między innymi Saulo „Cassiusa Claya” Cavalariego. Brazylijczyk stoczył w kicboxingu 66 walk\, z których wygrał aż 60! Poza tym pojawią się znani z poprzednich gal „Wasyl”\, „Gleba”\, czy też „Stolara”. Ważenie i losowanie walk GROMDA 8 odbędzie się we czwartek\, 17 marca. Wtedy poznamy drabinkę turnieju. \nGdzie oglądać GROMDA 8?\nGROMDA 8 odbędzie się w Pionkach. Liczba biletów jest mocno ograniczona. Transmisja odbędzie się w systemie PPV i dostępna jest już od 24\,99 zł! Gala rozpocznie się w piątek\, 18 marca o godzinie 20:00. \nGROMDA 8 PPV – jak wykupić?\nAby wykupić dostęp PPV na GROMDA 8 wystarczy kliknąć tutaj. Następnie należy się zalogować/zarejestrować i wybrać interesujący nas pakiet. Do wyboru mamy 3 warianty PPV na GROMDA 8. Pakiet „Basic„\, który daje nam dostęp do transmisji LIVE oraz pakiet „Premium„\, gdzie mamy również dostęp do gali na 7 dni po jej zakończeniu. Ostatni pakiet to „VIP”\, który daje również dostęp do poprzednich gal. \n\nJak zawsze\, wyłącznym bukmacherem gal GROMDY jest BetClic – wystarczy otworzyć konto tutaj. Dzięki temu będziecie mogli postawić na swojego faworyta\, jak i obstawić każdą walkę wydarzenia! \n\n\n\nNowi użytkownicy od BetClic otrzymają Freebet do 200 PLN! Jeśli pierwszy zakład postawiony po minimalnym kursie 1.14 jest przegrany\, to gracz otrzymacie zwrot w postaci Freebetu do 200 PLN! Zakład musi być postawiony po minimalnym kursie łącznym wynoszącym 2.14\, a wygrana trafia bezpośrednio na Wasze konto bez dodatkowego obrotu! \n\n\n\n\n\n\nKarta walk GROMDA 8\n\n\n\nTurniej GROMDA 8: \n\n\n\nŁukasz „GOAT” Parobiec (112\,5 kg) vs. Tobiasz „Bombiarz” Adriańczyk (107\,8 kg) \n\n\n\n\nŁukasz Parobiec wygra walkę – kurs 1.50\nTobiasz „Bombiarz” Adriańczyk wygra walkę – kurs 2.30\n\n\n\n\nPiotr „Capo” Półchłopek (102 kg) vs. Dawid „Stolara” Stolarski (91\,6 kg) \n\n\n\n\nPiotr „Capo” Półchłopek wygra walkę – kurs 1.18\nDawid „Stolara” Stolarski wygra walkę – kurs 4.00\n\n\n\n\nWiesław „Złoty” Złoty (96\,6 kg) vs. Adam „Ziomek” Ziomek (104\,6 kg) \n\n\n\n\nWiesław „Złoty” Złoty wygra walkę – kurs 3.75\nAdam „Ziomek” Ziomek wygra walkę – kurs 1.20\n\n\n\n\nDaniel „Japa” Utkowski (108\,6 kg) vs. Denis „Romuś” Romek (95\,5 kg) \n\n\n\n\nDaniel „Japa” Utkowski wygra walkę – kurs 1.40\nDenis „Romuś” Romek wygra walkę – kurs 2.60\n\n\n\n\nZawodnicy rezerwowi: Daniel „Hunter” Więcławski (109\,4 kg)\, Przemek „Reksio” Rekowski (96 kg) \n\n\n\nExtra Fighty: \n\n\n\nPatryk „Pele” Bednarz (95\,6 kg) vs. Marcin „Wasyl” Wasilewski (106\,2 kg) \n\n\n\n\nMarcin „Wasyl” Wasilewski wygra walkę – kurs 3.15\nPatryk „Pele” Bednarz wygra walkę – kurs 1.28\n\n\n\n\nPatryk „Gleba” Tołkaczewski (108\,1 kg) vs. Saulo „Cassius Clay” Cavalari (111\,4 kg) \n\n\n\n\nPatryk „Gleba” Tołkaczewski wygra walkę – kurs 1.40\nSaulo „Cassius Clay” Cavalari wygra walkę – kurs 2.60\n\n\n\n\nMateusz „Niedźwiedź” Kopeć (91\,1 kg) vs. Łukasz „Brodacz” Załuska (100\,7 kg)- eliminator do pasa GROMDY \n\n\n\n\nMateusz „Niedźwiedź” Kopeć wygra walkę – kurs 1.58\nŁukasz „Brodacz” Załuska wygra walkę – kurs 2.15
URL:https://strefamma.pl/event/gromda-8/
LOCATION:Gromda Fight Club\, Pionki\, Mazowieckie\, Poland
CATEGORIES:GROMDA
ATTACH;FMTTYPE=image/png:https://strefamma.pl/wp-content/uploads/2022/03/GROMDA-8.png
END:VEVENT
END:VCALENDAR