BEGIN:VCALENDAR
VERSION:2.0
PRODID:-//StrefaMMA.pl - Portal sportów walki - ECPv5.16.3.1//NONSGML v1.0//EN
CALSCALE:GREGORIAN
METHOD:PUBLISH
X-ORIGINAL-URL:https://strefamma.pl
X-WR-CALDESC:Wydarzenia dla StrefaMMA.pl - Portal sportów walki
REFRESH-INTERVAL;VALUE=DURATION:PT1H
X-Robots-Tag:noindex
X-PUBLISHED-TTL:PT1H
BEGIN:VTIMEZONE
TZID:Europe/Warsaw
BEGIN:DAYLIGHT
TZOFFSETFROM:+0100
TZOFFSETTO:+0200
TZNAME:CEST
DTSTART:20220327T010000
END:DAYLIGHT
BEGIN:STANDARD
TZOFFSETFROM:+0200
TZOFFSETTO:+0100
TZNAME:CET
DTSTART:20221030T010000
END:STANDARD
END:VTIMEZONE
BEGIN:VEVENT
DTSTART;TZID=Europe/Warsaw:20220312T200000
DTEND;TZID=Europe/Warsaw:20220313T200000
DTSTAMP:20260423T165708
CREATED:20220311T180548Z
LAST-MODIFIED:20220311T180601Z
UID:32368-1647115200-1647201600@strefamma.pl
SUMMARY:War of Titans 2
DESCRIPTION:12 marca w Madrycie odbędzie się druga gala federacji War of Titans. W walce wieczoru spotkają się Jonathan Fabian oraz Morradokpetch Muayded789. \nPodczas najbliższej gali War of Titans zobaczymy w sumie 9 walk. Aż 5 z nich odbędzie się w MMA\, 3 zaś w Muay Thai. Main event pomiędzy Jonathanem Fabianem i Morradokpetchem Muaydedem789 odbędzie się na zasadach boksu birmańskiego.  \nWydarzenie odbędzie się w stolicy Hiszpanii\, Madrycie. Początek już o godzinie 20:00. \nKarta walk\nWalka wieczoru: \n\nJonathan Fabian vs. M. Muayded789 – walka w boksie birmańskim\n\nPozostałe walki: \n\nNayanesh Ayman vs. S. Petchyindee – walka w Muay Thai\nEdye Ruiz vs. B. Petchyindee – walka w Muay Thai\nRaul Guzman (6-4-0) vs. Farid Basharat (6-0-0)\nDaniel 'El Gallego’ Requeijo (17-7-0) vs. Nikolay Grozdev (3-0-0)\nKaomongkol Petchyindee vs. Daniel McGowan – walka w Muay Thai\nDavid Trallero (8-5-0) vs. Nikolay Kovalenko (5-0-0)\nAbner 'Skullman’ Lloveras (22-11-1) vs. Thibault 'GT’ Gouti (13-5-0)\nJunior Magal (12-7-0) vs. Jozef Wittner (13-2-0)
URL:https://strefamma.pl/event/32368/
LOCATION:Madrid Arena\, Madryt\, Spain
ATTACH;FMTTYPE=image/png:https://strefamma.pl/wp-content/uploads/2022/03/War-of-Titans-2.png
END:VEVENT
BEGIN:VEVENT
DTSTART;TZID=Europe/Warsaw:20220313T000000
DTEND;TZID=Europe/Warsaw:20220313T090000
DTSTAMP:20260423T165708
CREATED:20220310T173726Z
LAST-MODIFIED:20231113T130752Z
UID:32314-1647129600-1647162000@strefamma.pl
SUMMARY:Bellator 276: Borics vs. Burnell
DESCRIPTION:W nocy z sobotę 12 marca na niedzielę 13 marca odbędzie się Bellator 276. Gala amerykańskiej federacji odbędzie się w Family Arena w St. Louis\, stan Missouri. W walce wieczoru zobaczymy pojedynek czołowych piórkowych\, Adama Boricsa i Madsa Burnella. Emocji nie zabraknie! \nW walce wieczoru Bellator 276 Węgier Adam Borics spotka się z Duńczykiem\, Madsem Burnellem. Walczący pod pseudonimem “The Kid” fighter jest niepokonany od 3 walk\, ale rywal ma zdecydowanie lepszą serię. Burnell nie zaznał porażki w żadnym z ostatnich 7 pojedynków. W nich aż pięciokrotnie kończył oponentów przed czasem. \nCo-main event Bellator 276 odbędzie się w wadze półciężkiej. Niedawny pretendent do pasa mistrzowskiego\, Julius Anglickas podejmie byłego championa\, a obecny numer 2 w rankingu dywizji\, Phila Daviesa. Obaj liczą\, że wkrótce ponownie spotkają się z Vadimem Nenkovem! \nObstawiaj galę Bellator 276 z STS! Używając kodu UFC przy rejestracji otrzymacie darmowe 29 zł na dowolny zakład i możliwość zakładu bez ryzyka do 200 zł.  \n \nKarta walk\nWalka wieczoru: \n\nMads Burnell vs. Ádám Borics\n\nKarta główna: \n\nPhil Davis vs. Julius Anglickas\nJohn Salter vs. Johnny Eblen\nJay-Jay Wilson vs. Gadzhi Rabadanov\n\nKarta wstępna: \n\nAlex Polizzi vs. Jose Augusto\nRomero Cotton vs. Freddy Sandoval\nDiana Avsaragova vs. Kyra Batara\nCody Law vs. James Adcock\nRoman Faraldo vs. Kelvin Rayford\nJordan Howard vs. Trevor Ward\nJosh Augustine vs. Josh Weston
URL:https://strefamma.pl/event/bellator-276-borics-vs-burnell/
LOCATION:St. Louis\, Missouri
ATTACH;FMTTYPE=image/png:https://strefamma.pl/wp-content/uploads/2022/03/Bellator-276-plakat.png
END:VEVENT
END:VCALENDAR