BEGIN:VCALENDAR
VERSION:2.0
PRODID:-//StrefaMMA.pl - Portal sportów walki - ECPv5.16.3.1//NONSGML v1.0//EN
CALSCALE:GREGORIAN
METHOD:PUBLISH
X-ORIGINAL-URL:https://strefamma.pl
X-WR-CALDESC:Wydarzenia dla StrefaMMA.pl - Portal sportów walki
REFRESH-INTERVAL;VALUE=DURATION:PT1H
X-Robots-Tag:noindex
X-PUBLISHED-TTL:PT1H
BEGIN:VTIMEZONE
TZID:Europe/Warsaw
BEGIN:DAYLIGHT
TZOFFSETFROM:+0100
TZOFFSETTO:+0200
TZNAME:CEST
DTSTART:20220327T010000
END:DAYLIGHT
BEGIN:STANDARD
TZOFFSETFROM:+0200
TZOFFSETTO:+0100
TZNAME:CET
DTSTART:20221030T010000
END:STANDARD
END:VTIMEZONE
BEGIN:VEVENT
DTSTART;TZID=Europe/Warsaw:20220306T000000
DTEND;TZID=Europe/Warsaw:20220306T080000
DTSTAMP:20260423T151257
CREATED:20220127T083327Z
LAST-MODIFIED:20220223T180919Z
UID:27974-1646524800-1646553600@strefamma.pl
SUMMARY:UFC 272: Covington vs. Masvidal
DESCRIPTION:5 marca na UFC 272 w końcu dojdzie do hitowej walki na szczycie kategorii półśredniej. Ostatni pretendent do pasa mistrzowskiego\, Colby Covington\, podejmie jedno z najgorętszych nazwisk federacji\, Jorge Masvidala. W oktagonie wystąpi również Polak\, Michał Oleksiejczuk. \nColby Covington na UFC 268 w ubiegłym roku po raz kolejny zmierzył się z Kamaru Usmanem o tytuł mistrzowski kategorii półśredniej. „Chaos” co prawda wytrzymał 5 rund\, ale sędziowie jednogłośnie orzekli wygraną Nigeryjczyka. Uznawany za wielu najlepszy fighter dywizji po championie Amerykanin zapowiedział\, że będzie chciał pojedynku z Jorge Masvidalem. \nPopularny „Gamebred” choć poległ w ostatnich dwóch pojedynkach – oba\, jak rywal z UFC 272\, z Kamaru Usmanem – wciąż pozostaje jednym z najbardziej medialnych nazwisk w federacji. Masvidal zdobył umowny pas Baddest Motherf*cker. Pierwotnie Jorge miał zmierzyć się z Leonem Edwardsem na UFC 269. Zmuszony jednak był wycofać się z powodu kontuzji. \nW oktagonie po raz pierwszy od wygranej na UFC 267 wystąpi Michał Oleksiejczuk. Popularny „Hussar”\, który ma obecnie serię dwóch wygranych z rzędu spotka się w oktagonie z Dustinem Jacobym. Amerykanin nie przegrał żadnego z 7 ostatnich pojedynków. \nOprócz tego do oktagonu wejdzie Marina Rodriguez\, która kilka miesięcy temu rozbiła Mackenzie Dern na UFC Vegas 39. Ponadto na UFC 272 wystąpi także Edson Barboza. \nCała gala od transmitowana będzie w STS TV!\nAby obejrzeć\, wystarczy otworzyć konto TUTAJ. Galę UFC 272 obejrzysz w STS TV! Wydarzenie będzie dostępne dla zarejestrowanych użytkowników serwisu bukmacherskiego firmy STS. \nPrzy rejestracji wystarczy użyć kodu: UFC\, który da Wam bonus w postaci darmowych 29 zł na dowolny zakład + zakład bez ryzyka do 200 zł. Oprócz tego będziecie mieli możliwość oglądania streamu online z gali UFC. \nTransmisja:\n\nGala będzie dostępna na żywo dla użytkowników serwisu STS (wystarczy się zarejestrować).\n\n  \n\n  Szczegóły transmisji:\n\nKarta główna: 6 lutego 04:00 (czasu polskiego)\n\nWalka wieczoru:\n\nColby Covington (21-1-0) vs. Jorge Masvidal (23-5-0)\n\nPozostałe walki\n\nRafael dos Anjos (29-13-0) vs. Rafael Fiziev (10-1-0)\nEdson Barboza (22-10-0) vs. Bryce Mitchell (14-0-0)\nKevin Holland (21-7-0) vs. Alex Oliveira (22-11-1)\nSerghei Spivak (13-3-0) vs. Greg Hardy (7-4-0)\nMarina Rodriguez (15-1-2) vs. Yan Xiaonan (13-2-0)\nMaryna Moroz (10-3-0) vs. Mariya Agapova (10-2-0)\nJalin Turner  (11-5-0) vs. Jamie Mullarkey (14-4-0)\nNicolae Negumereanu (11-1-0) vs. Kennedy Nzechukwu (9-1-0)\nTim Elliott (17-12-1) vs. Tagir Ulanbekov (14-1-0)\nJessica Eye (15-10-0) vs. Manon Fiorot (8-1-0)\nDevonte Smith (11-3-0) vs. Erick Gonzalez (14-6-0)\nMichał Oleksiejczuk (16-4-0) vs. Dustin Jacoby (16-5-1)\nBrian Kelleher (24-12-0) vs. Umar Nurmagomedov (13-0-0)\n\nInformacje na dzień 23.02.2022 r
URL:https://strefamma.pl/event/ufc-272-covington-vs-masvidal/
LOCATION:Las Vegas\, USA
ATTACH;FMTTYPE=image/png:https://strefamma.pl/wp-content/uploads/2022/01/UFC-272-_-Twitter-_-Colby-Covington-vs-Jorge-Masvidal.png
END:VEVENT
END:VCALENDAR