BEGIN:VCALENDAR
VERSION:2.0
PRODID:-//StrefaMMA.pl - Portal sportów walki - ECPv5.16.3.1//NONSGML v1.0//EN
CALSCALE:GREGORIAN
METHOD:PUBLISH
X-ORIGINAL-URL:https://strefamma.pl
X-WR-CALDESC:Wydarzenia dla StrefaMMA.pl - Portal sportów walki
REFRESH-INTERVAL;VALUE=DURATION:PT1H
X-Robots-Tag:noindex
X-PUBLISHED-TTL:PT1H
BEGIN:VTIMEZONE
TZID:Europe/Warsaw
BEGIN:DAYLIGHT
TZOFFSETFROM:+0100
TZOFFSETTO:+0200
TZNAME:CEST
DTSTART:20220327T010000
END:DAYLIGHT
BEGIN:STANDARD
TZOFFSETFROM:+0200
TZOFFSETTO:+0100
TZNAME:CET
DTSTART:20221030T010000
END:STANDARD
END:VTIMEZONE
BEGIN:VEVENT
DTSTART;TZID=Europe/Warsaw:20220226T190000
DTEND;TZID=Europe/Warsaw:20220227T233000
DTSTAMP:20260423T180049
CREATED:20220125T124535Z
LAST-MODIFIED:20231113T130646Z
UID:27854-1645902000-1646004600@strefamma.pl
SUMMARY:KSW 67: De Fries vs Stosic
DESCRIPTION:Już w lutym odbędzie się druga w tym roku gala największej polskiej organizacji MMA. Tym razem na KSW 67 w main evencie dojdzie do starcia\, którego stawką będzie mistrzowski tytuł kategorii ciężkiej. \nWydaje się\, że tym razem dominujący w swojej dywizji Phil de Fries znalazł godnego przeciwnika. Brytyjczyk w KSW wygrał 6 pojedynków i zasiada na tronie od 2018 roku. Pokonał czołowych polskich zawodników\, a teraz przyszedł czas na Serba Darko Stosicia\, który w KSW zaliczył serię trzech zwycięstw. \nNatomiast w co-main evencie Andrzej Grzebyk zmierzy się z Adrianem Bartosińskim. Pierwszy z zawodników aktualnie zajmuje trzecie miejsce w rankingu kategorii półśredniej i celuje w starcie o mistrzowski pas z Roberto Soldiciem. \nSzczegóły KSW 66:\nData: 15.01.2022\nGodzina: od 19:00\nLokalizacja: Warszawa\nTransmisja: ViaPlay\nWalka wieczoru: Phil de Fries vs Darko Stosić \nWalka wieczoru KSW 67:\n\nPhil de Fries vs Darko Stosić\n\nCo-main event: \n\nAndrzej Grzebyk vs. Adrian Bartosiński\n\n  \n 
URL:https://strefamma.pl/event/ksw-67-de-fries-vs-stosic/
LOCATION:warszawa
ATTACH;FMTTYPE=image/jpeg:https://strefamma.pl/wp-content/uploads/2022/01/ksw-67.jpg
END:VEVENT
BEGIN:VEVENT
DTSTART;TZID=Europe/Warsaw:20220226T230000
DTEND;TZID=Europe/Warsaw:20220227T080000
DTSTAMP:20260423T180049
CREATED:20220127T083334Z
LAST-MODIFIED:20220221T174214Z
UID:27880-1645916400-1645948800@strefamma.pl
SUMMARY:UFC Vegas 49: Islam Makhachev vs. Bobby Green
DESCRIPTION:Po raz kolejny UFC wraca do swojego kompleksu produkcyjnego\, UFC Vegas 49. Ze względu na kontuzję z walki wieczoru wypadł Beneil Dariush. Fightera zastąpi inny Amerykanin\, Bobby Green. To z „Kingiem” zawalczy Islam Makhachev. \nDywizja lekka największej federacji MMA od dawna uchodzi za najbardziej napakowaną gwiazdami. Odejście Khabiba Nurmagomedova zrobiło miejsce dla nowych gwiazd\, które swoją drogą na scenie występują od dawna. UFC po potwierdzeniu\, że to Justin Gaethje jest 1 pretendentem\, ogłosiło main event UFC Vegas 49 będący pojedynkiem na szczycie dywizji. \nNiestety to starcie musiało zostać zmienione. Beneil Dariush wypadł z powodu kontuzji\, a na jego miejsce wskoczył Bobby Green. Amerykanin wróci do oktagonu po 2 tygodniach. Na UFC 271 popularny „King” totalnie zdominował Nasrata Haqprasta. \nJego rywalem będzie Islam Makhachev. Dagestańczyk nazywany nowym Khabibem po raz ostatni pojawił się w oktagonie na UFC 267\, gdzie już w pierwszej odsłonie poddał Dana Hookera. Wcześniej w 2021 roku Islam poddał zarówno Drew Dobera\, jak i Thiago Moisesa. \nW co-main evencie zobaczymy pojedynek w kategorii średniej. Misha Cirkunov wciąż chce odbudować się w nowej dywizji po tym\, jak wcześniej przegrał niejednogłośną decyzją z Krzysztofem Jotką. Oponentem Łotysza będzie Brazylijczyk\, Wellington Turman. \nCała gala od transmitowana będzie w STS TV!\nAby obejrzeć\, wystarczy otworzyć konto TUTAJ. Galę UFC Vegas 49 obejrzysz w STS TV! Wydarzenie będzie dostępne dla zarejestrowanych użytkowników serwisu bukmacherskiego firmy STS. \nPrzy rejestracji wystarczy użyć kodu: UFC\, który da Wam bonus w postaci darmowych 29 zł na dowolny zakład + zakład bez ryzyka do 200 zł. Oprócz tego będziecie mieli możliwość oglądania streamu online z gali UFC. \nTransmisja:\n\nGala będzie dostępna na żywo dla użytkowników serwisu STS (wystarczy się zarejestrować).\n\n  \n\n  Szczegóły transmisji:\n\nKarta główna: 26 lutego 01:00 (czasu polskiego)\n\nWalka wieczoru:\n\nBobby Green (29-12-1) vs. Islam Mkahachev (21-1-0)\n\nPozostałe walki:\n\nMisha Cirkunov (15-7-0) vs Wellington Turman (17-5-0)\nArman Tsarukyan (17-2-0) vs. Joel Alvarez (19-2-0)\nJinh Yu Frey (11-6-0) vs. Hannah Goldy (6-2-0)\nGregory Rodrigues (11-3-0) vs. Armen Petrosyan (6-1-0)\nIgnacio Bahamondes (12-4-0) vs. Zhu Rong (18-4-0)\nTerrance McKinney (11-3-0) vs. Fares Ziam (12-3-0)\nAlejandro Perez (22-8-1) vs. Jonathan Martinez (14-4-0)\nMicheal Gillmore (6-4-0) vs. Ramiz Brahimaj (9-4-0)\nVictor Altamirano (10-1-0) vs. Carlos Hernandez (7-1-0)\nJosiane Nunes (8-1-0) vs. Ramona Pascual (12-4-0)\nPriscila Cachoeira (10-4-0) vs. Ji Yeon Kim (9-4-2)\n\nKarta walk na dzień: 21.02.2022 r.
URL:https://strefamma.pl/event/ufc-vegas-49-dariush-vs-makhachev/
LOCATION:Las Vegas\, UFC Apex
ATTACH;FMTTYPE=image/png:https://strefamma.pl/wp-content/uploads/2022/01/Islam-Makhachev-v-Green-UFC-Vegas-49.png
END:VEVENT
BEGIN:VEVENT
DTSTART;TZID=Europe/Warsaw:20220227T180000
DTEND;TZID=Europe/Warsaw:20220228T000000
DTSTAMP:20260423T180049
CREATED:20220215T185939Z
LAST-MODIFIED:20231113T130710Z
UID:30263-1645984800-1646006400@strefamma.pl
SUMMARY:Michał Cieślak vs Lawrence Okolie
DESCRIPTION:Już 27 lutego Michał Cieślak stanie przed szansą zdobycia pasa mistrzowskiego! Polak zmierzy się z Lawrencem Okolie\, a stawką będzie tytuł mistrzowski kategorii junior ciężkiej organizacji WBO. \nMichał Cieślak powraca do ringu już 27 lutego! Polski pięściarz kategorii junior ciężkiej stanie przed kolejną szansą w karierze na zostanie mistrzem świata\, tym razem organizacji WBO. Na O2 Arenie w Londynie spotka się z Anglikiem\, Lawrencem Okolie. \nPopularny „The Sauce” mierzył się już z kilkoma Polakami w karierze. Brytyjczyk zapowiedział już KO na Cieślaku w stylu Deontaya Wildera z pojedynku z Arturem Szpilką. W rozmowie z mediami Okolie stwierdził również\, że Michał będzie jego najtrudniejszym rywalem i tylko on zajmuje mu obecnie myśli. \nCieślak ostatnie dwie walki zwyciężał przed czasem. Polak kończył Yury’ego Kashinsky’ego w pierwszej rundzie\, a także Taylora Mabika w szóstej odsłonie. Przedtem Radomianin przegrał po raz pierwszy w karierze w pojedynku o pas mistrzowski kategorii cruiser organizacji WBC. Jego oponentem był obecny champion\, Ilunga Makabu. \nNa gali zobaczymy również dwóch innych naszych rodaków. Są nimi Łukasz Maciec\, a także Aleksander Nagolski. Planowane wyjścia do ringu Okoliego oraz Michała Cieślaka planowane są około godziny 22:00 27 lutego. \n\n\n\n\nCena za dostęp to 7\,99 zł/miesięcznie. Ze subskrypcji możesz zrezygnować w dowolnym momencie\, nawet po zakończonej gali. \n\n\n\n\n\nKarta walk:\nWalka wieczoru\nLawrence Okolie (17-0\, 14 KO) vs Michał Cieślak (21-1\, 15 KO) – o pas mistrzowski  WBO kategorii junior ciężkiej \nPozostałe walki:\n\nKarim Guerfi (30-5\, 9 KO) vs. Jordan Gill (26-1\, 7 KO) – o pas mistrza Europy EBU kategorii piórkowej\nAnthony Fowler (15-2\, 12 KO) vs Łukasz Maciec (27-3-1\, 5 KO)\nDensey McKean (20-0\, 13 KO) vs Ariel Esteban Bracamonte (11-6\, 6 KO)\nCampbell Hatton (5-0\, 1 KO) vs Joe Ducker (9-8-2\, 2 KO)\nJohn Hedges (4-0) vs Aleksander Nagolski (2-1\, 1 KO)
URL:https://strefamma.pl/event/michal-cieslak-vs-lawrence-okolie/
LOCATION:O2 Arena\, Londyn\, United Kingdom
ATTACH;FMTTYPE=image/png:https://strefamma.pl/wp-content/uploads/2022/02/Michal-Cieslak-vs-Lawrence-Okolie-plakat-Twitter.png
END:VEVENT
END:VCALENDAR