BEGIN:VCALENDAR
VERSION:2.0
PRODID:-//StrefaMMA.pl - Portal sportów walki - ECPv5.16.3.1//NONSGML v1.0//EN
CALSCALE:GREGORIAN
METHOD:PUBLISH
X-WR-CALNAME:StrefaMMA.pl - Portal sportów walki
X-ORIGINAL-URL:https://strefamma.pl
X-WR-CALDESC:Wydarzenia dla StrefaMMA.pl - Portal sportów walki
REFRESH-INTERVAL;VALUE=DURATION:PT1H
X-Robots-Tag:noindex
X-PUBLISHED-TTL:PT1H
BEGIN:VTIMEZONE
TZID:Europe/Warsaw
BEGIN:DAYLIGHT
TZOFFSETFROM:+0100
TZOFFSETTO:+0200
TZNAME:CEST
DTSTART:20220327T010000
END:DAYLIGHT
BEGIN:STANDARD
TZOFFSETFROM:+0200
TZOFFSETTO:+0100
TZNAME:CET
DTSTART:20221030T010000
END:STANDARD
END:VTIMEZONE
BEGIN:VEVENT
DTSTART;TZID=Europe/Warsaw:20220205T200000
DTEND;TZID=Europe/Warsaw:20220205T233000
DTSTAMP:20260423T175853
CREATED:20220125T130219Z
LAST-MODIFIED:20231113T130330Z
UID:27857-1644091200-1644103800@strefamma.pl
SUMMARY:High League 2: Jarosław "pashaBiceps" Jarząbkowski vs Michał "Owca WK" Owczarzak
DESCRIPTION:5 lutego w Krakowie odbędzie się kolejna edycja gali High League. Organizacja\, której twarzą jest raper „Malik Montana” po raz kolejny zapewniła ciekawą kartę walk\, na której znalazło się wiele emocjonujących zestawień. \nW main evencie High League 2 najpopularniejszy polski e-sportowiec Jarosław „pashaBiceps” Jarząbkowski zmierzy się z Michałem „Owcą” Owczarzakiem. Nie będzie to jednak zwykłe starcie w MMA. Dwóch debiutantów zawalczy na zasadach bokserskich w małych rękawicach. \nWielu kibiców czeka na wyjaśnienie konfliktu pomiędzy Denisem „Bad Boyem” Załęckim i Alanem Kwiecińskim. Podczas pierwszej konferencji doszło pomiędzy nimi do mocnej konfrontacji\, a żaden z zawodników nie szczędził rywalowi ostrych słów. \n\nGdzie oglądać High League 2?\nGalę High League 2 i walkę Załęcki vs Kwieciński obejrzysz jedynie w pay-per-view. Dostęp PPV kosztuje od 27\,99 zł za wariant „BASIC” oraz 32\,99 zł za wariant „PREMIUM„. \n\n\n\n-> OGLĄDAJ NA ŻYWO – HIGH LEAGUE 2 PPV\n\n\n\nSzczegóły transmisji:\n\n\n\n\nWydarzenie: High League 2\nData: 5 luty\, 2022 r\nLokalizacja: Kraków\, Tauron Arena\nLiczba walk: 8\nWalka wieczoru: „pashaBiceps” vs „Owca”\nTransmisja: PPV\nCena PPV: od 27\,99 zł\n\n\n\n\nKarta walk\n\n\n\nWalka wieczoru: \n\nJarosław „pashaBiceps” Jarząbkowski vs Michał „Owca” Owczarzak\n\nCo-main event: \n\nLexy Chaplin vs Agata „Fagata” Fąk\n\nKarta główna: \n\nMateusz „Mini Majk” Krzyżanowski vs Maciej „Big Jack” Jarema\nNorbert „Dis” Gierczak vs Maciej „Zony” Zoniuk\nPiotr „czuuX” Czupryn vs Piotr „Edzio” Bylina\nAlan „Alanik” Kwieciński vs Denis „Bad Boy” Załęcki\nJakub Nowaczkiewicz vs Hubert „Dredziasty” Węzka\nKonrad Karwat vs Mariusz „Super Mario” Sobczak\n\n\n  \n  \n  \n  \n 
URL:https://strefamma.pl/event/high-league-2-jaroslaw-pashabiceps-jarzabkowski-vs-michal-owca-wk-owczarzak/
LOCATION:Kraków\, Tauron Arena
ATTACH;FMTTYPE=image/jpeg:https://strefamma.pl/wp-content/uploads/2022/01/265130162_280582660768057_7116915893634875875_n.jpg
END:VEVENT
BEGIN:VEVENT
DTSTART;TZID=Europe/Warsaw:20220205T220000
DTEND;TZID=Europe/Warsaw:20220206T040000
DTSTAMP:20260423T175853
CREATED:20220125T121502Z
LAST-MODIFIED:20231113T130347Z
UID:27841-1644098400-1644120000@strefamma.pl
SUMMARY:UFC Fight Night 200: Hermansson vs Strickland
DESCRIPTION:Już w pierwszy weekend lutego organizacja UFC powraca z kolejną galą z serii Fight Night. W walce wieczoru zmierzy się dwóch zawodników z top 10 kategorii średniej. \nW main evencie zobaczymy Seana Stricklandam który zajmujący aktualnie 7 pozycję w rankingu i ma za sobą serię pięciu zwycięstw. Jego rywalem będzie Jack Hermansson\, który znajduje się jedno miejsce wyżej w klasyfikacji dywizji średniej. Transmisja UFC Fight Night 200 do obejrzenia będzie za darmo w STS TV dla wszystkich aktywnych użytkowników! \n\nCała gala od transmitowana będzie w STS TV!\nAby obejrzeć\, wystarczy otworzyć konto TUTAJ. Galę UFC Fight Night 200 obejrzysz w STS TV! Wydarzenie będzie dostępne dla zarejestrowanych użytkowników serwisu bukmacherskiego firmy STS. \nPrzy rejestracji wystarczy użyć kodu: UFC\, który da Wam bonus w postaci darmowych 29 zł na dowolny zakład + zakład bez ryzyka do 200 zł. Oprócz tego będziecie mieli możliwość oglądania streamu online z gali UFC. \nTransmisja:\n\nGala będzie dostępna na żywo dla użytkowników serwisu STS (wystarczy się zarejestrować).\n\n  \n\n\n  Szczegóły transmisji:\n\nKarta główna: 6 luty 01:00\nKarta wstępna: 5 luty 22:00\n\nWalka wieczoru:\n\nJack Hermansson (22-6-0) vs. Sean Strickland (24-3-0)\n\nKarta główna:\n\nPunahele Soriano (8-1-0) vs. Nick Maximov (7-0-0)\n\nKarta wstępna:\n\nMarc-André Barriault (13-4-0) vs. Chidi Njokuani (20-7-0)\nJason Witt (19-7-0) vs. Philip Rowe (8-3-0)\nDanilo Marques (11-3-0) vs. Jailton Almeida (14-2-0)\nMiles Johns (12-1-0) vs. John Castañeda (18-5-0)\nJulian Erosa (26-9-0) vs. Steven Peterson (19-9-0)\nHakeem Dawodu (12-2-1) vs. Mike Trizano (9-1-0)\nBryan Battle (6-1-0) vs. Tresean Gore (3-0-0)\nMalcolm Gordon (13-5-0) vs. Denys Bondar (16-3-0)\n Shavkat Rakhmonov (14-0-0) vs. Carlston Harris (17-4-0)\nSam Alvey (33-16-1) vs. Phil Hawes (11-3-0)\nAlexis Davis (20-11-0) vs. Julija Stoliarenko (9-5-1)\n\n  \n 
URL:https://strefamma.pl/event/ufc-fight-night-200-hermansson-vs-strickland/
LOCATION:Las Vegas\, UFC Apex
ATTACH;FMTTYPE=image/png:https://strefamma.pl/wp-content/uploads/2022/01/eb99bf340c757bcd3fac1444a58c60d1.png
END:VEVENT
END:VCALENDAR